BEGIN:VCALENDAR
VERSION:2.0
PRODID:-//Parasta osaamista - ECPv6.15.20//NONSGML v1.0//EN
CALSCALE:GREGORIAN
METHOD:PUBLISH
X-ORIGINAL-URL:https://blogit.gradia.fi/parasta_osaamista
X-WR-CALDESC:Tapahtumat Parasta osaamista
REFRESH-INTERVAL;VALUE=DURATION:PT1H
X-Robots-Tag:noindex
X-PUBLISHED-TTL:PT1H
BEGIN:VTIMEZONE
TZID:Europe/Helsinki
BEGIN:DAYLIGHT
TZOFFSETFROM:+0200
TZOFFSETTO:+0300
TZNAME:EEST
DTSTART:20180325T010000
END:DAYLIGHT
BEGIN:STANDARD
TZOFFSETFROM:+0300
TZOFFSETTO:+0200
TZNAME:EET
DTSTART:20181028T010000
END:STANDARD
BEGIN:DAYLIGHT
TZOFFSETFROM:+0200
TZOFFSETTO:+0300
TZNAME:EEST
DTSTART:20190331T010000
END:DAYLIGHT
BEGIN:STANDARD
TZOFFSETFROM:+0300
TZOFFSETTO:+0200
TZNAME:EET
DTSTART:20191027T010000
END:STANDARD
BEGIN:DAYLIGHT
TZOFFSETFROM:+0200
TZOFFSETTO:+0300
TZNAME:EEST
DTSTART:20200329T010000
END:DAYLIGHT
BEGIN:STANDARD
TZOFFSETFROM:+0300
TZOFFSETTO:+0200
TZNAME:EET
DTSTART:20201025T010000
END:STANDARD
END:VTIMEZONE
BEGIN:VEVENT
DTSTART;TZID=Europe/Helsinki:20190207T083000
DTEND;TZID=Europe/Helsinki:20190207T130000
DTSTAMP:20260420T152233
CREATED:20190108T092938Z
LAST-MODIFIED:20190108T092938Z
UID:1357-1549528200-1549544400@blogit.gradia.fi
SUMMARY:Oman työn johtaminen ja kehittäminen\, Kemi
DESCRIPTION:Koulutuksen tavoitteet \nKoulutuksen tavoitteena on\, että osallistuja osaa johtaa omaa työtään\, toimia työyhteisön muuttuvissa tilanteissa\, toimia verkostoissa sekä arvioida omia lähtökohtiaan oman työn johtamisessa. \nKeskeinen sisältö \n\nOman työn johtaminen ja arviointi\nTyöyhteisöosaaminen\nVerkosto-osaaminen\n\nKohderyhmä \nAmmatillisen koulutuksen opetus- ja ohjaushenkilöstö \nToteutus \nKoulutus sisältää kaksi lähitapaamista\, webinaarin sekä välityöskentelyä. Koulutuksen laajuus on 5 opintopistettä. \nAika ja paikka \nEnsimmäinen tapaaminen on to 7.2.2019 klo 8.30 – 13.00 Kemissä. \nWebinaari toteutetaan ke 13.3.2019 klo 8.30 – 10.30. \nPäätöstapaaminen on to 4.4.2019 klo 8.30-13.00 Kemissä. \nIlmoittautuminen \nIlmoittaudu koulutukseen pe 18.1.2019 mennessä osoitteessa https://urly.fi/16HI \nLisätietoja \nMaija-Liisa Siitari\, koulutussuunnittelija\, 040 595 9180\, maija-liisa.siitari@jamk.fi \nKouluttajat \nKirsti Vänskä\, yliopettaja\, kirsti.vanska@jamk.fi \nPiia Kolho\, lehtori\, piia.kolho@jamk.fi \n 
URL:https://blogit.gradia.fi/parasta_osaamista/event/oman-tyon-johtaminen-ja-kehittaminen-kemi/
LOCATION:Kemi
CATEGORIES:Koulutuskokeilut,Parasta osaamista
ATTACH;FMTTYPE=image/jpeg:https://blogit.gradia.fi/parasta_osaamista/wp-content/uploads/sites/20/2018/10/4_Oman-työn-johtaminen_450.jpg
END:VEVENT
BEGIN:VEVENT
DTSTART;TZID=Europe/Helsinki:20190208T120000
DTEND;TZID=Europe/Helsinki:20190208T150000
DTSTAMP:20260420T152233
CREATED:20190108T083428Z
LAST-MODIFIED:20190108T083428Z
UID:1347-1549627200-1549638000@blogit.gradia.fi
SUMMARY:Osaamisen arvioinnin laadun varmistaminen\, Kaarina
DESCRIPTION:Koulutuksen tavoite \nTavoitteena on varmistaa osaamisen arvioinnin luotettavuus ja kattavuus eri tutkinnoissa sekä edistää koulutuksen järjestäjän tutkinnoittain eriytyvän osaamisen arvioinnin toteuttamissuunnitelman työstämistä ja jalkauttamista. \nKoulutuksen sisältö \nKoulutuksen aikana syvennytään koulutuksen järjestän tutkinnoittain erityviin osaamisen arvioinnin toteuttamissuunnitelmiin (OAT) sekä pohditaan niissä kuvattujen toimintatapojen jalkautumista käytännön arviointitoiminnaksi. Ennakkotehtävänä osallistujien tulee tutustua koulutuksen järjestäjän osaamisen arvioinnin toteuttamissuunnitelman laatimisen ohjeistuksiin ja mahdollisesti jo laadittuihin OAT:iin. Lähipäivät toteutetaan osallistujien tarpeita vastaavalla tavalla. \nAikataulu \nLähitapaamiset \n8.2.2019 klo 12.00 – 15.00\, aiemmin hankitun osaamisen tunnistaminen ja tunnustaminen sekä osaamisen osoittamisen suunnittelu \n15.3.2019 klo 8.15 – 11.00\, osaamisen arvioinnin toteuttaminen ja arvioinnista päättäminen\, arvioinnin uusiminen\, arvosanan korottaminen\, arvioinnin tarkistaminen ja oikaisu\, todistukset \n26.4.2019 klo 8.15 – 11.00\, osaamisen arvioinnin toteuttamissuunnitelmien tarkastelua vertaistyöskentelynä \nPaikka\nTuorlantie 1\, Kaarina\, LIVIA. \nIlmoittautumiset\nRyhmään mahtuu 40 ensimmäistä ilmoittautunutta. Ilmoittautumiset viimeistään 28.1.2019 \nIlmoittauumislinkki: https://link.webropolsurveys.com/S/027E0C1A019FE5A7 \nLisätietoja\nTomi Raitanen\, tomi.raitanen@hamk.fi\, 050 4009189 \nSusanna Löf\, susanna.lof@haaga-helia.fi. p. 040 488 7083
URL:https://blogit.gradia.fi/parasta_osaamista/event/osaamisen-arvioinnin-laadun-varmistaminen-kaarina/
LOCATION:LIVIA\, Tuorlantie 1\, Kaarina
CATEGORIES:Parasta osaamista
ATTACH;FMTTYPE=image/jpeg:https://blogit.gradia.fi/parasta_osaamista/wp-content/uploads/sites/20/2018/10/1_HOKS_450.jpg
END:VEVENT
BEGIN:VEVENT
DTSTART;TZID=Europe/Helsinki:20190214T080000
DTEND;TZID=Europe/Helsinki:20190214T160000
DTSTAMP:20260420T152233
CREATED:20190117T073411Z
LAST-MODIFIED:20190123T134856Z
UID:1430-1550131200-1550160000@blogit.gradia.fi
SUMMARY:Erityisen tuen verkko-opinnot
DESCRIPTION:Tavoitteet \nVerkko-opintojen tavoitteena on vahvistaa opetus- ja ohjaushenkilöstön erityiseen tukeen liittyvää osaamista. Verkkokurssilla tarkastellaan erityistä tukea opetus- ja ohjaushenkilöstön työn näkökulmasta. Verkkokurssi koostuu neljästä toisiaan täydentävistä osioista: \n1. Opettajan eettinen osaaminen 2 op\n2. Henkilökohtaistaminen ja erityinen tuki 3 op\n3. Erityinen tuki työpaikalla 2 op\n4. Moniammatillinen yhteistyö ja verkostot 3 op \nKohderyhmä \nAmmatillisen koulutuksen opetus- ja ohjaushenkilöstö \nAjankohta \n14.2.2019-30.5.2019 \nToteutus \nVoit osallistua joko kaikkiin osioihin tai valita omaa osaamistasi täydentävät osiot. Suosittelemme\, että jokainen osallistuisi opettajan eettinen osaaminen -osioon. Koulutus toteutetaan kokonaan verkossa. Koulutukseen sisältyy itsenäistä työskentelyä\, soveltavia tehtäviä omassa työssä sekä vertaistyöskentelyä. \nPääset tutustumaan koulutuksen tavoitteisiin ja sisältöihin täältä\, Erityisen tuen verkko-opinnot. \nKoulutus toteutetaan ammatillisten opettajakorkeakoulujen yhteistyönä. \nIlmoittautuminen 1.2.2019 mennessä https://urly.fi/188k \nParasta osaamista sivusto \nLisätietoja \nHaaga-Helia: Leena Nuutila\, leena.nuutila@haaga-helia.fi ja Maiju Kangasaho\, maiju.kangasaho@haaga-helia.fi \nHAMK: Marko Kallionpää\, marko.kallionpaa@hamk.fi ja Anu Raudasoja\, anu.raudasoja@hamk.fi \nJAMK: Seija Eskola\, seija.eskola@jamk.fi \nOAMK: Eero Talonen\, eero.talonen@oamk.fi \nTAMK: Minna Seppälä\, minna.seppala@tamk.fi ja Annikki Torikka\, annikki.torikka@tamk.fi
URL:https://blogit.gradia.fi/parasta_osaamista/event/erityisen-tuen-verkko-opinnot/
LOCATION:Verkko-opintoja
CATEGORIES:Koulutuskokeilut,Parasta osaamista
ATTACH;FMTTYPE=image/jpeg:https://blogit.gradia.fi/parasta_osaamista/wp-content/uploads/sites/20/2018/10/1_HOKS_450.jpg
END:VEVENT
END:VCALENDAR