BEGIN:VCALENDAR
VERSION:2.0
PRODID:-//Parasta osaamista - ECPv6.15.20//NONSGML v1.0//EN
CALSCALE:GREGORIAN
METHOD:PUBLISH
X-ORIGINAL-URL:https://blogit.gradia.fi/parasta_osaamista
X-WR-CALDESC:Tapahtumat Parasta osaamista
REFRESH-INTERVAL;VALUE=DURATION:PT1H
X-Robots-Tag:noindex
X-PUBLISHED-TTL:PT1H
BEGIN:VTIMEZONE
TZID:Europe/Helsinki
BEGIN:DAYLIGHT
TZOFFSETFROM:+0200
TZOFFSETTO:+0300
TZNAME:EEST
DTSTART:20170326T010000
END:DAYLIGHT
BEGIN:STANDARD
TZOFFSETFROM:+0300
TZOFFSETTO:+0200
TZNAME:EET
DTSTART:20171029T010000
END:STANDARD
BEGIN:DAYLIGHT
TZOFFSETFROM:+0200
TZOFFSETTO:+0300
TZNAME:EEST
DTSTART:20180325T010000
END:DAYLIGHT
BEGIN:STANDARD
TZOFFSETFROM:+0300
TZOFFSETTO:+0200
TZNAME:EET
DTSTART:20181028T010000
END:STANDARD
BEGIN:DAYLIGHT
TZOFFSETFROM:+0200
TZOFFSETTO:+0300
TZNAME:EEST
DTSTART:20190331T010000
END:DAYLIGHT
BEGIN:STANDARD
TZOFFSETFROM:+0300
TZOFFSETTO:+0200
TZNAME:EET
DTSTART:20191027T010000
END:STANDARD
END:VTIMEZONE
BEGIN:VEVENT
DTSTART;TZID=Europe/Helsinki:20180417T090000
DTEND;TZID=Europe/Helsinki:20180417T153000
DTSTAMP:20260422T154510
CREATED:20180403T112456Z
LAST-MODIFIED:20180409T080327Z
UID:116-1523955600-1523979000@blogit.gradia.fi
SUMMARY:Rohkeasti uudistumaan! – valtakunnallinen ammatillisen koulutuksen seminaari
DESCRIPTION:Rohkeasti uudistumaan! – valtakunnallinen ammatillisen koulutuksen seminaari  \nSeminaari ajankohtaisista asioista ammatillisesta koulutuksen kentältä opettajille ja ohjauksen ammattilaisille. \nAika tiistai 17.4.2018 klo 9.00-15.30 \nPaikka Omnia\, Lehtimäentie 1 C\, Espoo \n  \nSeminaarin ohjelma \n9.00 – 9.20 Aamukahvi \n9.20 – 9.30 Päivän avaus \nPia Tolonen\, projektipäällikkö\, Parasta osaamista -verkostohanke \n9.30 – 10.30 Tulevaisuuden opiskelijan osaaminen \nArto O. Salonen\, dosentti  \n10.30 – 10.50 Tauko \n10.50 – 11.30 Muutokset opettajan ja ohjaajan työssä ja miten niihin voidaan vastata? \nAntti Maunu\, tutkija\, kirjailija\, trubaduuri \n11.30 – 12.30 Lounas (omakustanteinen) \n12.30 – 13.30 Työpajat \n13.30 – 14.00 Päiväkahvi \n14.00 – 14.15 Kumppanuuksien etsintä \n14:15 – 14:25 Työpajojen anti tiivistetysti \n14.25 – 15.25 Ajankohtaista ammatillisen koulutuksen uudistuksesta \nluennoitsija varmistuu myöhemmin\, OPH/OKM \n15.25 – 15.30 Päätössanat \nSeminaari on maksuton\, matka- ja majoituskuluista osallistujat vastaavat itse. Muutokset ohjelmaan ovat mahdolli-sia. Seminaariin mahtuu 140 osallistujaa ilmoittautumisjärjestyksessä. \n  \n  \nIlmoittautuminen seminaariin ja työpajoihin 3.4.2018 mennessä tästä linkistä. \nLisätietoja: Arja Aalto\, arja.aalto@riveria.fi \n  \nseminaarikutsu-1.pdf
URL:https://blogit.gradia.fi/parasta_osaamista/event/rohkeasti-uudistumaan-valtakunnallinen-ammatillisen-koulutuksen-seminaari/
END:VEVENT
END:VCALENDAR