BEGIN:VCALENDAR
VERSION:2.0
PRODID:-//Parasta osaamista - ECPv6.15.20//NONSGML v1.0//EN
CALSCALE:GREGORIAN
METHOD:PUBLISH
X-WR-CALNAME:Parasta osaamista
X-ORIGINAL-URL:https://blogit.gradia.fi/parasta_osaamista
X-WR-CALDESC:Tapahtumat Parasta osaamista
REFRESH-INTERVAL;VALUE=DURATION:PT1H
X-Robots-Tag:noindex
X-PUBLISHED-TTL:PT1H
BEGIN:VTIMEZONE
TZID:Europe/Helsinki
BEGIN:DAYLIGHT
TZOFFSETFROM:+0200
TZOFFSETTO:+0300
TZNAME:EEST
DTSTART:20180325T010000
END:DAYLIGHT
BEGIN:STANDARD
TZOFFSETFROM:+0300
TZOFFSETTO:+0200
TZNAME:EET
DTSTART:20181028T010000
END:STANDARD
BEGIN:DAYLIGHT
TZOFFSETFROM:+0200
TZOFFSETTO:+0300
TZNAME:EEST
DTSTART:20190331T010000
END:DAYLIGHT
BEGIN:STANDARD
TZOFFSETFROM:+0300
TZOFFSETTO:+0200
TZNAME:EET
DTSTART:20191027T010000
END:STANDARD
BEGIN:DAYLIGHT
TZOFFSETFROM:+0200
TZOFFSETTO:+0300
TZNAME:EEST
DTSTART:20200329T010000
END:DAYLIGHT
BEGIN:STANDARD
TZOFFSETFROM:+0300
TZOFFSETTO:+0200
TZNAME:EET
DTSTART:20201025T010000
END:STANDARD
END:VTIMEZONE
BEGIN:VEVENT
DTSTART;TZID=Europe/Helsinki:20191114T150000
DTEND;TZID=Europe/Helsinki:20191114T160000
DTSTAMP:20260421T091739
CREATED:20191014T062428Z
LAST-MODIFIED:20191014T062428Z
UID:3132-1573743600-1573747200@blogit.gradia.fi
SUMMARY:Webinaari: Osaamisen arviointioppaat
DESCRIPTION:Tule webinaariin perehtymään osaamisen arviointioppaisiin.\nMiten oppaita voi käyttää\, ja minkälaisia kokemuksia opettajilla on niiden käytöstä? Miten osaamisen arvioinnin mukauttamisen opasta sovelletaan?\nOppaat ovat työkaluja opettajalle\, työpaikoille ja opiskelijalle näytön suunnittelusta\, osaamisen arvioinnista ja arvioinnista päättämisestä.  Oppaat on tuotettu oppilaitosten ja ammatillisten opettajakorkeakoulujen yhteistyönä. \nAsiantuntijat: opettaja Rauno Luostarinen\, Koulutuskeskus Salpaus ja pedagoginen koordinaattori Rita Hintsala\, Ammattiopisto Spesia. \nOta oppaat käyttöön! Tulostettuna tai sähköisenä. Löydät ne tästä linkistä: osaamisen arviointioppaat. \nAika: 14.11.2019 klo 15.00 – 16.00\nPaikka: Skype for business\, linkki  Liity Skype-kokoukseen  \nJos linkki ei toimi\, tilaa kokouskutsu: sannakaisa.raatikainen@salpaus.fi \n  \nLisätietoja: \nKoulutuskeskus Salpauksen Parasta osaamista -hankkeen projektipäällikkö Sannakaisa Raatikainen\nsannakaisa.raatikainen [@] salpaus.fi\npuh. 050 387 1953
URL:https://blogit.gradia.fi/parasta_osaamista/event/webinaari-osaamisen-arviointioppaat-6/
CATEGORIES:Parasta osaamista
ATTACH;FMTTYPE=image/jpeg:https://blogit.gradia.fi/parasta_osaamista/wp-content/uploads/sites/20/2018/10/2_Opiskelijan-arviointi-e1540369620106.jpg
END:VEVENT
END:VCALENDAR