BEGIN:VCALENDAR
VERSION:2.0
PRODID:-//Parasta osaamista - ECPv6.15.20//NONSGML v1.0//EN
CALSCALE:GREGORIAN
METHOD:PUBLISH
X-WR-CALNAME:Parasta osaamista
X-ORIGINAL-URL:https://blogit.gradia.fi/parasta_osaamista
X-WR-CALDESC:Tapahtumat Parasta osaamista
REFRESH-INTERVAL;VALUE=DURATION:PT1H
X-Robots-Tag:noindex
X-PUBLISHED-TTL:PT1H
BEGIN:VTIMEZONE
TZID:Europe/Helsinki
BEGIN:DAYLIGHT
TZOFFSETFROM:+0200
TZOFFSETTO:+0300
TZNAME:EEST
DTSTART:20180325T010000
END:DAYLIGHT
BEGIN:STANDARD
TZOFFSETFROM:+0300
TZOFFSETTO:+0200
TZNAME:EET
DTSTART:20181028T010000
END:STANDARD
BEGIN:DAYLIGHT
TZOFFSETFROM:+0200
TZOFFSETTO:+0300
TZNAME:EEST
DTSTART:20190331T010000
END:DAYLIGHT
BEGIN:STANDARD
TZOFFSETFROM:+0300
TZOFFSETTO:+0200
TZNAME:EET
DTSTART:20191027T010000
END:STANDARD
BEGIN:DAYLIGHT
TZOFFSETFROM:+0200
TZOFFSETTO:+0300
TZNAME:EEST
DTSTART:20200329T010000
END:DAYLIGHT
BEGIN:STANDARD
TZOFFSETFROM:+0300
TZOFFSETTO:+0200
TZNAME:EET
DTSTART:20201025T010000
END:STANDARD
END:VTIMEZONE
BEGIN:VEVENT
DTSTART;VALUE=DATE:20191101
DTEND;VALUE=DATE:20191102
DTSTAMP:20260421T072056
CREATED:20190222T065838Z
LAST-MODIFIED:20190306T113541Z
UID:2016-1572566400-1572652799@blogit.gradia.fi
SUMMARY:Non-stop-verkkokoulutus: Opettajan työelämä-\, verkosto- ja asiakkuusosaaminen
DESCRIPTION:Koulutuksen tavoitteena on vahvistaa työelämä- ja verkostoyhteistyöhön liittyvää osaamista opetus- ja ohjaushenki-löstön oman työn näkökulmasta. Koulutuksessa tutustutaan verkostoissa toimimisen ja työelämäyhteistyön erilaisiin mahdollisuuksiin ja toimintatapoihin sekä niiden soveltamiseen oman organisaation strategian mukaisesti. Koulutuk-sessa on mahdollista perehtyä myös mm. ennakointiin tai positiivisen psykologian näkökulmiin verkostoissa toimimi-seen. Lisäksi tutustutaan sosiaalisen median hyödyntämiseen verkosto- ja työelämäyhteistyössä. \nKoulutukseen voi osallistua omaan tahtiin verkossa 5.12.2019 saakka. \n  \nWebinaaritallenteet \nWebinaari \n\nKoulutuksen tavoitteet ja sisällöt\nNäkökulmia ja lähtökohtia verkosto- ja työelämäyhteistyöhön\n\nWebinaari \n\nTyöelämä- ja verkostoyhteistyön monet mahdollisuudet\nKäytännön esimerkkejä ja yhteistyömahdollisuuksia\n\nWebinaari \n\nOpettaja verkostoituvana asiantuntijana – Sosiaalisen median mahdollisuudet\n\nWebinaari \n\nOsaamisen ja hyvien käytänteiden jakaminen\n\n  \nToteutus \nKoulutus toteutetaan non-stop-verkkokoulutuksena. Tarjoamme työelämä-\, verkosto- ja asiakkuusosaamisen kehittä-miseksi webinaaritallenteita sekä muuta materiaalia. Lisäksi osallistuja kehittää osaamistaan välitehtävien avulla. \nWebinaarit toteutetaan Adobe Connect –verkkoneuvottelualustalla. Verkkoympäristönä on Microsoft Teams\, jota hyödynnetään ohjauksessa\, materiaalien ja osaamisen keskinäisessä jakamisessa. Webinaaritallenteet julkaistaan Teamsissa. \nKoulutukseen ilmoittaudutaan oheisen linkin kautta. Paluuviestinä osallistuja saa tarkemmat ohjeet ja kutsun Teams -verkkoympäristöön. https://www.webropolsurveys.com/Answer/SurveyParticipation.aspx?SDID=Fin1495637&SID=5e155aea-f2c7-4509-ba1a-b41a2e637242&dy=120237251 \n  \nLisätietoja \nPäivi Kilja \nPuh. 040 1415157 \npaivi.kilja@oamk.fi \n  \nSanna Wenström \nPuh. 040 190 3494 \nsanna.wenstrom@oamk.fi
URL:https://blogit.gradia.fi/parasta_osaamista/event/non-stop-verkkokoulutus-opettajan-tyoelama-verkosto-ja-asiakkuusosaaminen-3/
CATEGORIES:Koulutuskokeilut,Parasta osaamista
ATTACH;FMTTYPE=image/jpeg:https://blogit.gradia.fi/parasta_osaamista/wp-content/uploads/sites/20/2018/10/4_Oman-työn-johtaminen_450.jpg
END:VEVENT
BEGIN:VEVENT
DTSTART;TZID=Europe/Helsinki:20191101T090000
DTEND;TZID=Europe/Helsinki:20191101T120000
DTSTAMP:20260421T072056
CREATED:20191015T062633Z
LAST-MODIFIED:20191015T062633Z
UID:3142-1572598800-1572609600@blogit.gradia.fi
SUMMARY:Karmeinta osaamista -päätöstapahtuma
DESCRIPTION:Parasta osaamista -verkostohanke päättyy Pirkanmaalla kuluvan vuoden lopussa ja tekee sen karmean näyttävästi Halloweenin ja Karmeimman osaamisen merkeissä. \nPerjantaina 1.11.19 klo 9-12 paikkana Megazone & Prison Island\, Tullintorin kauppakeskus\, Tampere
URL:https://blogit.gradia.fi/parasta_osaamista/event/karmeinta-osaamista-paatostapahtuma/
LOCATION:Tullintorin kauppakeskus Tampere
CATEGORIES:Parasta osaamista
END:VEVENT
END:VCALENDAR