BEGIN:VCALENDAR
VERSION:2.0
PRODID:-//Parasta osaamista - ECPv6.15.20//NONSGML v1.0//EN
CALSCALE:GREGORIAN
METHOD:PUBLISH
X-WR-CALNAME:Parasta osaamista
X-ORIGINAL-URL:https://blogit.gradia.fi/parasta_osaamista
X-WR-CALDESC:Tapahtumat Parasta osaamista
REFRESH-INTERVAL;VALUE=DURATION:PT1H
X-Robots-Tag:noindex
X-PUBLISHED-TTL:PT1H
BEGIN:VTIMEZONE
TZID:Europe/Helsinki
BEGIN:DAYLIGHT
TZOFFSETFROM:+0200
TZOFFSETTO:+0300
TZNAME:EEST
DTSTART:20180325T010000
END:DAYLIGHT
BEGIN:STANDARD
TZOFFSETFROM:+0300
TZOFFSETTO:+0200
TZNAME:EET
DTSTART:20181028T010000
END:STANDARD
BEGIN:DAYLIGHT
TZOFFSETFROM:+0200
TZOFFSETTO:+0300
TZNAME:EEST
DTSTART:20190331T010000
END:DAYLIGHT
BEGIN:STANDARD
TZOFFSETFROM:+0300
TZOFFSETTO:+0200
TZNAME:EET
DTSTART:20191027T010000
END:STANDARD
BEGIN:DAYLIGHT
TZOFFSETFROM:+0200
TZOFFSETTO:+0300
TZNAME:EEST
DTSTART:20200329T010000
END:DAYLIGHT
BEGIN:STANDARD
TZOFFSETFROM:+0300
TZOFFSETTO:+0200
TZNAME:EET
DTSTART:20201025T010000
END:STANDARD
END:VTIMEZONE
BEGIN:VEVENT
DTSTART;TZID=Europe/Helsinki:20191017T133000
DTEND;TZID=Europe/Helsinki:20191017T160000
DTSTAMP:20260421T072032
CREATED:20190906T072734Z
LAST-MODIFIED:20190906T072734Z
UID:2963-1571319000-1571328000@blogit.gradia.fi
SUMMARY:Ohjausosaamista ammatillisille ohjaajille
DESCRIPTION:Tavoitteet: Koulutusprosessiin osallistuja tarkastelee ja kehittää omaa ohjausosaamistaan ja rakentaa uutta ohjausosaamista suhteessa aikaisempaan osaamiseensa. Osallistuja löytää uusia näkökulmia ja menetelmiä ohjaustyöhönsä yksilö- ja ryhmätasolla. \nAjankohta ja keskeiset sisällöt: \nEnnakkotehtävä: Kuvaa case\, jonka koit haasteelliseksi ja johon olisit tarvinnut apua. Kerro taustaa opiskelijasta ja minkälainen oppimis- tai ohjaustilanne oli? \n17.10. klo 13.30 – 16.00                       Orientoituminen ja tavoitteet \n\n\n\n\n\n\n\n\n\n\n\nErilaiset oppijat\, mielenterveyedn ongelmat ja häiriökäyttäytyminen/psykiatrinen sairaanhoitaja Laura Hirvineva\n\n\n\n\n\n\n\n\n\n\n\n  \nEnnakkotehtävä: Tee MBTI-testi etukäteen\, saat linkin ennen lähipäivää \n30.10. klo 13.30 – 16                             Erilaisuus voimavaraksi MBTI-testi ja erilaiset persoonat \n\n\n\n\n\n\n\n\n\n\n\nOhjaus yksilön omana prosessina (opiskelijan elämäntilanteen huomiointi\, identiteetti ja ammatti-identiteetin tukeminen\, vahvuuksien ja kehittämisalueiden löytäminen)\, Ryhmänohjaus\n\n\n\n\n\n\n\n\n\n\n\nEnnakkotehtävä: Kuvaa onnistunut ohjaustilanne \n6.11. klo 13.30 – 16                               Pedagogiset suuntaukset \n\n\n\n\n\n\n\n\n\n\n\nKoulutuksen päättäminen ja palautteet\n\n\n\n\n\n\n\n\n\n\n\n  \nIlmoittautumiset \nParasta osaamista sivuston kautta ti 10.10. mennessä: https://blogit.gradia.fi/parasta_osaamista/rohkeasti-uudistumaan/ \ntai Tästä linkistä \nPaikka: Turun ammatti-instituutti\, Koululaiva Bore\, Baltic – sali\, Aurajoki\, Linnankatu 72\, 20100 Turku \nToteutus: Koulutus toteutetaan lähitapaamisina prosessimaisesti. Kohderyhmänä ovat ammatilliset ohjaajat. Koulutus on osallistujille maksutonta. \nLisätietoja: Susanna Löf p. 040-4887083\, susanna.lof@haaga-helia.fi
URL:https://blogit.gradia.fi/parasta_osaamista/event/ohjausosaamista-ammatillisille-ohjaajille/
CATEGORIES:Koulutuskokeilut,Parasta osaamista
ATTACH;FMTTYPE=image/jpeg:https://blogit.gradia.fi/parasta_osaamista/wp-content/uploads/sites/20/2018/10/1_HOKS_450.jpg
END:VEVENT
END:VCALENDAR