BEGIN:VCALENDAR
VERSION:2.0
PRODID:-//Parasta osaamista - ECPv6.15.20//NONSGML v1.0//EN
CALSCALE:GREGORIAN
METHOD:PUBLISH
X-ORIGINAL-URL:https://blogit.gradia.fi/parasta_osaamista
X-WR-CALDESC:Tapahtumat Parasta osaamista
REFRESH-INTERVAL;VALUE=DURATION:PT1H
X-Robots-Tag:noindex
X-PUBLISHED-TTL:PT1H
BEGIN:VTIMEZONE
TZID:Europe/Helsinki
BEGIN:DAYLIGHT
TZOFFSETFROM:+0200
TZOFFSETTO:+0300
TZNAME:EEST
DTSTART:20180325T010000
END:DAYLIGHT
BEGIN:STANDARD
TZOFFSETFROM:+0300
TZOFFSETTO:+0200
TZNAME:EET
DTSTART:20181028T010000
END:STANDARD
BEGIN:DAYLIGHT
TZOFFSETFROM:+0200
TZOFFSETTO:+0300
TZNAME:EEST
DTSTART:20190331T010000
END:DAYLIGHT
BEGIN:STANDARD
TZOFFSETFROM:+0300
TZOFFSETTO:+0200
TZNAME:EET
DTSTART:20191027T010000
END:STANDARD
BEGIN:DAYLIGHT
TZOFFSETFROM:+0200
TZOFFSETTO:+0300
TZNAME:EEST
DTSTART:20200329T010000
END:DAYLIGHT
BEGIN:STANDARD
TZOFFSETFROM:+0300
TZOFFSETTO:+0200
TZNAME:EET
DTSTART:20201025T010000
END:STANDARD
END:VTIMEZONE
BEGIN:VEVENT
DTSTART;TZID=Europe/Helsinki:20191009T141500
DTEND;TZID=Europe/Helsinki:20191009T153000
DTSTAMP:20260421T072338
CREATED:20190823T070708Z
LAST-MODIFIED:20190823T070708Z
UID:2951-1570630500-1570635000@blogit.gradia.fi
SUMMARY:Webbinarium om arbetsplatshandledarutbildning på nätet
DESCRIPTION:Temat för webbinariet är arbetsplatshandledarutbildning på nätet. Kom och ta del av presentationen hur den nationella modellen för arbetsplatshandledarutbildning är uppbyggd och fungerar för att kunna introducera arbetsplatshandledare i utbildningen. I utbildningen får arbetsplatshandledaren introduktion i planeringen och genomförandet av lärande i arbetslivet och i bedömningen av kunnandet. Innehållet i webbinarierna är samma vid båda tillfällena. \nDatum och tid: \n\n26.9.2019 kl. 14.15-15.30\n9.10.2019 kl. 14.15-15.30\nInledande 15 min är reserverade för att testa att tekniken fungerar.\n\nAnmälan: \nDu anmäler dig via länken webbinarium om arbetsplatshandledarutbildning på nätet minst 5 dagar innan respektive tillfälle. Du som har anmält dig får en länk till webbinariet per e-post några dagar innan webbinariet. \nWebbinariet ordnas av Bästa kunnande-nätverksprojektet. \n  \nMer info: \nChristel Holmlund-Norrén\, christel.holmlund-norren@yrkesakademin.fi \nHarriet Bystedt\, harriet.bystedt@yrkesakademin.fi \n  \nVälkommen!
URL:https://blogit.gradia.fi/parasta_osaamista/event/webbinarium-om-arbetsplatshandledarutbildning-pa-natet-2/
CATEGORIES:Koulutuskokeilut,Parasta osaamista
ATTACH;FMTTYPE=image/jpeg:https://blogit.gradia.fi/parasta_osaamista/wp-content/uploads/sites/20/2018/10/2_Opiskelijan-arviointi_450.jpg
END:VEVENT
END:VCALENDAR