BEGIN:VCALENDAR
VERSION:2.0
PRODID:-//Parasta osaamista - ECPv6.15.20//NONSGML v1.0//EN
CALSCALE:GREGORIAN
METHOD:PUBLISH
X-ORIGINAL-URL:https://blogit.gradia.fi/parasta_osaamista
X-WR-CALDESC:Tapahtumat Parasta osaamista
REFRESH-INTERVAL;VALUE=DURATION:PT1H
X-Robots-Tag:noindex
X-PUBLISHED-TTL:PT1H
BEGIN:VTIMEZONE
TZID:Europe/Helsinki
BEGIN:DAYLIGHT
TZOFFSETFROM:+0200
TZOFFSETTO:+0300
TZNAME:EEST
DTSTART:20180325T010000
END:DAYLIGHT
BEGIN:STANDARD
TZOFFSETFROM:+0300
TZOFFSETTO:+0200
TZNAME:EET
DTSTART:20181028T010000
END:STANDARD
BEGIN:DAYLIGHT
TZOFFSETFROM:+0200
TZOFFSETTO:+0300
TZNAME:EEST
DTSTART:20190331T010000
END:DAYLIGHT
BEGIN:STANDARD
TZOFFSETFROM:+0300
TZOFFSETTO:+0200
TZNAME:EET
DTSTART:20191027T010000
END:STANDARD
BEGIN:DAYLIGHT
TZOFFSETFROM:+0200
TZOFFSETTO:+0300
TZNAME:EEST
DTSTART:20200329T010000
END:DAYLIGHT
BEGIN:STANDARD
TZOFFSETFROM:+0300
TZOFFSETTO:+0200
TZNAME:EET
DTSTART:20201025T010000
END:STANDARD
END:VTIMEZONE
BEGIN:VEVENT
DTSTART;TZID=Europe/Helsinki:20191007T100000
DTEND;TZID=Europe/Helsinki:20191007T110000
DTSTAMP:20260421T072231
CREATED:20190913T115234Z
LAST-MODIFIED:20191009T101649Z
UID:2975-1570442400-1570446000@blogit.gradia.fi
SUMMARY:Webinaari: kokemuksia HOKS-kysymyspatteriston käyttämisestä
DESCRIPTION:Tule webinaariin keskustelemaan HOKS-kysymyspatteriston käyttämisestä opetus- ja ohjaushenkilöstön osaamisen tunnistamiseen ja varmistamiseen. \nParasta osaamista – hankkeessa on tehty HOKS-osaamisen kysymyspatteristo\, jota koulutuksen järjestäjät ovat voineet soveltaa opetus- ja ohjaushenkilöstön osaamisen tunnistamiseen ja varmistamiseen. Minkälaisia käytäntöjä eri koulutuksen järjestäjät ovat toteuttaneet ja suunnitelleet? Tule jakamaan ajatuksiasi. Alustajina Koulutuskeskus Salpauksen ja Winnovan vuoden 2019 strategiarahoitushankkeiden edustajat. \nAika: 7.10.2019 klo 10.00 – 11.00\nPaikka: Skype for business\, linkki  Liity Skype-kokoukseen  \n  \nJos linkki ei toimi\, tilaa kokouskutsu: sannakaisa.raatikainen [@] salpaus.fi tai soita puh. 050 387 1953 \nTallenne webinaarista: https://youtu.be/roNOWhiCjnI \nLisätietoja: \nKoulutuskeskus Salpauksen Parasta osaamista -hankkeen projektipäällikkö Sannakaisa Raatikainen\nsannakaisa.raatikainen [@] salpaus.fi\npuh. 050 387 1953
URL:https://blogit.gradia.fi/parasta_osaamista/event/webinaari-kokemuksia-hoks-kysymyspatteriston-kayttamisesta-2/
CATEGORIES:Koulutuskokeilut,Parasta osaamista
ATTACH;FMTTYPE=image/jpeg:https://blogit.gradia.fi/parasta_osaamista/wp-content/uploads/sites/20/2018/10/2_Opiskelijan-arviointi-e1540369620106.jpg
END:VEVENT
BEGIN:VEVENT
DTSTART;TZID=Europe/Helsinki:20191007T120000
DTEND;TZID=Europe/Helsinki:20191007T153000
DTSTAMP:20260421T072231
CREATED:20190605T102527Z
LAST-MODIFIED:20190605T102527Z
UID:2730-1570449600-1570462200@blogit.gradia.fi
SUMMARY:Henkilökohtaistaminen 5 op\, Jyväskylä
DESCRIPTION:Tässä koulutuksessa osallistujat kehittävät henkilökohtaistamisessa tarvittavaa ohjaus- ja arviointiosaamistaan sekä kykyä arvioida omaa osaamistaan henkilökohtaistamisen osaajana. \n  \nKoulutuksen sisällöt \n\nHenkilökohtaistamisen merkitys\nOpiskelijan ohjauksen tavoite\nHenkilökohtainen kehittymissuunnitelma käytännössä\nOman osaamisen tarkastelua\n\n  \nKoulutuksen kohderyhmä \nAmmatillisen koulutuksen opetus- ja ohjaushenkilöstö \n  \nKoulutuksen aikataulu \nKoulutuksen laajuus on viisi opintopistettä. Se sisältää ennakkotehtävän\, kaksi lähitapaamista\, webinaarin\, välityöskentelyä sekä lopputehtävän. Koulutus toteutetaan seuraavan aikataulun mukaan: \n  \n\nlähitapaaminen ma 7.10.2019 klo 12.00 – 15.30 Jyväskylässä (Gradia)\n\nWebinaari ma 4.11.2019 klo 14 – 16 \n\nlähitapaaminen to 21.11.2019 klo 12.00 – 15.30 Jyväskylässä (Gradia)\n\n  \nEnnakkotehtävä tuodaan mukaan ensimmäiseen tapaamiseen. Lopputehtävä palautetaan kahden viikon kuluessa viimeisestä tapaamisesta. \n  \nIlmoittautuminen \nIlmoittaudu pe 20.9.2019 mennessä osoitteessa https://urly.fi/1eJE \n  \nLisätietoja \nMaija-Liisa Siitari\, koulutussuunnittelija\, 040 595 9180\, maija-liisa.siitari@jamk.fi \n  \nKouluttajat \nHarri Keurulainen\, harri.keurulainen@jamk.fi\nPiia Kolho\, piia.kolho\, piia.kolho@jamk.fi
URL:https://blogit.gradia.fi/parasta_osaamista/event/henkilokohtaistaminen-5-op-jyvaskyla/
LOCATION:Gradia
CATEGORIES:Koulutuskokeilut,Parasta digiosaamista
ATTACH;FMTTYPE=image/jpeg:https://blogit.gradia.fi/parasta_osaamista/wp-content/uploads/sites/20/2018/10/1_HOKS_450.jpg
END:VEVENT
BEGIN:VEVENT
DTSTART;TZID=Europe/Helsinki:20191007T133000
DTEND;TZID=Europe/Helsinki:20191007T153000
DTSTAMP:20260421T072231
CREATED:20190819T114527Z
LAST-MODIFIED:20190819T114527Z
UID:2934-1570455000-1570462200@blogit.gradia.fi
SUMMARY:UUSI OPETTAJUUS - pedagogiset tuokiot Koulutusohjelmista henkilökohtaistamiseen
DESCRIPTION:Parasta osaamista -hankkeen avulla tuetaan opetus- ja ohjaushenkilöstön työ- ja toimintatapojen  uudistumista toimintaympäristön ja lainsäädännön muuttuessa. JAMK ja TAMK toteuttavat yhdessä  pedagogiset tuokiot\, joiden tavoitteena on pohtia yhdessä osallistujien kanssa ammatillisen koulutuksen uudistuksen vaikutuksia opettajuuteen. \nAiheita yhteiseen pohdintaan  \n\n Mitä muuttunut koulutus muuttaa opettajuudessa? \n Millainen on koko ammatillisen koulutuksen polkumalli ja mitä siitä tulee jokaisen opettajan tietää? \n Mitä tarkoittaa jokaisen opettajan uraohjaus?\n Millaisia haarautumia henkilökohtaistaminen opiskelijan polkuun tuo?\n Miten eri ikäisten opiskelijoiden opiskelujen aikainen uraohjaus toteutuu? \n HOKS välineenä ei lomakkeena \n Onko opettajuus muutoksessa vai murroksessa? \n\n\nNäistä teemoista ja muistakin esiin nousevista mielenpäällisistä asioista opetushenkilöä keskusteluttavat  TAMKin lehtorit Minna Ahokas ja Juha Lahtinen.  Tilaisuudet koordinoi lehtori Virva-Liisa Pekkarinen\, JAMK \nAika ja paikka \nJyväskylän palvelualan opisto\, Salokatu 20\, ma 7.10.2019 klo 13.30-15.30  \n  \nLisätietoja sisällöstä \n Minna Ahokas\, TAMK\,  minna.ahokas@tuni.fi  Juha Lahtinen\, TAMK\, juha.lahtinen@tuni.fi \nIlmoittautuminen \nIlmoittaudu palvelualan opistolle 30.9.2019 mennessä: https://urly.fi/1h6m \n Lisätietoja Satu Schrey\, koulutussihteeri\, JAMK\, 050 412 9136\, satu.schrey@jamk.fi \n Virva-Liisa Pekkarinen\, JAMK\, virva-liisa.pekkarinen@jamk.fi
URL:https://blogit.gradia.fi/parasta_osaamista/event/uusi-opettajuus-pedagogiset-tuokiot-koulutusohjelmista-henkilokohtaistamiseen/
LOCATION:Jyväskylän palvelualan opisto
CATEGORIES:Koulutuskokeilut,Parasta osaamista
ATTACH;FMTTYPE=image/jpeg:https://blogit.gradia.fi/parasta_osaamista/wp-content/uploads/sites/20/2018/10/1_HOKS_450.jpg
END:VEVENT
END:VCALENDAR