BEGIN:VCALENDAR
VERSION:2.0
PRODID:-//Parasta osaamista - ECPv6.15.20//NONSGML v1.0//EN
CALSCALE:GREGORIAN
METHOD:PUBLISH
X-WR-CALNAME:Parasta osaamista
X-ORIGINAL-URL:https://blogit.gradia.fi/parasta_osaamista
X-WR-CALDESC:Tapahtumat Parasta osaamista
REFRESH-INTERVAL;VALUE=DURATION:PT1H
X-Robots-Tag:noindex
X-PUBLISHED-TTL:PT1H
BEGIN:VTIMEZONE
TZID:Europe/Helsinki
BEGIN:DAYLIGHT
TZOFFSETFROM:+0200
TZOFFSETTO:+0300
TZNAME:EEST
DTSTART:20180325T010000
END:DAYLIGHT
BEGIN:STANDARD
TZOFFSETFROM:+0300
TZOFFSETTO:+0200
TZNAME:EET
DTSTART:20181028T010000
END:STANDARD
BEGIN:DAYLIGHT
TZOFFSETFROM:+0200
TZOFFSETTO:+0300
TZNAME:EEST
DTSTART:20190331T010000
END:DAYLIGHT
BEGIN:STANDARD
TZOFFSETFROM:+0300
TZOFFSETTO:+0200
TZNAME:EET
DTSTART:20191027T010000
END:STANDARD
BEGIN:DAYLIGHT
TZOFFSETFROM:+0200
TZOFFSETTO:+0300
TZNAME:EEST
DTSTART:20200329T010000
END:DAYLIGHT
BEGIN:STANDARD
TZOFFSETFROM:+0300
TZOFFSETTO:+0200
TZNAME:EET
DTSTART:20201025T010000
END:STANDARD
END:VTIMEZONE
BEGIN:VEVENT
DTSTART;TZID=Europe/Helsinki:20190927T083000
DTEND;TZID=Europe/Helsinki:20190927T120000
DTSTAMP:20260421T053248
CREATED:20190606T061325Z
LAST-MODIFIED:20190606T061325Z
UID:2763-1569573000-1569585600@blogit.gradia.fi
SUMMARY:Oman työn johtaminen ja kehittäminen 5 op\, Jyväskylä
DESCRIPTION:Tässä koulutuksessa osallistujat kehittävät oman työnsä hallinnan osaamistaan\, työyhteisö- ja verkosto-osaamistaan sekä kykyä arvioida omia lähtökohtiaan oman työnsä johtamisessa. Samalla osallistujat edistävät omaa työhyvinvointiaan. \n  \n\nOman työn johtamisen näkökulma haastaa osallistujat tarkastelemaan ajanhallintaansa\, työn kuormittavuuden sääntelyä sekä oman työnkuvan muutoksen hallintaa.\nTyöyhteisöosaamisen näkökulma johdattaa osallistujat tarkastelemaan työyhteisön muuttuvia tilanteita ja omaa suhdetta niihin.\nVerkostoissa toimimisen näkökulmasta osallistujat tarkastelevat toimintavalmiuksiaan moniammatillisissa verkostoissa.\nOman työn johtamisen itsearvioinnin näkökulma johdattaa osallistujat arvioimaan omia lähtökohtiaan oman työnsä johtamisessa.\n\n  \nKoulutuksen kohderyhmä \nAmmatillisen koulutuksen opetus- ja ohjaushenkilöstö \n  \nKoulutuksen toteutus \nKoulutuksen laajuus on viisi opintopistettä. Se sisältää ennakkotehtävän\, kaksi lähitapaamista\, webinaarin\,  välityöskentelyä sekä lopputehtävän. \n  \nKoulutus toteutetaan seuraavan aikataulun mukaan \n\nLähitapaaminen pe 27.9. 2019 klo 8.30 – 12.00 Jyväskylässä (Gradia)\nWebinaari to 10.10.2019 klo 14 – 16\nLähitapaaminen pe 8.11.2019 klo 8.30 – 12.00 Jyväskylässä (Gradia)\n\n  \nEnnakkotehtävä tuodaan mukaan ensimmäiseen tapaamiseen. Lopputehtävä palautetaan kahden viikon kuluessa viimeisestä tapaamisesta. \n  \nKouluttajat \nHarri Keurulainen\, yliopettaja ja Piia Kolho\, lehtori\nJyväskylän ammattikorkeakoulu\, ammatillinen opettajakorkeakoulu \n  \nIlmoittautuminen \nIlmoittaudu pe 13.9.2019 mennessä osoitteessa https://urly.fi/1eJG \n  \nLisätietoja \nMaija-Liisa Siitari\, koulutussuunnittelija\, 040 595 9180\, maija-liisa.siitari@jamk.fi
URL:https://blogit.gradia.fi/parasta_osaamista/event/oman-tyon-johtaminen-ja-kehittaminen-5-op-jyvaskyla/
CATEGORIES:Koulutuskokeilut,Parasta osaamista
ATTACH;FMTTYPE=image/jpeg:https://blogit.gradia.fi/parasta_osaamista/wp-content/uploads/sites/20/2018/10/4_Oman-työn-johtaminen_450.jpg
END:VEVENT
BEGIN:VEVENT
DTSTART;TZID=Europe/Helsinki:20190927T090000
DTEND;TZID=Europe/Helsinki:20190927T150000
DTSTAMP:20260421T053248
CREATED:20190503T090845Z
LAST-MODIFIED:20190506T075115Z
UID:2620-1569574800-1569596400@blogit.gradia.fi
SUMMARY:YTOT yhdessä! Koulutus- ja verkostoitumispäivä Varsinais-Suomen YTO-opettajille
DESCRIPTION:Aika: 27.9.2019 klo 9 – 15 \nPaikka: Ruissalon Kylpylä\, Turku \nTilaisuuteen ovat tervetulleita yhteisten tutkinnon osien opettajat Varsinais-Suomen ammatillisista oppilaitoksista. Päivän tavoitteena on verkostoitua ja tarkastella ammatillisen koulutuksen mahdollisuuksia sekä haasteita yhteisissä tutkinnon osissa. \nTapahtuman ohjelma (pdf) \n  \nIlmoittautumiset viimeistään  pe  20.9.2019 alla olevan linkin kautta \nIlmoittautuminen YTOT yhdessä koulutus- ja verkostoitumispäivä 27.9.2019\, Turku
URL:https://blogit.gradia.fi/parasta_osaamista/event/ytot-yhdessa-koulutus-ja-verkostoitumispaiva-varsinais-suomen-yto-opettajille/
LOCATION:Ruissalon kylpylä
CATEGORIES:Koulutuskokeilut,Parasta osaamista
ATTACH;FMTTYPE=image/jpeg:https://blogit.gradia.fi/parasta_osaamista/wp-content/uploads/sites/20/2018/10/3_Uudenlaiset-oppimisen-tavat-ja-mahdollisuudet_450.jpg
END:VEVENT
END:VCALENDAR