BEGIN:VCALENDAR
VERSION:2.0
PRODID:-//Parasta osaamista - ECPv6.15.20//NONSGML v1.0//EN
CALSCALE:GREGORIAN
METHOD:PUBLISH
X-ORIGINAL-URL:https://blogit.gradia.fi/parasta_osaamista
X-WR-CALDESC:Tapahtumat Parasta osaamista
REFRESH-INTERVAL;VALUE=DURATION:PT1H
X-Robots-Tag:noindex
X-PUBLISHED-TTL:PT1H
BEGIN:VTIMEZONE
TZID:Europe/Helsinki
BEGIN:DAYLIGHT
TZOFFSETFROM:+0200
TZOFFSETTO:+0300
TZNAME:EEST
DTSTART:20180325T010000
END:DAYLIGHT
BEGIN:STANDARD
TZOFFSETFROM:+0300
TZOFFSETTO:+0200
TZNAME:EET
DTSTART:20181028T010000
END:STANDARD
BEGIN:DAYLIGHT
TZOFFSETFROM:+0200
TZOFFSETTO:+0300
TZNAME:EEST
DTSTART:20190331T010000
END:DAYLIGHT
BEGIN:STANDARD
TZOFFSETFROM:+0300
TZOFFSETTO:+0200
TZNAME:EET
DTSTART:20191027T010000
END:STANDARD
BEGIN:DAYLIGHT
TZOFFSETFROM:+0200
TZOFFSETTO:+0300
TZNAME:EEST
DTSTART:20200329T010000
END:DAYLIGHT
BEGIN:STANDARD
TZOFFSETFROM:+0300
TZOFFSETTO:+0200
TZNAME:EET
DTSTART:20201025T010000
END:STANDARD
END:VTIMEZONE
BEGIN:VEVENT
DTSTART;TZID=Europe/Helsinki:20190925T123000
DTEND;TZID=Europe/Helsinki:20190925T153000
DTSTAMP:20260421T053357
CREATED:20190617T125910Z
LAST-MODIFIED:20190617T125910Z
UID:2810-1569414600-1569425400@blogit.gradia.fi
SUMMARY:Uraohjaus ammatillisen koulutuksen arjessa -työpaja\, Kerava
DESCRIPTION:Koulutuksen tavoite \nTyöpajan tavoitteena on tukea ja antaa valmiuksia ohjaushenkilöstölle onnistuneen uraohjauksen toteutukseen ammatillisen koulutuksen eri vaiheissa. \n  \nKoulutuksen toteutustapa ja sisältö \nKoulutus on puolen päivän mittainen toiminnallinen lähitapaaminen/työpaja. Osallistujat voivat tuoda uraohjauksen kokemuksiin liittyviä caseja\, joita pohditaan tilaisuudessa yhdessä \n\n uraohjaus lainsäädännössä\n uraohjauksen merkitys\n tukihenkilöstö osana onnistunutta uraohjausta.\n\n  \nKoulutuspaikka \nKerava \n  \nTyöpajan aikataulu \n25.9.2019 keskiviikko klo 12.30-15.30 \n  \nIlmoittautumiset \nRyhmään mahtuu 20 ensimmäistä ilmoittautunutta. Ilmoittautumiset viimeistään 13.9.2019. \n  \nIlmoittautuminen  tästä linkistä \n  \nLisätietoja/kouluttaja \nIsmo Turve\, HAMK Ammatillinen opettajakorkeakoulu\, ismo.turve@hamk.fi\, 050 302 2320
URL:https://blogit.gradia.fi/parasta_osaamista/event/uraohjaus-ammatillisen-koulutuksen-arjessa-tyopaja-kerava/
LOCATION:Kerava
CATEGORIES:Koulutuskokeilut,Parasta osaamista
ATTACH;FMTTYPE=image/jpeg:https://blogit.gradia.fi/parasta_osaamista/wp-content/uploads/sites/20/2018/10/1_HOKS_450.jpg
END:VEVENT
END:VCALENDAR