BEGIN:VCALENDAR
VERSION:2.0
PRODID:-//Parasta osaamista - ECPv6.15.20//NONSGML v1.0//EN
CALSCALE:GREGORIAN
METHOD:PUBLISH
X-WR-CALNAME:Parasta osaamista
X-ORIGINAL-URL:https://blogit.gradia.fi/parasta_osaamista
X-WR-CALDESC:Tapahtumat Parasta osaamista
REFRESH-INTERVAL;VALUE=DURATION:PT1H
X-Robots-Tag:noindex
X-PUBLISHED-TTL:PT1H
BEGIN:VTIMEZONE
TZID:Europe/Helsinki
BEGIN:DAYLIGHT
TZOFFSETFROM:+0200
TZOFFSETTO:+0300
TZNAME:EEST
DTSTART:20180325T010000
END:DAYLIGHT
BEGIN:STANDARD
TZOFFSETFROM:+0300
TZOFFSETTO:+0200
TZNAME:EET
DTSTART:20181028T010000
END:STANDARD
BEGIN:DAYLIGHT
TZOFFSETFROM:+0200
TZOFFSETTO:+0300
TZNAME:EEST
DTSTART:20190331T010000
END:DAYLIGHT
BEGIN:STANDARD
TZOFFSETFROM:+0300
TZOFFSETTO:+0200
TZNAME:EET
DTSTART:20191027T010000
END:STANDARD
BEGIN:DAYLIGHT
TZOFFSETFROM:+0200
TZOFFSETTO:+0300
TZNAME:EEST
DTSTART:20200329T010000
END:DAYLIGHT
BEGIN:STANDARD
TZOFFSETFROM:+0300
TZOFFSETTO:+0200
TZNAME:EET
DTSTART:20201025T010000
END:STANDARD
END:VTIMEZONE
BEGIN:VEVENT
DTSTART;TZID=Europe/Helsinki:20190924T120000
DTEND;TZID=Europe/Helsinki:20190924T160000
DTSTAMP:20260421T053201
CREATED:20190605T070006Z
LAST-MODIFIED:20190606T065836Z
UID:2719-1569326400-1569340800@blogit.gradia.fi
SUMMARY:Oman työn johtaminen ja kehittäminen 5 op\, Kuopio
DESCRIPTION:Tässä koulutuksessa osallistujat löytävät ja kehittävät uusia toimintatapojaan johtaa omaa työtään\, toimia työyhteisön muuttuvissa tilanteissa\, toimia verkostoissa sekä arvioida oman työnsä johtamisosaamista. \n  \nKoulutuksen sisältö \n\nOman työn johtaminen\n\nOman tehtävän ymmärtäminen osana työyhteisön tehtävää\nTyön kuormittavuuden säätely\nAjanhallinta ja työn organisointi\n\n\nTyöyhteisöosaaminen\n\nTyöyhteisön tavoitteiden edistäminen\nMonialaisissa tiimeissä toimiminen\n\n\nVerkosto-osaaminen\n\nMonialaisissa verkostoissa toimiminen\nTyöelämäyhteistyö\n\n\nOman työn johtamisen arviointi\n\nOman osaamisen arviointi oman työn johtamisen eri osa-alueilla\nOman työn johtamisosaamisen kehittäminen\n\n\n\n  \nKoulutuksen kohderyhmä \nAmmatillisen koulutuksen opetus- ja ohjaushenkilöstö \n  \nKoulutuksen toteutus \nKoulutuksen laajuus on viisi opintopistettä. Se sisältää ennakkotehtävän\, kaksi lähitapaamista\, webinaarin\, välityöskentelyä sekä oman työn johtamisosaamisen arvioinnin. Koulutus toteutetaan seuraavan aikataulun mukaan: \n  \n\nlähitapaaminen ti 24.9.2019 klo 12.00 – 16.00 Kuopiossa\nWebinaari to 10.10.2019 klo 9.00 – 11.00\nlähitapaaminen ke 13.11.2019 klo 12.00 – 16.00 Kuopiossa\n\n  \nEnnakkotehtävä käsitellään ensimmäisessä tapaamisessa. Oman työn johtamisosaamisen arviointi palautetaan kahden viikon kuluessa viimeisestä tapaamisesta. \n  \nKouluttajat \nAnnu Niskanen\, lehtori ja Kirsti Vänskä\, yliopettaja JAMK\, ammatillinen opettajakorkeakoulu\, etunimi.sukunimi@jamk.fi \n\nIlmoittautuminen \nIlmoittaudu to 5.9.2019 mennessä osoitteessa https://urly.fi/1eJI \n\nLisätietoja \nMaija-Liisa Siitari\, koulutussuunnittelija\, 040 595 9180\, maija-liisa.siitari@jamk.fi
URL:https://blogit.gradia.fi/parasta_osaamista/event/oman-tyon-johtaminen-ja-kehittaminen-5-op-kuopio/
CATEGORIES:Koulutuskokeilut,Parasta osaamista
ATTACH;FMTTYPE=image/jpeg:https://blogit.gradia.fi/parasta_osaamista/wp-content/uploads/sites/20/2018/10/4_Oman-työn-johtaminen_450.jpg
END:VEVENT
END:VCALENDAR