BEGIN:VCALENDAR
VERSION:2.0
PRODID:-//Parasta osaamista - ECPv6.15.20//NONSGML v1.0//EN
CALSCALE:GREGORIAN
METHOD:PUBLISH
X-WR-CALNAME:Parasta osaamista
X-ORIGINAL-URL:https://blogit.gradia.fi/parasta_osaamista
X-WR-CALDESC:Tapahtumat Parasta osaamista
REFRESH-INTERVAL;VALUE=DURATION:PT1H
X-Robots-Tag:noindex
X-PUBLISHED-TTL:PT1H
BEGIN:VTIMEZONE
TZID:Europe/Helsinki
BEGIN:DAYLIGHT
TZOFFSETFROM:+0200
TZOFFSETTO:+0300
TZNAME:EEST
DTSTART:20180325T010000
END:DAYLIGHT
BEGIN:STANDARD
TZOFFSETFROM:+0300
TZOFFSETTO:+0200
TZNAME:EET
DTSTART:20181028T010000
END:STANDARD
BEGIN:DAYLIGHT
TZOFFSETFROM:+0200
TZOFFSETTO:+0300
TZNAME:EEST
DTSTART:20190331T010000
END:DAYLIGHT
BEGIN:STANDARD
TZOFFSETFROM:+0300
TZOFFSETTO:+0200
TZNAME:EET
DTSTART:20191027T010000
END:STANDARD
BEGIN:DAYLIGHT
TZOFFSETFROM:+0200
TZOFFSETTO:+0300
TZNAME:EEST
DTSTART:20200329T010000
END:DAYLIGHT
BEGIN:STANDARD
TZOFFSETFROM:+0300
TZOFFSETTO:+0200
TZNAME:EET
DTSTART:20201025T010000
END:STANDARD
END:VTIMEZONE
BEGIN:VEVENT
DTSTART;TZID=Europe/Helsinki:20190916T123000
DTEND;TZID=Europe/Helsinki:20190916T160000
DTSTAMP:20260421T053200
CREATED:20190301T120441Z
LAST-MODIFIED:20190301T120441Z
UID:2071-1568637000-1568649600@blogit.gradia.fi
SUMMARY:Koulutus opetus- ja ohjaushenkilöstölle - Henkilökohtaistaminen ja ohjaus 2 op\, Oulu 
DESCRIPTION:Tavoitteena on\, että osallistujat kehittyvät henkilökohtaistamisessa ja saavat uusia malleja henkilökohtaisen osaamisen kehittämissuunnitelman ohjaukseen. Koulutuksessa perehdytään omiin henkilökohtaistamisen ja ohjauksen käytäntöihin. Henkilökohtaistamisen taitojen arviointi auttaa opettajaa ja ohjaajaa tiedostamaan\, mitkä tekijät ohjaavat hänen toimintaa ja miten kehittää itseään henkilökohtaistajana. \n  \nPaikka: Oulu (paikka ja osoitetiedot ilmoitetaan myöhemmin) \nSisältö\, toteutus\, aikataulu:   \nEnnakkotehtävä \n  \n16.9.2019 klo 12.30-16.00 Lähitapaaminen   \n\nYhteisen käsityksen luominen toteutuksesta\nOsallistujien henkilökohtaiset tavoitteet\nHenkilökohtaistaminen prosessina\, koulutuksen järjestäjän prosessi\nMitä henkilökohtaistaminen tarkoittaa arjen tekoina?\nHenkilökohtaistamisen taito\nOhjattavan uratavoitteet\n\n  \nKäytännön työn jakso: HOKS- ohjaaminen arjessa  \n\nKoulutukseen osallistuja ohjaa opiskelijoiden henkilökohtaisten osaamisen kehittämissuunnitelmien tekemistä ja päivittämistä.\nLisäksi hän tutustuu jonkun toisen alan opettajan HOKS-ohjaustyöhön vertaisoppimisen näkökulmasta.\nOhjausta sovitusti verkossa tai paikan päällä.\n\n  \n28.10.2019 klo 13.00-16.00 Lähitapaaminen   \n\nReflektointi\nVertaiskeskustelut mm. miten olen kehittynyt henkilökohtaistajana?\nOsaamisen vertaisarviointia käytännön esimerkkien kautta.\n\n  \nKouluttaja ja lisätiedot koulutuksesta: KT Päivi Kilja\, lehtori\, OAMK\, Ammatillinen opettajakorkeakoulu\, paivi.kilja(at)oamk.fi \n  \nIlmoittaudu koulutukseen: https://link.webropolsurveys.com/S/892A243B698A9872 \n  \nTutustu\, käytä ja jaa:  bit.ly/posaaja \n 
URL:https://blogit.gradia.fi/parasta_osaamista/event/koulutus-opetus-ja-ohjaushenkilostolle-henkilokohtaistaminen-ja-ohjaus-2-op-oulu/
LOCATION:Oulun ammattikorkeakoulu\, Kiviharjuntie 4\, Oulu\, 90220\, Suomi
CATEGORIES:Koulutuskokeilut,Parasta osaamista
END:VEVENT
END:VCALENDAR