BEGIN:VCALENDAR
VERSION:2.0
PRODID:-//Parasta osaamista - ECPv6.15.20//NONSGML v1.0//EN
CALSCALE:GREGORIAN
METHOD:PUBLISH
X-WR-CALNAME:Parasta osaamista
X-ORIGINAL-URL:https://blogit.gradia.fi/parasta_osaamista
X-WR-CALDESC:Tapahtumat Parasta osaamista
REFRESH-INTERVAL;VALUE=DURATION:PT1H
X-Robots-Tag:noindex
X-PUBLISHED-TTL:PT1H
BEGIN:VTIMEZONE
TZID:Europe/Helsinki
BEGIN:DAYLIGHT
TZOFFSETFROM:+0200
TZOFFSETTO:+0300
TZNAME:EEST
DTSTART:20180325T010000
END:DAYLIGHT
BEGIN:STANDARD
TZOFFSETFROM:+0300
TZOFFSETTO:+0200
TZNAME:EET
DTSTART:20181028T010000
END:STANDARD
BEGIN:DAYLIGHT
TZOFFSETFROM:+0200
TZOFFSETTO:+0300
TZNAME:EEST
DTSTART:20190331T010000
END:DAYLIGHT
BEGIN:STANDARD
TZOFFSETFROM:+0300
TZOFFSETTO:+0200
TZNAME:EET
DTSTART:20191027T010000
END:STANDARD
BEGIN:DAYLIGHT
TZOFFSETFROM:+0200
TZOFFSETTO:+0300
TZNAME:EEST
DTSTART:20200329T010000
END:DAYLIGHT
BEGIN:STANDARD
TZOFFSETFROM:+0300
TZOFFSETTO:+0200
TZNAME:EET
DTSTART:20201025T010000
END:STANDARD
END:VTIMEZONE
BEGIN:VEVENT
DTSTART;TZID=Europe/Helsinki:20190909T090000
DTEND;TZID=Europe/Helsinki:20190909T150000
DTSTAMP:20260421T053246
CREATED:20190613T054114Z
LAST-MODIFIED:20190613T054114Z
UID:2797-1568019600-1568041200@blogit.gradia.fi
SUMMARY:Henkilökohtaistaminen ja ohjaus ammatillisessa koulutuksessa 9.9. - 8.10.2019 klo 9-15
DESCRIPTION:Koulutuksen tavoitteet \nOsallistuja saa valmiuksia ammatillisen koulutuksen henkilökohtaistamisen prosessiin ja opiskelijan kokonaisvaltaiseen ohjaukseen. \nKohderyhmä \nEnsisijaisesti luotsi-opettajina ammatillisella toisella asteella toimivat \nKeskeinen sisältö ja toteutus \nEnnakkotehtävä: Tutustu koulutuksen järjestäjän hoks-prosessiin ja ohjeistuksiin sekä hoksaajan tehtäväkuvaan. Tee osaamiskartoitus henkilökohtaistamiseen liittyvään osaamiseen sekä oma opehoks. Tarkempi ennakkotehtävä toimitetaan osallistujille kaksi viikkoa ennen ensimmäistä lähitapaamista. \n  \nI Lähitapaaminen: ma 9.9.2019 klo 9-15 Loimaa\, Myllykyläntie 8 \n\nOhjaus\, uraohjaus\nOsaamisen tunnistaminen ja tunnustaminen\nOsaamisen hankkiminen\, yksilölliset polut\n\nVälitehtävä: Oman alan verkostoyhteistyön kehittämistehtävä \nII Lähitapaaminen ti 8.10.2019\, Uusikaupunki\, Viikaistenkatu 1 \n\nOsaamisen osoittaminen\nHOKS-prosessi kokonaisuutena\nLuotsi-opettajan rooli\n\n  \nValmennus on osallistujille maksuton. \nIlmoittautumiset ma 26.8.2019 mennessä tästä linkistä. \nToimitamme ennakkotehtävän ilmoittautuneille kaksi viikkoa ennen lähitapaamista. \n  \nKouluttajat ja lisätietoja \nSusanna Löf\, susanna.lof@haaga-helia.fi. p. 040 488 7083 Tomi Raitanen\, tomi.raitanen@hamk.fi\, p. 050 4009189
URL:https://blogit.gradia.fi/parasta_osaamista/event/henkilokohtaistaminen-ja-ohjaus-ammatillisessa-koulutuksessa-9-9-8-10-2019-klo-9-15/
CATEGORIES:Koulutuskokeilut,Parasta osaamista
ATTACH;FMTTYPE=image/jpeg:https://blogit.gradia.fi/parasta_osaamista/wp-content/uploads/sites/20/2018/10/1_HOKS_450.jpg
END:VEVENT
END:VCALENDAR