BEGIN:VCALENDAR
VERSION:2.0
PRODID:-//Parasta osaamista - ECPv6.15.20//NONSGML v1.0//EN
CALSCALE:GREGORIAN
METHOD:PUBLISH
X-ORIGINAL-URL:https://blogit.gradia.fi/parasta_osaamista
X-WR-CALDESC:Tapahtumat Parasta osaamista
REFRESH-INTERVAL;VALUE=DURATION:PT1H
X-Robots-Tag:noindex
X-PUBLISHED-TTL:PT1H
BEGIN:VTIMEZONE
TZID:Europe/Helsinki
BEGIN:DAYLIGHT
TZOFFSETFROM:+0200
TZOFFSETTO:+0300
TZNAME:EEST
DTSTART:20180325T010000
END:DAYLIGHT
BEGIN:STANDARD
TZOFFSETFROM:+0300
TZOFFSETTO:+0200
TZNAME:EET
DTSTART:20181028T010000
END:STANDARD
BEGIN:DAYLIGHT
TZOFFSETFROM:+0200
TZOFFSETTO:+0300
TZNAME:EEST
DTSTART:20190331T010000
END:DAYLIGHT
BEGIN:STANDARD
TZOFFSETFROM:+0300
TZOFFSETTO:+0200
TZNAME:EET
DTSTART:20191027T010000
END:STANDARD
BEGIN:DAYLIGHT
TZOFFSETFROM:+0200
TZOFFSETTO:+0300
TZNAME:EEST
DTSTART:20200329T010000
END:DAYLIGHT
BEGIN:STANDARD
TZOFFSETFROM:+0300
TZOFFSETTO:+0200
TZNAME:EET
DTSTART:20201025T010000
END:STANDARD
END:VTIMEZONE
BEGIN:VEVENT
DTSTART;TZID=Europe/Helsinki:20190906T080000
DTEND;TZID=Europe/Helsinki:20190906T100000
DTSTAMP:20260421T053326
CREATED:20190822T103722Z
LAST-MODIFIED:20190822T103722Z
UID:2940-1567756800-1567764000@blogit.gradia.fi
SUMMARY:Ammatillista koulutusta ohjaavat säädökset
DESCRIPTION:Parasta osaamista webinaari \nAmmatillisen koulutuksen lainsäädäntö on muuttanut monin eri tavoin koulutuksen järjestämistä ja toteuttamista. Verkossa toteutettavassa tietopajassa kerrataan ammatillisen koulutuksen lainsäädäntöä ja saatavilla olevia tukimateriaaleja. Tietopajassa perehdytään muutosten vaikutuksiin opetus- ja ohjaushenkilöstön näkökulmasta ja asioita käsitellään erityisesti osallistujien esittämien ennakkokysymysten pohjalta. \n  \nAikataulu: \n6.9.2019\, klo 8-10 \nToteutus verkossa \n  \nIlmoittautuminen: https://link.webropolsurveys.com/S/FF9D63F3271F775C \n  \nKouluttajat ja lisätietoja:  \nPäivi Kilja\, lehtori \npaivi.kilja@oamk.fi \n  \nUlla Mäntykangas\, tuntiopettaja \nulla.mantykangas@oamk.fi \nOAMK Ammatillinen opettajankorkeakoulu
URL:https://blogit.gradia.fi/parasta_osaamista/event/ammatillista-koulutusta-ohjaavat-saadokset-2/
LOCATION:Verkko-opintoja
CATEGORIES:Parasta osaamista
ATTACH;FMTTYPE=image/png:https://blogit.gradia.fi/parasta_osaamista/wp-content/uploads/sites/20/2019/03/christin-hume-505823-unsplash.png
END:VEVENT
END:VCALENDAR