BEGIN:VCALENDAR
VERSION:2.0
PRODID:-//Parasta osaamista - ECPv6.15.20//NONSGML v1.0//EN
CALSCALE:GREGORIAN
METHOD:PUBLISH
X-ORIGINAL-URL:https://blogit.gradia.fi/parasta_osaamista
X-WR-CALDESC:Tapahtumat Parasta osaamista
REFRESH-INTERVAL;VALUE=DURATION:PT1H
X-Robots-Tag:noindex
X-PUBLISHED-TTL:PT1H
BEGIN:VTIMEZONE
TZID:Europe/Helsinki
BEGIN:DAYLIGHT
TZOFFSETFROM:+0200
TZOFFSETTO:+0300
TZNAME:EEST
DTSTART:20180325T010000
END:DAYLIGHT
BEGIN:STANDARD
TZOFFSETFROM:+0300
TZOFFSETTO:+0200
TZNAME:EET
DTSTART:20181028T010000
END:STANDARD
BEGIN:DAYLIGHT
TZOFFSETFROM:+0200
TZOFFSETTO:+0300
TZNAME:EEST
DTSTART:20190331T010000
END:DAYLIGHT
BEGIN:STANDARD
TZOFFSETFROM:+0300
TZOFFSETTO:+0200
TZNAME:EET
DTSTART:20191027T010000
END:STANDARD
BEGIN:DAYLIGHT
TZOFFSETFROM:+0200
TZOFFSETTO:+0300
TZNAME:EEST
DTSTART:20200329T010000
END:DAYLIGHT
BEGIN:STANDARD
TZOFFSETFROM:+0300
TZOFFSETTO:+0200
TZNAME:EET
DTSTART:20201025T010000
END:STANDARD
END:VTIMEZONE
BEGIN:VEVENT
DTSTART;TZID=Europe/Helsinki:20190903T141500
DTEND;TZID=Europe/Helsinki:20190903T153000
DTSTAMP:20260421T053354
CREATED:20190619T102151Z
LAST-MODIFIED:20190619T102151Z
UID:2840-1567520100-1567524600@blogit.gradia.fi
SUMMARY:Webbinarium om Checklistor för lärande i arbetslivet
DESCRIPTION:Vid webbinariet behandlas checklistor för lärande i arbetslivet för lärare\, studerande och arbetsplatshandledare. Innehållet i webbinarierna är samma vid båda tillfällena. \n  \nDatum och tid \n\n13.8.2019 kl. 14.15-15.30\n3.9.2019 kl. 14.15-15.30\n\nWebbinariet hålls kl. 14.15-15.30. Inledande 15 min är reserverade för att testa att tekniken fungerar. \n  \nAnmälan \nDu anmäler dig via länken webbinarium om checklistor för lärande i arbetslivet  minst 5 dagar innan respektive tillfälle. Du som har anmält dig får en länk till webbinariet per e-post några dagar innan webbinariet. \n  \nWebbinariet ordnas av Bästa kunnande-nätverksprojektet. \n  \nMer info \nChristel Holmlund-Norrén\,  christel.holmlund-norren@yrkesakademin.fi \nHarriet Bystedt\, harriet.bystedt@yrkesakademin.fi \n  \nVälkommen!
URL:https://blogit.gradia.fi/parasta_osaamista/event/webbinarium-om-checklistor-for-larande-i-arbetslivet-2/
LOCATION:Webinaari
CATEGORIES:Koulutuskokeilut,Parasta osaamista
ATTACH;FMTTYPE=image/jpeg:https://blogit.gradia.fi/parasta_osaamista/wp-content/uploads/sites/20/2018/10/3_Uudenlaiset-oppimisen-tavat-ja-mahdollisuudet_450.jpg
END:VEVENT
END:VCALENDAR