BEGIN:VCALENDAR
VERSION:2.0
PRODID:-//Parasta osaamista - ECPv6.15.20//NONSGML v1.0//EN
CALSCALE:GREGORIAN
METHOD:PUBLISH
X-WR-CALNAME:Parasta osaamista
X-ORIGINAL-URL:https://blogit.gradia.fi/parasta_osaamista
X-WR-CALDESC:Tapahtumat Parasta osaamista
REFRESH-INTERVAL;VALUE=DURATION:PT1H
X-Robots-Tag:noindex
X-PUBLISHED-TTL:PT1H
BEGIN:VTIMEZONE
TZID:Europe/Helsinki
BEGIN:DAYLIGHT
TZOFFSETFROM:+0200
TZOFFSETTO:+0300
TZNAME:EEST
DTSTART:20180325T010000
END:DAYLIGHT
BEGIN:STANDARD
TZOFFSETFROM:+0300
TZOFFSETTO:+0200
TZNAME:EET
DTSTART:20181028T010000
END:STANDARD
BEGIN:DAYLIGHT
TZOFFSETFROM:+0200
TZOFFSETTO:+0300
TZNAME:EEST
DTSTART:20190331T010000
END:DAYLIGHT
BEGIN:STANDARD
TZOFFSETFROM:+0300
TZOFFSETTO:+0200
TZNAME:EET
DTSTART:20191027T010000
END:STANDARD
BEGIN:DAYLIGHT
TZOFFSETFROM:+0200
TZOFFSETTO:+0300
TZNAME:EEST
DTSTART:20200329T010000
END:DAYLIGHT
BEGIN:STANDARD
TZOFFSETFROM:+0300
TZOFFSETTO:+0200
TZNAME:EET
DTSTART:20201025T010000
END:STANDARD
END:VTIMEZONE
BEGIN:VEVENT
DTSTART;TZID=Europe/Helsinki:20190816T083000
DTEND;TZID=Europe/Helsinki:20190816T150000
DTSTAMP:20260421T034712
CREATED:20190613T055331Z
LAST-MODIFIED:20190613T055331Z
UID:2800-1565944200-1565967600@blogit.gradia.fi
SUMMARY:Osaan arvioida! – Arviointiosaamisen teemapäivä
DESCRIPTION:Aika: perjantai 16.8.2019 klo 8.30-15.00 \nPaikka: Raahen ammattiopisto\, Tervahovinkatu 2\, Raahe \n  \nKoulutuksen tavoite  \nTavoitteena on varmistaa osaamisen arvioinnin luotettavuus ja kattavuus eri tutkinnoissa sekä edistää koulutuksen järjestäjän tutkinnoittain eriytyvän osaamisen arvioinnin toteuttamissuunnitelman työstämistä ja jalkauttamista. \n  \n Koulutuksen sisältö \nKoulutuspäivässä syvennytään koulutuksen järjestäjän tutkinnoittain erityviin osaamisen arvioinnin toteuttamissuunnitelmiin ja pohditaan niissä kuvattujen toimintatapojen jalkautumista käytännön arviointitoiminnaksi. Lisäksi päivän aikana perehdytään osaamisen arvioinnin oppaisiin ja arvioijien perehdyttämisen materiaaleihin. Koulutuspäivä rakentuu osin osallistujien ennakkokysymysten pohjalta ja työskentelyssä hyödynnetään fasilitoinnin menetelmiä. \n  \nEnnakkotehtävä \nPerehdy oman organisaatiosi osaamisen arvioinnin toteuttamissuunnitelman laatimisen ohjeistuksiin ja oman alasi tutkintojen suunnitelmiin. Mitä hyvää ja mitä kehitettävää havaitset? Mitä asioita tulisi nostaa yhteiseen pohdintaan koulutuspäivän aikana? \n  \nKohderyhmä \nopetus- ja ohjaushenkilöstö \n  \nIlmoittaudu koulutukseen tästä linkistä \n  \nKouluttajat \nLehtori Päivi Kilja ja tuntiopettaja Ulla Mäntykangas\, Oulun ammattikorkeakoulu\, Ammatillinen opettajakorkeakoulu \n  \n 
URL:https://blogit.gradia.fi/parasta_osaamista/event/osaan-arvioida-arviointiosaamisen-teemapaiva/
LOCATION:Raahen ammattiopisto
CATEGORIES:Koulutuskokeilut,Parasta osaamista
ATTACH;FMTTYPE=image/jpeg:https://blogit.gradia.fi/parasta_osaamista/wp-content/uploads/sites/20/2018/10/2_Opiskelijan-arviointi_450.jpg
END:VEVENT
END:VCALENDAR