BEGIN:VCALENDAR
VERSION:2.0
PRODID:-//Parasta osaamista - ECPv6.15.20//NONSGML v1.0//EN
CALSCALE:GREGORIAN
METHOD:PUBLISH
X-WR-CALNAME:Parasta osaamista
X-ORIGINAL-URL:https://blogit.gradia.fi/parasta_osaamista
X-WR-CALDESC:Tapahtumat Parasta osaamista
REFRESH-INTERVAL;VALUE=DURATION:PT1H
X-Robots-Tag:noindex
X-PUBLISHED-TTL:PT1H
BEGIN:VTIMEZONE
TZID:Europe/Helsinki
BEGIN:DAYLIGHT
TZOFFSETFROM:+0200
TZOFFSETTO:+0300
TZNAME:EEST
DTSTART:20180325T010000
END:DAYLIGHT
BEGIN:STANDARD
TZOFFSETFROM:+0300
TZOFFSETTO:+0200
TZNAME:EET
DTSTART:20181028T010000
END:STANDARD
BEGIN:DAYLIGHT
TZOFFSETFROM:+0200
TZOFFSETTO:+0300
TZNAME:EEST
DTSTART:20190331T010000
END:DAYLIGHT
BEGIN:STANDARD
TZOFFSETFROM:+0300
TZOFFSETTO:+0200
TZNAME:EET
DTSTART:20191027T010000
END:STANDARD
BEGIN:DAYLIGHT
TZOFFSETFROM:+0200
TZOFFSETTO:+0300
TZNAME:EEST
DTSTART:20200329T010000
END:DAYLIGHT
BEGIN:STANDARD
TZOFFSETFROM:+0300
TZOFFSETTO:+0200
TZNAME:EET
DTSTART:20201025T010000
END:STANDARD
END:VTIMEZONE
BEGIN:VEVENT
DTSTART;TZID=Europe/Helsinki:20190517T093000
DTEND;TZID=Europe/Helsinki:20190517T110000
DTSTAMP:20260420T222425
CREATED:20190513T152316Z
LAST-MODIFIED:20190513T152316Z
UID:2701-1558085400-1558090800@blogit.gradia.fi
SUMMARY:Parasta osaamista -verkostohankkeen työkalut ja toimintamallit käyttöösi
DESCRIPTION:Aika ja paikka: 17.5.19 klo 9.30 – 11\, Tredu Kangasala\,  Tiedon portaat\, opiskelijaruokasali \nParasta osaamista -verkostohankkeessa on tuotettu oppilaitosten yhteistyönä useita erilaisia työkaluja ja toimintamalleja työsi tueksi. Nämä otetaan valtakunnallisesti käyttöön OKM:n ohjeistuksen mukaisesti. Parasta osaamista -verkostohankkeen vuoden 2019 toiminnan tavoitteena on\, että hankkeen työkalut\, materiaalit ja koulutukset tavoittavat kaikki suomen koulutuksen järjestäjät. \nTule hakemaan työkaluja\, tutustumaan materiaaleihin sekä keskustelemaan ja vaihtamaan ajatuksia hankkeen tuotoksista ja ajankohtaisista asioista. \nTilaisuuteen ei tarvitse ilmoittautua ennakkoon.
URL:https://blogit.gradia.fi/parasta_osaamista/event/parasta-osaamista-verkostohankkeen-tyokalut-ja-toimintamallit-kayttoosi-4/
LOCATION:Tredu\, Kangasala
CATEGORIES:Koulutuskokeilut,Parasta osaamista
ATTACH;FMTTYPE=image/jpeg:https://blogit.gradia.fi/parasta_osaamista/wp-content/uploads/sites/20/2018/10/4_Oman-työn-johtaminen_450.jpg
END:VEVENT
END:VCALENDAR