BEGIN:VCALENDAR
VERSION:2.0
PRODID:-//Parasta osaamista - ECPv6.15.20//NONSGML v1.0//EN
CALSCALE:GREGORIAN
METHOD:PUBLISH
X-ORIGINAL-URL:https://blogit.gradia.fi/parasta_osaamista
X-WR-CALDESC:Tapahtumat Parasta osaamista
REFRESH-INTERVAL;VALUE=DURATION:PT1H
X-Robots-Tag:noindex
X-PUBLISHED-TTL:PT1H
BEGIN:VTIMEZONE
TZID:Europe/Helsinki
BEGIN:DAYLIGHT
TZOFFSETFROM:+0200
TZOFFSETTO:+0300
TZNAME:EEST
DTSTART:20180325T010000
END:DAYLIGHT
BEGIN:STANDARD
TZOFFSETFROM:+0300
TZOFFSETTO:+0200
TZNAME:EET
DTSTART:20181028T010000
END:STANDARD
BEGIN:DAYLIGHT
TZOFFSETFROM:+0200
TZOFFSETTO:+0300
TZNAME:EEST
DTSTART:20190331T010000
END:DAYLIGHT
BEGIN:STANDARD
TZOFFSETFROM:+0300
TZOFFSETTO:+0200
TZNAME:EET
DTSTART:20191027T010000
END:STANDARD
BEGIN:DAYLIGHT
TZOFFSETFROM:+0200
TZOFFSETTO:+0300
TZNAME:EEST
DTSTART:20200329T010000
END:DAYLIGHT
BEGIN:STANDARD
TZOFFSETFROM:+0300
TZOFFSETTO:+0200
TZNAME:EET
DTSTART:20201025T010000
END:STANDARD
END:VTIMEZONE
BEGIN:VEVENT
DTSTART;TZID=Europe/Helsinki:20190516T093000
DTEND;TZID=Europe/Helsinki:20190516T110000
DTSTAMP:20260420T222725
CREATED:20190513T151547Z
LAST-MODIFIED:20190513T151547Z
UID:2693-1557999000-1558004400@blogit.gradia.fi
SUMMARY:Parasta osaamista -verkostohankkeen työkalut ja toimintamallit käyttöön
DESCRIPTION:Aika ja paikka: 16.5.19 klo 9.30 – 11\, Tredu Valo\, tila Laine \nParasta osaamista -verkostohankkeessa on tuotettu oppilaitosten yhteistyönä useita erilaisia työkaluja ja toimintamalleja työsi tueksi. Nämä otetaan valtakunnallisesti käyttöön OKM:n ohjeistuksen mukaisesti. Parasta osaamista -verkostohankkeen vuoden 2019 toiminnan tavoitteena on\, että hankkeen työkalut\, materiaalit ja koulutukset tavoittavat kaikki suomen koulutuksen järjestäjät. \nTule hakemaan työkaluja\, tutustumaan materiaaleihin sekä keskustelemaan ja vaihtamaan ajatuksia hankkeen tuotoksista ja ajankohtaisista asioista. \nTilaisuuteen ei tarvitse ilmoittautua ennakkoon.
URL:https://blogit.gradia.fi/parasta_osaamista/event/parasta-osaamista-verkostohankkeen-tyokalut-ja-toimintamallit-kayttoon-4/
LOCATION:Tredu\, Valo
CATEGORIES:Koulutuskokeilut,Parasta osaamista
ATTACH;FMTTYPE=image/jpeg:https://blogit.gradia.fi/parasta_osaamista/wp-content/uploads/sites/20/2018/10/4_Oman-työn-johtaminen_450.jpg
END:VEVENT
BEGIN:VEVENT
DTSTART;TZID=Europe/Helsinki:20190516T130000
DTEND;TZID=Europe/Helsinki:20190516T143000
DTSTAMP:20260420T222725
CREATED:20190513T151823Z
LAST-MODIFIED:20190513T151823Z
UID:2697-1558011600-1558017000@blogit.gradia.fi
SUMMARY:Parasta osaamista -verkostohankkeen työkalut ja toimintamallit käyttöön
DESCRIPTION:Aika ja paikka: 16.5.19 klo 13 – 14.30\, Tredu Kuru\, puuluokka \nParasta osaamista -verkostohankkeessa on tuotettu oppilaitosten yhteistyönä useita erilaisia työkaluja ja toimintamalleja työsi tueksi. Nämä otetaan valtakunnallisesti käyttöön OKM:n ohjeistuksen mukaisesti. Parasta osaamista -verkostohankkeen vuoden 2019 toiminnan tavoitteena on\, että hankkeen työkalut\, materiaalit ja koulutukset tavoittavat kaikki suomen koulutuksen järjestäjät. \nTule hakemaan työkaluja\, tutustumaan materiaaleihin sekä keskustelemaan ja vaihtamaan ajatuksia hankkeen tuotoksista ja ajankohtaisista asioista. \nTilaisuuteen ei tarvitse ilmoittautua ennakkoon.
URL:https://blogit.gradia.fi/parasta_osaamista/event/parasta-osaamista-verkostohankkeen-tyokalut-ja-toimintamallit-kayttoon-5/
LOCATION:Tredu\, Kuru
CATEGORIES:Koulutuskokeilut,Parasta osaamista
ATTACH;FMTTYPE=image/jpeg:https://blogit.gradia.fi/parasta_osaamista/wp-content/uploads/sites/20/2018/10/4_Oman-työn-johtaminen_450.jpg
END:VEVENT
END:VCALENDAR