BEGIN:VCALENDAR
VERSION:2.0
PRODID:-//Parasta osaamista - ECPv6.15.20//NONSGML v1.0//EN
CALSCALE:GREGORIAN
METHOD:PUBLISH
X-ORIGINAL-URL:https://blogit.gradia.fi/parasta_osaamista
X-WR-CALDESC:Tapahtumat Parasta osaamista
REFRESH-INTERVAL;VALUE=DURATION:PT1H
X-Robots-Tag:noindex
X-PUBLISHED-TTL:PT1H
BEGIN:VTIMEZONE
TZID:Europe/Helsinki
BEGIN:DAYLIGHT
TZOFFSETFROM:+0200
TZOFFSETTO:+0300
TZNAME:EEST
DTSTART:20180325T010000
END:DAYLIGHT
BEGIN:STANDARD
TZOFFSETFROM:+0300
TZOFFSETTO:+0200
TZNAME:EET
DTSTART:20181028T010000
END:STANDARD
BEGIN:DAYLIGHT
TZOFFSETFROM:+0200
TZOFFSETTO:+0300
TZNAME:EEST
DTSTART:20190331T010000
END:DAYLIGHT
BEGIN:STANDARD
TZOFFSETFROM:+0300
TZOFFSETTO:+0200
TZNAME:EET
DTSTART:20191027T010000
END:STANDARD
BEGIN:DAYLIGHT
TZOFFSETFROM:+0200
TZOFFSETTO:+0300
TZNAME:EEST
DTSTART:20200329T010000
END:DAYLIGHT
BEGIN:STANDARD
TZOFFSETFROM:+0300
TZOFFSETTO:+0200
TZNAME:EET
DTSTART:20201025T010000
END:STANDARD
END:VTIMEZONE
BEGIN:VEVENT
DTSTART;TZID=Europe/Helsinki:20190514T083000
DTEND;TZID=Europe/Helsinki:20190514T120000
DTSTAMP:20260420T222726
CREATED:20190301T095712Z
LAST-MODIFIED:20190301T095712Z
UID:2047-1557822600-1557835200@blogit.gradia.fi
SUMMARY:Parhaita osaajia työelämään -työelämäfoorumi Helsingissä
DESCRIPTION:Tule keskustelemaan\, oppimaan uutta ja hakemaan uunituoreet työkalut käyttöösi! \nPaikka: Taitotalon kongressikeskus (Valimotie 8\, 00380 Helsinki) \nAika: ti 14.5.2019 klo 8.30 – 12.00 \n  \nIlmoittautuminen: bit.ly/2XtqxZm \n  \nTervetuloa mukaan yhteisen keskustelun areenalle! työelämän edustajat\, työpaikkaohjaajat\, luottamusmiehet\, työsuojeluvaltuutetut oppilaitoksen edustajat ja opiskelijat kaikki työelämässä oppimisesta kiinnostuneet. \n  \nOhjelma \nklo 8.30–9.00  \nAamukahvi ja tutustuminen ständeihin\nTiitus-työnhakusovellus Uranuurtajat-viestintäkonsepti \n  \nklo 9.00–9.30 \n Tervetulosanat \nlehtori Petja Sairanen\, Haaga-Helia AOKK  \nAlustuspuheenvuoro Kentältä kuultua – työelämässä oppiminen tuoreiden selvitysten valossa  \n hankepäällikkö Ilkka Vuorikuru\, Työväen Sivistysliitto TSL \n  \nklo 9.30–10.45 \nTyöpajoja teemoilla \n\n\n\nMenetelmiä työelämässä oppimisen ohjaukseen\nMuistilistat työelämässä oppimiseen ja  arviointioppaat näytön arviointiin\nOpiskelijan erilaiset työsuojelutilanteet ja työtehtävien rajaaminen\n\n\n\n  \nklo 11.00–12.00 \nPaneelikeskustelu \nTyöpaikkaohjaajan ja opettajan yhteistyö opiskelijan tukena \n kehittämispäällikkö Kati Liikanen\, Uudenmaan Yrittäjät\, henkilöstöpäällikkö Jaana Uusi-Kilponen\, Espoo Catering Oy koulutuspoliittinen asiantuntija Samuli Maxenius\, SAKKI ry opettaja Niina Ristimäki (liiketoiminnan perustutkinto)\, Omnia  \n \nIlmoittautuminen \nIlmoittaudu viimeistään 7.5.2019: bit.ly/2XtqxZm \nTilaisuuden ohjelma (pdf) \n  \nTilaisuuteen mahtuu 130 osallistujaa ilmoittautumisjärjestyksessä. Tilaisuus on maksuton\, mutta matkakuluista osallistujat vastaavat itse. \n  \nLisätietoa: \n\nprojektipäällikkö Katja Österberg\, katja.osterberg@omnia.fi\, 040 126 4863\nhankepäällikkö Ilkka Vuorikuru\, ilkka.vuorikuru@tsl.fi\, 040 457 0734\n\n 
URL:https://blogit.gradia.fi/parasta_osaamista/event/parhaita-osaajia-tyoelamaan-tyoelamafoorumi-helsingissa/
LOCATION:Taitotalon kongressikeskus\, Helsinki
END:VEVENT
BEGIN:VEVENT
DTSTART;TZID=Europe/Helsinki:20190514T093000
DTEND;TZID=Europe/Helsinki:20190514T163000
DTSTAMP:20260420T222726
CREATED:20190405T065609Z
LAST-MODIFIED:20190412T064322Z
UID:2505-1557826200-1557851400@blogit.gradia.fi
SUMMARY:Inbjudan till seminarium Bästa kollegor – finlandssvensk yrkesutbildning i fokus
DESCRIPTION:Välkommen med på vårt gemensamma finlandssvenska seminarium Bästa kollegor – finlandssvensk yrkesutbildning i fokus som hålls den 14.5.2019 kl 9.30-16.30 i Tammerfors. Här har du möjlighet att ta del av kollegors modeller samt dela med dig av dina egna erfarenheter av yrkesutbildning. Din anmälan till dagen vill vi ha senast den 24.4 och anmälningslänken hittar du längst ner i programmet. \n  \nNi får gärna dela denna inbjudan vidare bland era kollegor och i era nätverk. Deltagandet i seminariet är gratis. För övriga eventuella kostnader (lunch\, resor och ev. övernattningar ) står deltagarna själva. \n  \nSeminariet genomförs via utvecklingsprogrammen Bästa kunnande och Bästa service och har planerats i samarbete mellan Axxell\, Optima\, Yrkesakademin i Österbotten\, Yrkesinstitutet Prakticum och Ålands yrkesgymnasium. \n  \nBästa kollegor\, program \n  \nMer information: Christel Holmlund-Norrén\, 050-5906278\, (christel.holmlund-norren@yrkesakademin.fi)
URL:https://blogit.gradia.fi/parasta_osaamista/event/inbjudan-till-seminarium-basta-kollegor-finlandssvensk-yrkesutbildning-i-fokus/
LOCATION:Tampere Congress & Culture Centre PUISTOTORNI
CATEGORIES:Koulutuskokeilut,Parasta osaamista
ATTACH;FMTTYPE=image/jpeg:https://blogit.gradia.fi/parasta_osaamista/wp-content/uploads/sites/20/2018/10/3_Uudenlaiset-oppimisen-tavat-ja-mahdollisuudet_450.jpg
END:VEVENT
BEGIN:VEVENT
DTSTART;TZID=Europe/Helsinki:20190514T140000
DTEND;TZID=Europe/Helsinki:20190514T150000
DTSTAMP:20260420T222726
CREATED:20190513T150356Z
LAST-MODIFIED:20190513T150356Z
UID:2682-1557842400-1557846000@blogit.gradia.fi
SUMMARY:Parasta osaamista -verkostohankkeen työkalut ja toimintamallit käyttöösi
DESCRIPTION:Aika ja paikka: 14.5.19 klo 14 – 16 Tredu Hepolamminkatu\, kahvio-myymälä \nParasta osaamista -verkostohankkeessa on tuotettu oppilaitosten yhteistyönä useita erilaisia työkaluja ja toimintamalleja työsi tueksi. Nämä otetaan valtakunnallisesti käyttöön OKM:n ohjeistuksen mukaisesti. Parasta osaamista -verkostohankkeen vuoden 2019 toiminnan tavoitteena on\, että hankkeen työkalut\, materiaalit ja koulutukset tavoittavat kaikki suomen koulutuksen järjestäjät. \nTule hakemaan työkaluja\, tutustumaan materiaaleihin sekä keskustelemaan ja vaihtamaan ajatuksia hankkeen tuotoksista ja ajankohtaisista asioista. \nTilaisuuteen ei tarvitse ilmoittautua ennakkoon.
URL:https://blogit.gradia.fi/parasta_osaamista/event/parasta-osaamista-verkostohankkeen-tyokalut-ja-toimintamallit-kayttoosi-3/
LOCATION:Tredu\, Hepolamminkatu
CATEGORIES:Koulutuskokeilut,Parasta osaamista
ATTACH;FMTTYPE=image/jpeg:https://blogit.gradia.fi/parasta_osaamista/wp-content/uploads/sites/20/2018/10/4_Oman-työn-johtaminen_450.jpg
END:VEVENT
END:VCALENDAR