BEGIN:VCALENDAR
VERSION:2.0
PRODID:-//Parasta osaamista - ECPv6.15.20//NONSGML v1.0//EN
CALSCALE:GREGORIAN
METHOD:PUBLISH
X-ORIGINAL-URL:https://blogit.gradia.fi/parasta_osaamista
X-WR-CALDESC:Tapahtumat Parasta osaamista
REFRESH-INTERVAL;VALUE=DURATION:PT1H
X-Robots-Tag:noindex
X-PUBLISHED-TTL:PT1H
BEGIN:VTIMEZONE
TZID:Europe/Helsinki
BEGIN:DAYLIGHT
TZOFFSETFROM:+0200
TZOFFSETTO:+0300
TZNAME:EEST
DTSTART:20180325T010000
END:DAYLIGHT
BEGIN:STANDARD
TZOFFSETFROM:+0300
TZOFFSETTO:+0200
TZNAME:EET
DTSTART:20181028T010000
END:STANDARD
BEGIN:DAYLIGHT
TZOFFSETFROM:+0200
TZOFFSETTO:+0300
TZNAME:EEST
DTSTART:20190331T010000
END:DAYLIGHT
BEGIN:STANDARD
TZOFFSETFROM:+0300
TZOFFSETTO:+0200
TZNAME:EET
DTSTART:20191027T010000
END:STANDARD
BEGIN:DAYLIGHT
TZOFFSETFROM:+0200
TZOFFSETTO:+0300
TZNAME:EEST
DTSTART:20200329T010000
END:DAYLIGHT
BEGIN:STANDARD
TZOFFSETFROM:+0300
TZOFFSETTO:+0200
TZNAME:EET
DTSTART:20201025T010000
END:STANDARD
END:VTIMEZONE
BEGIN:VEVENT
DTSTART;TZID=Europe/Helsinki:20190513T140000
DTEND;TZID=Europe/Helsinki:20190513T160000
DTSTAMP:20260420T222724
CREATED:20190313T112649Z
LAST-MODIFIED:20190313T113322Z
UID:2339-1557756000-1557763200@blogit.gradia.fi
SUMMARY:UUSI OPETTAJUUS  – koulutusohjelmista henkilökohtaistamiseen
DESCRIPTION:Paikka ja aika: Luoteis-Pirkanmaan oppilaitokset\, Iisakki ja Osara\, Taitokuja 3 39100 Hämeenkyrö\n \n  \nParasta osaamista -hankkeen avulla tuetaan opetus- ja ohjaushenkilöstön työ- ja toimintatapojen uudistumista toimintaympäristön ja lainsäädännön muuttuessa. \n  \nTAMK tarjoaa hankkeen puitteissa koulutusta ja konsultaatiota koulutuksen järjestäjille. Yhdessä SASKYn kanssa olemme suunnitelleet pedagogisen iltapäivätuokion\, jonka aiheena on pohtia yhdessä ammatillisen koulutuksen uudistuksen vaikutuksia opettajuuteen. \n  \nIltapäivät sijoittuvat yksikkökohtaisesti taulukon mukaisiin päiviin ja kellonaika on 14-16\, kahvittelutuokio 14.50-15.10). \n  \nAiheita yhteiseen pohdintaan: \n\nmitä muuttunut koulutus muuttaa opettajuudessa\nmillainen on koko ammatillisen koulutuksen polkumalli ja mitä siitä tulee jokaisen opettajan tietää\nmitä tarkoittaa jokaisen opettajan uraohjaus\nmillaisia haarautumia henkilökohtaistaminen opiskelijan polkuun tuo\nmiten eri ikäisten opiskelijoiden opiskelujen aikainen uraohjaus toteutuu\nHOKS välineenä ei lomakkeena\nonko opettajuus muutoksessa vai murroksessa\n\n  \nNäistä teemoista ja muistakin esiin nousevista mielenpäällisistä asioista opetushenkilöä keskusteluttavat TAMKin lehtorit Ari Jussila ja Juha Lahtinen. \n 
URL:https://blogit.gradia.fi/parasta_osaamista/event/2339/
LOCATION:Luoteis-Pirkanmaan oppilaitokset\, Iisakki ja Osara
CATEGORIES:Koulutuskokeilut,Parasta osaamista
ATTACH;FMTTYPE=image/jpeg:https://blogit.gradia.fi/parasta_osaamista/wp-content/uploads/sites/20/2018/10/4_Oman-työn-johtaminen_450.jpg
END:VEVENT
BEGIN:VEVENT
DTSTART;TZID=Europe/Helsinki:20190513T143000
DTEND;TZID=Europe/Helsinki:20190513T153000
DTSTAMP:20260420T222724
CREATED:20190430T065328Z
LAST-MODIFIED:20190430T065328Z
UID:2615-1557757800-1557761400@blogit.gradia.fi
SUMMARY:Webinaari: osaamisen arviointioppaat
DESCRIPTION:Tule webinaariin perehtymään osaamisen arviointioppaisiin.\nOppaat ovat työkaluja opettajalle\, työpaikoille ja opiskelijalle näytön suunnittelusta\, osaamisen arvioinnista ja arvioinnista päättämisestä.  Oppaat on tuotettu oppilaitosten ja ammatillisten opettajakorkeakoulujen yhteistyönä. \nOta oppaat käyttöön! Tulostettuna tai sähköisenä. Löydät ne tästä linkistä: osaamisen arviointioppaat. \nAika: 13.5.2019 klo 14.30 – 15.30 \nPaikka: Skype for business\, linkki  Liity Skype-kokoukseen  \nJos linkki ei toimi\, tilaa kokouskutsu: sannakaisa.raatikainen@salpaus.fi \n  \nLisätietoja: \nKoulutuskeskus Salpauksen Parasta osaamista -hankkeen projektipäällikkö Sannakaisa Raatikainen\nsannakaisa.raatikainen@salpaus.fi\npuh. 050 387 1953
URL:https://blogit.gradia.fi/parasta_osaamista/event/webinaari-osaamisen-arviointioppaat-4/
CATEGORIES:Parasta osaamista
ATTACH;FMTTYPE=image/jpeg:https://blogit.gradia.fi/parasta_osaamista/wp-content/uploads/sites/20/2018/10/2_Opiskelijan-arviointi-e1540369620106.jpg
END:VEVENT
END:VCALENDAR