BEGIN:VCALENDAR
VERSION:2.0
PRODID:-//Parasta osaamista - ECPv6.15.20//NONSGML v1.0//EN
CALSCALE:GREGORIAN
METHOD:PUBLISH
X-ORIGINAL-URL:https://blogit.gradia.fi/parasta_osaamista
X-WR-CALDESC:Tapahtumat Parasta osaamista
REFRESH-INTERVAL;VALUE=DURATION:PT1H
X-Robots-Tag:noindex
X-PUBLISHED-TTL:PT1H
BEGIN:VTIMEZONE
TZID:Europe/Helsinki
BEGIN:DAYLIGHT
TZOFFSETFROM:+0200
TZOFFSETTO:+0300
TZNAME:EEST
DTSTART:20180325T010000
END:DAYLIGHT
BEGIN:STANDARD
TZOFFSETFROM:+0300
TZOFFSETTO:+0200
TZNAME:EET
DTSTART:20181028T010000
END:STANDARD
BEGIN:DAYLIGHT
TZOFFSETFROM:+0200
TZOFFSETTO:+0300
TZNAME:EEST
DTSTART:20190331T010000
END:DAYLIGHT
BEGIN:STANDARD
TZOFFSETFROM:+0300
TZOFFSETTO:+0200
TZNAME:EET
DTSTART:20191027T010000
END:STANDARD
BEGIN:DAYLIGHT
TZOFFSETFROM:+0200
TZOFFSETTO:+0300
TZNAME:EEST
DTSTART:20200329T010000
END:DAYLIGHT
BEGIN:STANDARD
TZOFFSETFROM:+0300
TZOFFSETTO:+0200
TZNAME:EET
DTSTART:20201025T010000
END:STANDARD
END:VTIMEZONE
BEGIN:VEVENT
DTSTART;TZID=Europe/Helsinki:20190509T080000
DTEND;TZID=Europe/Helsinki:20190509T100000
DTSTAMP:20260420T222842
CREATED:20190307T061831Z
LAST-MODIFIED:20190307T061831Z
UID:2171-1557388800-1557396000@blogit.gradia.fi
SUMMARY:Pedagoginen patikointi Pyynikillä
DESCRIPTION:Kevään viimeiset kahvittelut torstaina 9.5.2019 klo 8-10\, teemalla Pedagoginen patikointi Pyynikillä. Tarkemmat ohjeet tulee ilmoittautuneille. Patikoinnin jälkeen luvassa munkkikahvit. \nIlmoittaudu mukaan \n  \nLisätietoja: Annukka Tapani\, yliopettaja\, projektipäällikkö (Parasta osaamista – verkostohanke)\, 050 4072580\, annukka.tapani@tuni.fi \n  \n  \n 
URL:https://blogit.gradia.fi/parasta_osaamista/event/pedagoginen-patikointi-pyynikilla/
CATEGORIES:Koulutuskokeilut,Parasta osaamista
ATTACH;FMTTYPE=image/jpeg:https://blogit.gradia.fi/parasta_osaamista/wp-content/uploads/sites/20/2018/10/4_Oman-työn-johtaminen_450.jpg
END:VEVENT
BEGIN:VEVENT
DTSTART;TZID=Europe/Helsinki:20190509T120000
DTEND;TZID=Europe/Helsinki:20190509T150000
DTSTAMP:20260420T222842
CREATED:20190130T083630Z
LAST-MODIFIED:20190131T104207Z
UID:1597-1557403200-1557414000@blogit.gradia.fi
SUMMARY:Digiapua lukemisen ja kirjoittamisen tukemiseen sekä monikanavaiseen oppimiseen
DESCRIPTION:Tule perehtymään helppokäyttöisiin digitaalisiin menetelmiin ja välinesiin työpajatyöskentelyssä. Koulutuksessa huomioidaan erityistä tukea tarvitsevien opiskelijoiden ohjauksen ja tuen tarpeita.\nOta mukaasi oma kannettava/tablettitietokone\, jolla työskentelet päivän aikana. \n  \nAjankohta to 9.5.2019 klo 12.00 – 15.00 \nPaikka Haaga-Helia Ammatillinen opettajakorkeakoulu\, Ratapihantie 13\, Helsinki\, tila 2207\, 2. kerros \n  \nTavoite  \nPerehdytään yhdessä helppokäyttöisiin tietoteknisiin oppimisen menetelmiin ja välineisiin. Koulutus on tarkoitettu ammatillisen koulutuksen henkilöstölle. \n  \nToteutus  \nTyöpajatoiminta. Tapahtuma on maksuton. Ryhmäkoko on 20 osallistujaa. \n  \nOhjelma  \n12.00-13.00 Erilainen oppiminen ja oppimisen tuen välineet\, Helppokäyttötoiminnot tutuksi\n13.00-13.30 Kahvitauko ja siirtyminen työpajoihin\n13.30-15.00 Työpajatyöskentelyä \nValitse työpaja ilmoittautumisen yhteydessä (10 henkilöä/työpaja). \nTYÖPAJA 1: Lukemisen ja kirjoittamisen tietotekniset apuvälineet\nTYÖPAJA 2: Monikanavaisuus \n  \nIlmoittautuminen  \nParasta osaamista sivuston kautta: blogit.jao.fi/parasta_osaamista tai tästä linkistä to 2.5.2019 mennessä. \n  \nLisätietoa  \nMaiju Kangasaho maiju.kangasaho@haaga-helia.fi\, puh. 040 5447 336\nEija Honkanen Eija.honkanen@haaga-helia.fi\, 040 4887 386
URL:https://blogit.gradia.fi/parasta_osaamista/event/digiapua-lukemisen-ja-kirjoittamisen-tukemiseen-seka-monikanavaiseen-oppimiseen/
LOCATION:Haaga-Helian ammatillinen opettajakorkeakoulu\, Ratapihankatu 13\, Helsinki\, 00520\, Suomi
CATEGORIES:Koulutuskokeilut,Parasta digiosaamista,Parasta digitukea
ATTACH;FMTTYPE=image/jpeg:https://blogit.gradia.fi/parasta_osaamista/wp-content/uploads/sites/20/2018/10/1_HOKS_450.jpg
END:VEVENT
BEGIN:VEVENT
DTSTART;TZID=Europe/Helsinki:20190509T120000
DTEND;TZID=Europe/Helsinki:20190509T153000
DTSTAMP:20260420T222842
CREATED:20190403T113123Z
LAST-MODIFIED:20190403T113123Z
UID:2476-1557403200-1557415800@blogit.gradia.fi
SUMMARY:Parhaita osaajia -seminaari Torniossa 9.5.2019
DESCRIPTION:Millainen rooli työyhteisöllä tulisi olla ammatillisen koulutuksen toteutuksessa? Työntekijöiden kokemukset keskiössä! Osaaminen ja ohjaus ratkaisevat! Miten tuemme työpaikkaohjaajien ohjaus- ja arviointiosaamista? \n  \nTervetuloa mukaan yhteisen keskustelun areenalle oppimaan uutta ja hakemaan uunituoreet työkalut käyttöösi! \n  \nAika: 9.5.2019 klo 12:00-15:30 \nPaikka: Tornio\, Keskikatu 69\, Yritystalon auditorio \nKohderyhmä: työelämän edustajat\, työpaikkaohjaajat\, luottamusmiehet\, työsuojeluvaltuutetut\, oppilaitoksen edustajat ja opiskelijat sekä kaikki työelämässä oppimisesta kiinnostuneet. \n  \nOhjelma \n12:00-12.20 Kahvit \n12:20-12.40 Avaussanat/ Välkky-robotti\, Ilkka Vuorikuru ja Tuomo Palokangas\n12:40-13.20 Miten tuemme työpaikkaohjaajien ohjaus- ja arviointiosaamista ammatillisessa koulutuksessa?/Tuulikki Haarakoski\, Lappia ja Päivi Kilja\, OAMK \n\n\n\n\n\nTyöpaikkaohjaajan perehdytysmalli\nMuistilistat ja arviointioppaat\nOpenDay\nOpenPartner\n\n\n\n\n\n13.20-14.00 Osaaminen ja ohjaus ratkaisevat työelämäyhteistyössä/Anne Ahkola-Lehtinen\, johtava asiantuntija\, Teknologiateollisuus ry \n14.00-14.15 Tauko\n\n14.15-14:45 Opiskelijapainetta työpaikoilla? – työntekijöiden kokemukset ja työyhteisöjen rooli ammatillisen koulutuksen toteutuksessa /Ilkka Vuorikuru\, projektipäällikkö\, TSL\, Ammattitaitoa yhdessä -hanke \n14:45-15.30 Keskustelua ja päätössanat \nOhjelma (pdf) \n  \nIlmoittaudu viimeistään 2.5. mennessä: www.bit.ly/2TNcUkJ \n  \nTilaisuuteen mahtuu 50 osallistujaa ilmoittautumisjärjestyksessä. Tilaisuus on maksuton\, mutta matkakuluista osallistujat vastaavat itse. \n  \nTilaisuutta on myös mahdollista seurata striiminä. Striimauksen seurantalinkki toimitetaan 100 ensimmäiselle ilmoittautuneelle. \n  \nLisätietoa: \nprojektikoordinaattori Satu-Maria Salmi\, satu-maria.salmi@lappia.fi\, 0400 908 428\nhankepäällikkö Ilkka Vuorikuru\, ilkka.vuorikuru@tsl.fi\, 040 457 0734 \n 
URL:https://blogit.gradia.fi/parasta_osaamista/event/parhaita-osaajia-seminaari-torniossa-9-5-2019/
LOCATION:Lappia
CATEGORIES:Koulutuskokeilut,Parasta osaamista
ATTACH;FMTTYPE=image/jpeg:https://blogit.gradia.fi/parasta_osaamista/wp-content/uploads/sites/20/2018/10/3_Uudenlaiset-oppimisen-tavat-ja-mahdollisuudet_450.jpg
END:VEVENT
END:VCALENDAR