BEGIN:VCALENDAR
VERSION:2.0
PRODID:-//Parasta osaamista - ECPv6.15.20//NONSGML v1.0//EN
CALSCALE:GREGORIAN
METHOD:PUBLISH
X-WR-CALNAME:Parasta osaamista
X-ORIGINAL-URL:https://blogit.gradia.fi/parasta_osaamista
X-WR-CALDESC:Tapahtumat Parasta osaamista
REFRESH-INTERVAL;VALUE=DURATION:PT1H
X-Robots-Tag:noindex
X-PUBLISHED-TTL:PT1H
BEGIN:VTIMEZONE
TZID:Europe/Helsinki
BEGIN:DAYLIGHT
TZOFFSETFROM:+0200
TZOFFSETTO:+0300
TZNAME:EEST
DTSTART:20180325T010000
END:DAYLIGHT
BEGIN:STANDARD
TZOFFSETFROM:+0300
TZOFFSETTO:+0200
TZNAME:EET
DTSTART:20181028T010000
END:STANDARD
BEGIN:DAYLIGHT
TZOFFSETFROM:+0200
TZOFFSETTO:+0300
TZNAME:EEST
DTSTART:20190331T010000
END:DAYLIGHT
BEGIN:STANDARD
TZOFFSETFROM:+0300
TZOFFSETTO:+0200
TZNAME:EET
DTSTART:20191027T010000
END:STANDARD
BEGIN:DAYLIGHT
TZOFFSETFROM:+0200
TZOFFSETTO:+0300
TZNAME:EEST
DTSTART:20200329T010000
END:DAYLIGHT
BEGIN:STANDARD
TZOFFSETFROM:+0300
TZOFFSETTO:+0200
TZNAME:EET
DTSTART:20201025T010000
END:STANDARD
END:VTIMEZONE
BEGIN:VEVENT
DTSTART;TZID=Europe/Helsinki:20190503T120000
DTEND;TZID=Europe/Helsinki:20190503T153000
DTSTAMP:20260420T204147
CREATED:20190318T164556Z
LAST-MODIFIED:20190430T064217Z
UID:2364-1556884800-1556897400@blogit.gradia.fi
SUMMARY:Parhaita osaajia työelämään Satakunnassa -työelämäfoorumi (siirtyy syksyyn 2019)
DESCRIPTION:Tilaisuus siirretään syksyyn 2019\, tarkempi päivämäärä ilmoitetaan toukokuun aikana! \n  \nPaikka: Tiedepuiston kampus (Tiedepuisto 3\, 28600 Pori) \nAika: Siirretään syksyyn 2019\, uusi päivämäärä tarkentuu toukokuun aikana! \n Ilmoittautuminen: https://www.bit.ly/2UodO8G \n  \nIlmoittaudu viimeistään 26.4.2019. Tilaisuuteen mahtuu rajallinen määrä osallistujia ilmoittautumisjärjestyksessä. Tilaisuus on maksuton\, mutta matkakuluista osallistujat vastaavat itse. \n  \nMiten työpaikkaohjaajan ja opettajan yhteistyö tukee opiskelijaa? \nMiten toteutamme opiskelijan työsuojelua työpaikalla? \nTule keskustelemaan\,  oppimaan uutta ja hakemaan  uunituoreet työkalut käyttöösi! \n  \nTervetuloa mukaan yhteisen keskustelun areenalle! työelämän edustajat\, luottamusmiehet\, työsuojeluvaltuutetut\, työpaikkaohjaajat oppilaitoksen edustajat ja opiskelijat kaikki työelämässä oppimisesta kiinnostuneet. \n  \nOhjelma \nklo 11.00–12.00 Lounas opiskelijaravintola Wilkkaassa  ja tutustuminen ständeihin \nklo 12.00–12.10 Tervetulosanat \n\nhenkilöstöpäällikkö Elisa Vahteristo\, WinNova\n\nklo 12.10–13.00  Alustuspuheenvuorot \n\nKentältä kuultua – työelämässä oppiminen tuoreiden selvitysten valossa\, hankepäällikkö Ilkka Vuorikuru\, Työväen Sivistysliitto TSL\nUusi opettajuus ammatillisessa koulutuksessa \, lehtori Jiri Vilppola\, Tampereen ammattikorkeakoulu TAMK\n\nklo 13.00–13.15 Ohjeistus työpajoihin ja siirtyminen \nklo 13.15–15.00 \nTyöpajat \n\nOpiskelijan työturvallisuus – Opiskelijan erilaiset työsuojelutilanteet ja työtehtävien rajaaminen\nToimintamallit ja menetelmät oppimisen tukena – Yhteistä kehittämistä ja toimintamallien ja hyvien käytäntöjen jakamista\nTyöelämässä oppimisen palveluprosessi työelämän näkökulmasta – Tavoitteena vastavuoroinen kumppanuus\n\nklo 15.00–15.30 Iltapäiväkahvi ja työpajojen koonti \n\nPäätössanat rehtori Juha Vasama\, WinNova\n\n  \nTapahtuman ohjelma (pdf) \n  \nLisätietoa: \n\nprojektipäällikkö Tamara Palmros-Aalto\, tamara.palmros-aalto@winnova.fi\,  044 4558 274\nhankepäällikkö Ilkka Vuorikuru\, ilkka.vuorikuru@tsl.fi\, 040 457 0734\n\n 
URL:https://blogit.gradia.fi/parasta_osaamista/event/parhaita-osaajia-tyoelamaan-satakunnassa-tyoelamafoorumi/
LOCATION:Tiedepuiston kampus\, Tiedepuisto 3\, Pori
CATEGORIES:Koulutuskokeilut,Parasta osaamista
ATTACH;FMTTYPE=image/jpeg:https://blogit.gradia.fi/parasta_osaamista/wp-content/uploads/sites/20/2018/10/3_Uudenlaiset-oppimisen-tavat-ja-mahdollisuudet_450.jpg
END:VEVENT
END:VCALENDAR