BEGIN:VCALENDAR
VERSION:2.0
PRODID:-//Parasta osaamista - ECPv6.15.20//NONSGML v1.0//EN
CALSCALE:GREGORIAN
METHOD:PUBLISH
X-WR-CALNAME:Parasta osaamista
X-ORIGINAL-URL:https://blogit.gradia.fi/parasta_osaamista
X-WR-CALDESC:Tapahtumat Parasta osaamista
REFRESH-INTERVAL;VALUE=DURATION:PT1H
X-Robots-Tag:noindex
X-PUBLISHED-TTL:PT1H
BEGIN:VTIMEZONE
TZID:Europe/Helsinki
BEGIN:DAYLIGHT
TZOFFSETFROM:+0200
TZOFFSETTO:+0300
TZNAME:EEST
DTSTART:20180325T010000
END:DAYLIGHT
BEGIN:STANDARD
TZOFFSETFROM:+0300
TZOFFSETTO:+0200
TZNAME:EET
DTSTART:20181028T010000
END:STANDARD
BEGIN:DAYLIGHT
TZOFFSETFROM:+0200
TZOFFSETTO:+0300
TZNAME:EEST
DTSTART:20190331T010000
END:DAYLIGHT
BEGIN:STANDARD
TZOFFSETFROM:+0300
TZOFFSETTO:+0200
TZNAME:EET
DTSTART:20191027T010000
END:STANDARD
BEGIN:DAYLIGHT
TZOFFSETFROM:+0200
TZOFFSETTO:+0300
TZNAME:EEST
DTSTART:20200329T010000
END:DAYLIGHT
BEGIN:STANDARD
TZOFFSETFROM:+0300
TZOFFSETTO:+0200
TZNAME:EET
DTSTART:20201025T010000
END:STANDARD
END:VTIMEZONE
BEGIN:VEVENT
DTSTART;TZID=Europe/Helsinki:20190417T120000
DTEND;TZID=Europe/Helsinki:20190417T150000
DTSTAMP:20260420T204016
CREATED:20190130T084546Z
LAST-MODIFIED:20190131T104249Z
UID:1602-1555502400-1555513200@blogit.gradia.fi
SUMMARY:Digiapua lukemisen ja kirjoittamisen tukemiseen sekä monikanavaiseen oppimiseen
DESCRIPTION:Tule perehtymään helppokäyttöisiin digitaalisiin menetelmiin ja välinesiin työpajatyöskentelyssä. Koulutuksessa huomioidaan erityistä tukea tarvitsevien opiskelijoiden ohjauksen ja tuen tarpeita.\nOta mukaasi oma kannettava/tablettitietokone\, jolla työskentelet päivän aikana. \n  \nAjankohta \nke 17.4.2019 klo 12.00 – 15.00 \nPaikka \nHaaga-Helia Ammatillinen opettajakorkeakoulu\, Ratapihantie 13\, Helsinki\, tila 8209\, 8. kerros. \nTavoite  \nPerehdytään yhdessä helppokäyttöisiin tietoteknisiin oppimisen menetelmiin ja välineisiin. Koulutus on tarkoitettu ammatillisen koulutuksen henkilöstölle. \nToteutus  \nTyöpajatoiminta. Tapahtuma on maksuton. Ryhmäkoko on 20 osallistujaa. \n  \nOhjelma  \n12.00-13.00 Erilainen oppiminen ja oppimisen tuen välineet\, Helppokäyttötoiminnot tutuksi \n13.00-13.30 Kahvitauko ja siirtyminen työpajoihin\n13.30-15.00 Työpajatyöskentelyä \nValitse työpaja ilmoittautumisen yhteydessä (10 henkilöä/työpaja). \nTYÖPAJA 1: Lukemisen ja kirjoittamisen tietotekniset apuvälineet\nTYÖPAJA 2: Monikanavaisuus \n  \nIlmoittautuminen Parasta osaamista sivuston kautta: blogit.jao.fi/parasta_osaamista tai tästä linkistä ke 10.4.2019 mennessä. \n  \nLisätietoa  \nMaiju Kangasaho maiju.kangasaho@haaga-helia.fi puh. 040 5447 336\nEija Honkanen Eija.honkanen@haaga-helia.fi 040 4887 386
URL:https://blogit.gradia.fi/parasta_osaamista/event/digiapua-lukemisen-ja-kirjoittamisen-tukemiseen-seka-monikanavaiseen-oppimiseen-2/
LOCATION:Haaga-Helian ammatillinen opettajakorkeakoulu\, Ratapihankatu 13\, Helsinki\, 00520\, Suomi
CATEGORIES:Koulutuskokeilut,Parasta digiosaamista,Parasta digitukea
ATTACH;FMTTYPE=image/jpeg:https://blogit.gradia.fi/parasta_osaamista/wp-content/uploads/sites/20/2018/10/1_HOKS_450.jpg
END:VEVENT
BEGIN:VEVENT
DTSTART;TZID=Europe/Helsinki:20190417T130000
DTEND;TZID=Europe/Helsinki:20190417T140000
DTSTAMP:20260420T204016
CREATED:20190401T114140Z
LAST-MODIFIED:20190402T072703Z
UID:2446-1555506000-1555509600@blogit.gradia.fi
SUMMARY:Työelämässä oppimisen muistilistat ja työpaikkaohjaajan perehdyttäminen
DESCRIPTION:Työelämässä oppimisen muistilistat opiskelijalle\, työpaikkaohjaajalle ja opettajalle tukevat oppimisen suunnittelua\, ohjausta\, palautetta ja urasuunnittelua tavoitteiden saavuttamiseksi. \nOta muistilistat käyttöön! Tulostettuna tai sähköisenä. Löydät ne tästä linkistä: Työelämässä oppimisen muistilistat \n  \nTarkistuslista opettajalle työpaikkaohjaajan perehdyttämiseen. Tarkistuslista työelämässä oppimista ohjaavalle opettajalle sisältää asiat\, jotka työpaikkaohjaajan ja opiskelijan kanssa tulee keskustella ja sopia. Tarkistuslistaan on liitetty inforuudut\, joissa kuvataan\, mitä eri vaiheissa tulee huomioida. Löydät tarkistuslistan tästä linkistä: Tarkistuslista opettajalle  työpaikkaohjaajan perehdyttämiseen \n  \nAika: 17.4.2019 klo 13 – 14 \nPaikka: Skype for business\, Liity Skype-kokoukseen  \n  \nLisätietoja: \nEeva.Hellsten@omnia.fi \npuh. 050 356 0603 \n 
URL:https://blogit.gradia.fi/parasta_osaamista/event/tyoelamassa-oppimisen-muistilistat-ja-tyopaikkaohjaajan-perehdyttaminen/
CATEGORIES:Koulutuskokeilut,Parasta osaamista
ATTACH;FMTTYPE=image/jpeg:https://blogit.gradia.fi/parasta_osaamista/wp-content/uploads/sites/20/2018/10/3_Uudenlaiset-oppimisen-tavat-ja-mahdollisuudet_450.jpg
END:VEVENT
END:VCALENDAR