BEGIN:VCALENDAR
VERSION:2.0
PRODID:-//Parasta osaamista - ECPv6.15.20//NONSGML v1.0//EN
CALSCALE:GREGORIAN
METHOD:PUBLISH
X-WR-CALNAME:Parasta osaamista
X-ORIGINAL-URL:https://blogit.gradia.fi/parasta_osaamista
X-WR-CALDESC:Tapahtumat Parasta osaamista
REFRESH-INTERVAL;VALUE=DURATION:PT1H
X-Robots-Tag:noindex
X-PUBLISHED-TTL:PT1H
BEGIN:VTIMEZONE
TZID:Europe/Helsinki
BEGIN:DAYLIGHT
TZOFFSETFROM:+0200
TZOFFSETTO:+0300
TZNAME:EEST
DTSTART:20180325T010000
END:DAYLIGHT
BEGIN:STANDARD
TZOFFSETFROM:+0300
TZOFFSETTO:+0200
TZNAME:EET
DTSTART:20181028T010000
END:STANDARD
BEGIN:DAYLIGHT
TZOFFSETFROM:+0200
TZOFFSETTO:+0300
TZNAME:EEST
DTSTART:20190331T010000
END:DAYLIGHT
BEGIN:STANDARD
TZOFFSETFROM:+0300
TZOFFSETTO:+0200
TZNAME:EET
DTSTART:20191027T010000
END:STANDARD
BEGIN:DAYLIGHT
TZOFFSETFROM:+0200
TZOFFSETTO:+0300
TZNAME:EEST
DTSTART:20200329T010000
END:DAYLIGHT
BEGIN:STANDARD
TZOFFSETFROM:+0300
TZOFFSETTO:+0200
TZNAME:EET
DTSTART:20201025T010000
END:STANDARD
END:VTIMEZONE
BEGIN:VEVENT
DTSTART;TZID=Europe/Helsinki:20190404T141500
DTEND;TZID=Europe/Helsinki:20190405T154500
DTSTAMP:20260420T204118
CREATED:20190220T080538Z
LAST-MODIFIED:20190319T061207Z
UID:1863-1554387300-1554479100@blogit.gradia.fi
SUMMARY:Ryhmä täynnä: Digiosaamista ammatillisille opettajille
DESCRIPTION:Mitä lisäarvoa digitaaliset sovellukset tuovat oppimiseen? Miten mobiililaitteilla voi tehostaa ohjauksen saatavuutta? Miten verkko-opetuksesta saa opiskelijoita innostavaa? Jos koet olevasi vasta-alkaja  näissä digiasioissa\, on tämä koulutus tarkoitettu juuri sinulle. Tule mukaan 6 webinaarin sarjaan\, jotka pidetään torstaisin klo 14.15-15.45 verkossa. Niissä käsitellään alla olevia teemoja ja harjoitellaan yhdessä digitaalisia sovelluksia. Saat lisäksi käyttöösi ohjeaineiston\, jossa on linkkejä ja ideoita itsenäiseen opiskeluun ja joka toimii muistintukena sovellusten harjoittelussa. Omia kokeiluja jaetaan yhteisellä oppimisalustalla\, ja näin pääset keskustelemaan kollegoiden kanssa myös webinaarien välillä. Lisäksi voit hakea osaamismerkkejä koulutuksen teemoista. \n  \n4.4. 2019 Henkilökohtaiset oppimisympäristöt ja mobiilioppiminen  \nMitä mahdollisuuksia ja haasteita digitaalisuus luo opettajalle ja opiskelijalle? Miten valitset oikeat välineet oikeaan käyttötarkoitukseen? Mitä ovat henkilökohtaiset oppimisympäristöt ja miten sinä voisit hyödyntää niitä tämän koulutuksen aikana? Voit hakea osaamismerkkiä: Henkilökohtaiset oppimisympäristöt. \n25.4. 2019 Verkko-oppimisen pedagogiset mallit \nMikä tekee verkko-opetuksesta ja -oppimisesta erityistä? Millaisia toteuttamismalleja voit käyttää verkkokoulutuksissa? Miten visualisoit verkko-oppimisen prosesseja? Miten sitoutat opiskelijat työskentelyyn verkossa? Voit hakea osaamismerkkiä: Verkko-oppimisen mallit. \n16.5. 2019 Digitaaliset oppimateriaalit  \nMiten yhdistelet oppimateriaaliin erilaisia teksti-\, kuva-\, ääni- ja videoaineistoja? Miten suunnittelet opiskelijoita innostavia opetus-ja ohjevideoita tai animaatioita? Millaisilla sovelluksilla jaat aineistoja? Miten tekijänoikeudet säätelevät aineistojen tuottamista? Voit hakea osaamismerkkiä: Digitaaliset oppimateriaalit ja Mobiilivideot. \n19.9. 2019 Opiskelijoiden aktivointi ja ohjaus\n \nMiten kartoitat opiskelijoiden ennakkokäsityksiä\, mielipiteitä ja kokemuksia? Millaiset sovellukset sopivat palautteen antoon? Miten opiskelijat voivat tehdä näkyväksi omaa osaamistaan digitaalisten välineiden avulla? Voit hakea osaamismerkkiä: Digiohjaus ja oppimisen arviointi. \n3.10. 2019 Yhteinen tiedon tuottaminen ja jakaminen\n \nMitä on vertaisoppiminen? Miten mahdollistat yksilöllisen ja yhdessä oppimisen verkkoopinnoissa? Miten käytät interaktiivisia sovelluksia ja yhteisöpalveluita verkko-oppimisen tukena? Voit hakea osaamismerkkiä: Yhteisölliset työkalut. \n7.11. 2019 Vuorovaikutteiset webinaarit osana verkko-opetusta\n \nMillainen on hyvä webinaari? Milloin tarvitaan verkkotapaamisia\, milloin riittää itsenäinen aineistojen opiskelu? Miten ohjaat opiskelijoita valmistautumaan webinaariin? Miten aktivoit opiskelijoita webinaarin aikana ja sen jälkeen? Voit hakea osaamismerkkiä: Vuorovaikutteiset webinaarit. \nIlmoittautuminen 25.3.2019 mennessä tämän linkin kautta. Ryhmä täynnä\, ilmoittautuminen on päättynyt. \nKouluttaja: Yliopettaja Katri Aaltonen\, katri.aaltonen@haaga-helia.fi\, puh. 040 488 7523. \n 
URL:https://blogit.gradia.fi/parasta_osaamista/event/digiosaamista-ammatillisille-opettajille/
LOCATION:Webinaari
CATEGORIES:Koulutuskokeilut,Parasta digiohjausta,Parasta osaamista
ATTACH;FMTTYPE=image/jpeg:https://blogit.gradia.fi/parasta_osaamista/wp-content/uploads/sites/20/2018/10/4_Oman-työn-johtaminen_450.jpg
END:VEVENT
END:VCALENDAR