BEGIN:VCALENDAR
VERSION:2.0
PRODID:-//Parasta osaamista - ECPv6.15.20//NONSGML v1.0//EN
CALSCALE:GREGORIAN
METHOD:PUBLISH
X-WR-CALNAME:Parasta osaamista
X-ORIGINAL-URL:https://blogit.gradia.fi/parasta_osaamista
X-WR-CALDESC:Tapahtumat Parasta osaamista
REFRESH-INTERVAL;VALUE=DURATION:PT1H
X-Robots-Tag:noindex
X-PUBLISHED-TTL:PT1H
BEGIN:VTIMEZONE
TZID:Europe/Helsinki
BEGIN:DAYLIGHT
TZOFFSETFROM:+0200
TZOFFSETTO:+0300
TZNAME:EEST
DTSTART:20180325T010000
END:DAYLIGHT
BEGIN:STANDARD
TZOFFSETFROM:+0300
TZOFFSETTO:+0200
TZNAME:EET
DTSTART:20181028T010000
END:STANDARD
BEGIN:DAYLIGHT
TZOFFSETFROM:+0200
TZOFFSETTO:+0300
TZNAME:EEST
DTSTART:20190331T010000
END:DAYLIGHT
BEGIN:STANDARD
TZOFFSETFROM:+0300
TZOFFSETTO:+0200
TZNAME:EET
DTSTART:20191027T010000
END:STANDARD
BEGIN:DAYLIGHT
TZOFFSETFROM:+0200
TZOFFSETTO:+0300
TZNAME:EEST
DTSTART:20200329T010000
END:DAYLIGHT
BEGIN:STANDARD
TZOFFSETFROM:+0300
TZOFFSETTO:+0200
TZNAME:EET
DTSTART:20201025T010000
END:STANDARD
END:VTIMEZONE
BEGIN:VEVENT
DTSTART;TZID=Europe/Helsinki:20190327T133000
DTEND;TZID=Europe/Helsinki:20190327T160000
DTSTAMP:20260420T190112
CREATED:20190208T120933Z
LAST-MODIFIED:20190212T084339Z
UID:1647-1553693400-1553702400@blogit.gradia.fi
SUMMARY:Ammatillista koulutusta ohjaavat säädökset
DESCRIPTION:Parasta osaamista webinaari \nAmmatillisen koulutuksen lainsäädäntö on muuttanut monin eri tavoin koulutuksen järjestämistä ja toteuttamista. Verkossa toteutettavassa tietopajassa kerrataan ammatillisen koulutuksen lainsäädäntöä ja saatavilla olevia tukimateriaaleja. Tietopajassa perehdytään muutosten vaikutuksiin opetus- ja ohjaushenkilöstön näkökulmasta ja asioita käsitellään erityisesti osallistujien esittämien ennakkokysymysten pohjalta. \n  \nAikataulu  \n27.3.2019\, klo 13.30-16 \n6.9.2019\, klo 8-10 \nToteutus verkossa \n Ilmoittautuminen: https://link.webropolsurveys.com/S/FF9D63F3271F775C \n  \nKouluttajat ja lisätietoja:  \nPäivi Kilja\, lehtori\, paivi.kilja@oamk.fi \nUlla Mäntykangas\, tuntiopettaja\, ulla.mantykangas@oamk.fi \nOAMK Ammatillinen opettajankorkeakoulu
URL:https://blogit.gradia.fi/parasta_osaamista/event/ammatillista-koulutusta-ohjaavat-saadokset/
CATEGORIES:Koulutuskokeilut,Parasta osaamista
ATTACH;FMTTYPE=image/jpeg:https://blogit.gradia.fi/parasta_osaamista/wp-content/uploads/sites/20/2018/10/4_Oman-työn-johtaminen_450.jpg
END:VEVENT
END:VCALENDAR