BEGIN:VCALENDAR
VERSION:2.0
PRODID:-//Parasta osaamista - ECPv6.15.20//NONSGML v1.0//EN
CALSCALE:GREGORIAN
METHOD:PUBLISH
X-ORIGINAL-URL:https://blogit.gradia.fi/parasta_osaamista
X-WR-CALDESC:Tapahtumat Parasta osaamista
REFRESH-INTERVAL;VALUE=DURATION:PT1H
X-Robots-Tag:noindex
X-PUBLISHED-TTL:PT1H
BEGIN:VTIMEZONE
TZID:Europe/Helsinki
BEGIN:DAYLIGHT
TZOFFSETFROM:+0200
TZOFFSETTO:+0300
TZNAME:EEST
DTSTART:20180325T010000
END:DAYLIGHT
BEGIN:STANDARD
TZOFFSETFROM:+0300
TZOFFSETTO:+0200
TZNAME:EET
DTSTART:20181028T010000
END:STANDARD
BEGIN:DAYLIGHT
TZOFFSETFROM:+0200
TZOFFSETTO:+0300
TZNAME:EEST
DTSTART:20190331T010000
END:DAYLIGHT
BEGIN:STANDARD
TZOFFSETFROM:+0300
TZOFFSETTO:+0200
TZNAME:EET
DTSTART:20191027T010000
END:STANDARD
BEGIN:DAYLIGHT
TZOFFSETFROM:+0200
TZOFFSETTO:+0300
TZNAME:EEST
DTSTART:20200329T010000
END:DAYLIGHT
BEGIN:STANDARD
TZOFFSETFROM:+0300
TZOFFSETTO:+0200
TZNAME:EET
DTSTART:20201025T010000
END:STANDARD
END:VTIMEZONE
BEGIN:VEVENT
DTSTART;TZID=Europe/Helsinki:20190321T120000
DTEND;TZID=Europe/Helsinki:20190321T160000
DTSTAMP:20260420T191635
CREATED:20190212T083958Z
LAST-MODIFIED:20190212T085754Z
UID:1662-1553169600-1553184000@blogit.gradia.fi
SUMMARY:Ohjaava ja valmentava opettajuus henkilökohtaistamisessa
DESCRIPTION:Parasta osaamista työpajassa käsitellään muun muassa seuraavia aiheita: \n\nhenkilökohtaistaminen prosessina\nhenkilökohtaistamisen taito\nHOKS-ohjauksen hyvät käytännöt ja haasteet\nennakointitieto henkilökohtaistamisessa\n\nTyöpajassa pohditaan opiskelijan yksilöllisiä lähtökohtia ja osallisuuden merkitystä henkilökohtaistamisessa ja sitä\, miten opettajana ja ohjaajana voi kehittyä henkilökohtaistajana. \n  \nAika ja paikka\, 21.3.2019 klo 12-16\, Raahe \nIlmoittautuminen: https://link.webropolsurveys.com/S/C2B431B2BD15ED8A \n  \n  \nKouluttajat ja lisätietoja:  \nPäivi Kilja\, lehtori\, paivi.kilja@oamk.fi \nUlla Mäntykangas\, tuntiopettaja\, ulla.mantykangas@oamk.fi \nOAMK Ammatillinen opettajankorkeakoulu
URL:https://blogit.gradia.fi/parasta_osaamista/event/ohjaava-ja-valmentava-opettajuus-henkilokohtaistamisessa/
LOCATION:Raahe
CATEGORIES:Koulutuskokeilut,Parasta osaamista
ATTACH;FMTTYPE=image/jpeg:https://blogit.gradia.fi/parasta_osaamista/wp-content/uploads/sites/20/2018/10/1_HOKS_450.jpg
END:VEVENT
END:VCALENDAR