BEGIN:VCALENDAR
VERSION:2.0
PRODID:-//Parasta osaamista - ECPv6.15.20//NONSGML v1.0//EN
CALSCALE:GREGORIAN
METHOD:PUBLISH
X-ORIGINAL-URL:https://blogit.gradia.fi/parasta_osaamista
X-WR-CALDESC:Tapahtumat Parasta osaamista
REFRESH-INTERVAL;VALUE=DURATION:PT1H
X-Robots-Tag:noindex
X-PUBLISHED-TTL:PT1H
BEGIN:VTIMEZONE
TZID:Europe/Helsinki
BEGIN:DAYLIGHT
TZOFFSETFROM:+0200
TZOFFSETTO:+0300
TZNAME:EEST
DTSTART:20180325T010000
END:DAYLIGHT
BEGIN:STANDARD
TZOFFSETFROM:+0300
TZOFFSETTO:+0200
TZNAME:EET
DTSTART:20181028T010000
END:STANDARD
BEGIN:DAYLIGHT
TZOFFSETFROM:+0200
TZOFFSETTO:+0300
TZNAME:EEST
DTSTART:20190331T010000
END:DAYLIGHT
BEGIN:STANDARD
TZOFFSETFROM:+0300
TZOFFSETTO:+0200
TZNAME:EET
DTSTART:20191027T010000
END:STANDARD
BEGIN:DAYLIGHT
TZOFFSETFROM:+0200
TZOFFSETTO:+0300
TZNAME:EEST
DTSTART:20200329T010000
END:DAYLIGHT
BEGIN:STANDARD
TZOFFSETFROM:+0300
TZOFFSETTO:+0200
TZNAME:EET
DTSTART:20201025T010000
END:STANDARD
END:VTIMEZONE
BEGIN:VEVENT
DTSTART;TZID=Europe/Helsinki:20190319T080000
DTEND;TZID=Europe/Helsinki:20190319T103000
DTSTAMP:20260420T190116
CREATED:20190307T061454Z
LAST-MODIFIED:20190307T061454Z
UID:2169-1552982400-1552991400@blogit.gradia.fi
SUMMARY:Kelpoisuudet ja osaamisen hallinta Ilmavoimien näkökulmasta - aamukahvit
DESCRIPTION:Maaliskuussa meille järjestyi erityismahdollisuus päästä tutustumaan Satakunnan lennoston toimintaan\, koneisiin ja osaamisen kehittämisen kannalta Ilmavoimien rekrytointiajatteluun\, ja tietysti sotilaskotiin kahville. \n  \nKokoonnumme siis aamukahveille tiistaina 19.3.2019 klo 8.00-10.30 (huom. aika!)\, paikkana Satakunnan Lennosto\, Pirkkala; teemana ”Kelpoisuudet ja osaamisen hallinta Ilmavoimien näkökulmasta”. \nTilaisuutta johtaa ja ohjaa esikuntapäällikkö\, everstiluutnantti Mika Hakanen ja hän on lupautunut esittelemään toimintaa. \n  \nIlmoittautumislomakkeella joudumme kysymään syntymäajan (loppuosaa ei tarvita)\, jotta pääsemme alueelle sisään. Tiedot hävitetään välittömästi tilaisuuden jälkeen. \nIlmoittaudu siis mukaan https://lomake.tamk.fi/lomakkeet/28035/lomake.html \n  \nLisätietoja: Annukka Tapani\, Yliopettaja\, projektipäällikkö (Parasta osaamista – verkostohanke)\, 050 4072580\, annukka.tapani@tuni.fi
URL:https://blogit.gradia.fi/parasta_osaamista/event/kelpoisuudet-ja-osaamisen-hallinta-ilmavoimien-nakokulmasta-aamukahvit/
CATEGORIES:Koulutuskokeilut,Parasta osaamista
ATTACH;FMTTYPE=image/jpeg:https://blogit.gradia.fi/parasta_osaamista/wp-content/uploads/sites/20/2018/10/4_Oman-työn-johtaminen_450.jpg
END:VEVENT
END:VCALENDAR