BEGIN:VCALENDAR
VERSION:2.0
PRODID:-//Parasta osaamista - ECPv6.15.20//NONSGML v1.0//EN
CALSCALE:GREGORIAN
METHOD:PUBLISH
X-WR-CALNAME:Parasta osaamista
X-ORIGINAL-URL:https://blogit.gradia.fi/parasta_osaamista
X-WR-CALDESC:Tapahtumat Parasta osaamista
REFRESH-INTERVAL;VALUE=DURATION:PT1H
X-Robots-Tag:noindex
X-PUBLISHED-TTL:PT1H
BEGIN:VTIMEZONE
TZID:Europe/Helsinki
BEGIN:DAYLIGHT
TZOFFSETFROM:+0200
TZOFFSETTO:+0300
TZNAME:EEST
DTSTART:20180325T010000
END:DAYLIGHT
BEGIN:STANDARD
TZOFFSETFROM:+0300
TZOFFSETTO:+0200
TZNAME:EET
DTSTART:20181028T010000
END:STANDARD
BEGIN:DAYLIGHT
TZOFFSETFROM:+0200
TZOFFSETTO:+0300
TZNAME:EEST
DTSTART:20190331T010000
END:DAYLIGHT
BEGIN:STANDARD
TZOFFSETFROM:+0300
TZOFFSETTO:+0200
TZNAME:EET
DTSTART:20191027T010000
END:STANDARD
BEGIN:DAYLIGHT
TZOFFSETFROM:+0200
TZOFFSETTO:+0300
TZNAME:EEST
DTSTART:20200329T010000
END:DAYLIGHT
BEGIN:STANDARD
TZOFFSETFROM:+0300
TZOFFSETTO:+0200
TZNAME:EET
DTSTART:20201025T010000
END:STANDARD
END:VTIMEZONE
BEGIN:VEVENT
DTSTART;TZID=Europe/Helsinki:20190318T140000
DTEND;TZID=Europe/Helsinki:20190318T150000
DTSTAMP:20260420T204144
CREATED:20190108T091102Z
LAST-MODIFIED:20190313T120650Z
UID:1352-1552917600-1552921200@blogit.gradia.fi
SUMMARY:PERUTTU: Henkilökohtaistaminen ja ohjaus
DESCRIPTION:Tavoitteena on\, että osallistujat kehittyvät henkilökohtaistajina ja henkilökohtaisen osaamisen kehittymissuunnitelman ohjaajina. \nIlmoittautumiset 28.2.2019 mennessä: https://www.webropolsurveys.com/S/CAE1DBF8716C1EF7.par \nPaikka: Kajaani \nSisältö\, toteutus\, aikataulu \n1.Orientoiva aloitus 18.3.2019\, klo 14.00-15.00 (webinaari) \n\n   Perustan ja yhteisen käsityksen luominen toteutuksesta\n   Osallistujien henkilökohtaiset tavoittee\n\n2. Välitehtävä \n3.Lähitapaaminen 28.3.2019\, klo 13.00-16.00 \n\nMitä henkilökohtaistaminen tarkoittaa arjen tekoina\,\nHenkilökohtaistaminen prosessina\, koulutuksen järjestäjän prosessi\n Ohjattavan uratavoitteet\n Asiakkuusajattelu henkilökohtaistamisessa\n\n4. HOKS- ohjaaminen arjessa \nKäytännön työn jakso\, jonka aikana koulutukseen osallistuja ohjaa opiskelijoiden henkilökohtaisten osaamisen kehittämissuunnitelmien tekemistä ja päivittämistä. Lisäksi hän tutustuu jonkun toisen alan opettajan tekemään HOKS-ohjaustyöhön vertaisoppimisen näkökulmasta. \nOhjausta sovitusti verkossa tai paikan päällä. \n5. Lähitapaaminen klo 20.5.2018 klo 13.00-16.00 \n\nReflektointi\nVertaiskeskustelut\nMiten olen kehittynyt henkilökohtaistajana? Osaamisen vertaisarviointia käytännön esimerkkien kautta.\n\n  \nLisätietoja\nPäivi Kilja\, puh. 040 1415157\, paivi.kilja@oamk.fi \n  \n  \n 
URL:https://blogit.gradia.fi/parasta_osaamista/event/henkilokohtaistaminen-ja-ohjaus-2/
LOCATION:Kajaani
CATEGORIES:Parasta osaamista
ATTACH;FMTTYPE=image/jpeg:https://blogit.gradia.fi/parasta_osaamista/wp-content/uploads/sites/20/2018/10/2_Opiskelijan-arviointi-e1540369620106.jpg
END:VEVENT
END:VCALENDAR