BEGIN:VCALENDAR
VERSION:2.0
PRODID:-//Parasta osaamista - ECPv6.15.20//NONSGML v1.0//EN
CALSCALE:GREGORIAN
METHOD:PUBLISH
X-WR-CALNAME:Parasta osaamista
X-ORIGINAL-URL:https://blogit.gradia.fi/parasta_osaamista
X-WR-CALDESC:Tapahtumat Parasta osaamista
REFRESH-INTERVAL;VALUE=DURATION:PT1H
X-Robots-Tag:noindex
X-PUBLISHED-TTL:PT1H
BEGIN:VTIMEZONE
TZID:Europe/Helsinki
BEGIN:DAYLIGHT
TZOFFSETFROM:+0200
TZOFFSETTO:+0300
TZNAME:EEST
DTSTART:20180325T010000
END:DAYLIGHT
BEGIN:STANDARD
TZOFFSETFROM:+0300
TZOFFSETTO:+0200
TZNAME:EET
DTSTART:20181028T010000
END:STANDARD
BEGIN:DAYLIGHT
TZOFFSETFROM:+0200
TZOFFSETTO:+0300
TZNAME:EEST
DTSTART:20190331T010000
END:DAYLIGHT
BEGIN:STANDARD
TZOFFSETFROM:+0300
TZOFFSETTO:+0200
TZNAME:EET
DTSTART:20191027T010000
END:STANDARD
BEGIN:DAYLIGHT
TZOFFSETFROM:+0200
TZOFFSETTO:+0300
TZNAME:EEST
DTSTART:20200329T010000
END:DAYLIGHT
BEGIN:STANDARD
TZOFFSETFROM:+0300
TZOFFSETTO:+0200
TZNAME:EET
DTSTART:20201025T010000
END:STANDARD
END:VTIMEZONE
BEGIN:VEVENT
DTSTART;TZID=Europe/Helsinki:20190313T123000
DTEND;TZID=Europe/Helsinki:20190313T153000
DTSTAMP:20260420T190111
CREATED:20190226T054433Z
LAST-MODIFIED:20190226T130416Z
UID:2023-1552480200-1552491000@blogit.gradia.fi
SUMMARY:Parasta osaamista -verkostohankkeen työkalut ja toimintamallit käyttöösi
DESCRIPTION:Tule hakemaan työkaluja ja keskustelemaan arvioinnista\, työelämässä oppimisesta\, työpaikkaohjaajien perehdyttämisestä ja yrittäjyydestä  \n  \nParasta osaamista -verkostohankkeessa on tuotettu oppilaitosten yhteistyönä useita erilaisia työkaluja ja toimintamalleja työsi tueksi. Nämä otetaan valtakunnallisesti käyttöön OKM:n ohjeistuksen mukaisesti. Parasta palvelua -hanke on mukana esittelemässä kriittisiä pisteitä työelämän näkökulmasta. \n  \nTule keskustelemaan ja vaihtamaan ajatuksia hankkeen tuotoksista ja ajankohtaisista asioista. \n  \nPajat alkavat puolen tunnin välein (12.30\, 13.00\, 13.30\, 14\,00\, 14.30\,15.00). Voit valita kiinnostuksesi mukaan\, mihin pajaan osallistut ja missä järjestyksessä. \n  \nTyöpajat: \n\nTyöpaikkaohjaajien perehdytys / Työelämässä oppimisen muistilistat\nArviointioppaat – Näin arvioit osaamista näytössä\nOsaamisen hankkiminen työelämässä\, Joustavat opintopolut\nYrittäjyys\nParasta palvelua hanke: Työelämässä oppimisen kriittiset pisteet\n\n  \nAika ja paikka: keskiviikko 13.3.2019 klo 12.30-15.30 Omnia\, Espoon keskus \nTilat: 1126 (kaksi pajaa)\, 1125\, 1124\, 1123 \nPajat alkavat puolen tunnin välein ja kestävät noin 20 min \nOsoite: Kirkkokatu 16 A\, 02770 Espoo \n  \nLisätietoja: \nOmnian Parasta osaamista hankkeen projektipäällikkö Katja Österberg \nkatja.osterberg@omnia.fi\, 040 126 4863 \n 
URL:https://blogit.gradia.fi/parasta_osaamista/event/parasta-osaamista-hankkeen-tyokalut-ja-toimintamallit-kayttoosi/
LOCATION:Omnia\, Kirkkokatu 16 A\, Espoo\, 02770
CATEGORIES:Koulutuskokeilut,Parasta osaamista
ATTACH;FMTTYPE=image/jpeg:https://blogit.gradia.fi/parasta_osaamista/wp-content/uploads/sites/20/2018/10/3_Uudenlaiset-oppimisen-tavat-ja-mahdollisuudet_450.jpg
END:VEVENT
END:VCALENDAR