BEGIN:VCALENDAR
VERSION:2.0
PRODID:-//Parasta osaamista - ECPv6.15.20//NONSGML v1.0//EN
CALSCALE:GREGORIAN
METHOD:PUBLISH
X-WR-CALNAME:Parasta osaamista
X-ORIGINAL-URL:https://blogit.gradia.fi/parasta_osaamista
X-WR-CALDESC:Tapahtumat Parasta osaamista
REFRESH-INTERVAL;VALUE=DURATION:PT1H
X-Robots-Tag:noindex
X-PUBLISHED-TTL:PT1H
BEGIN:VTIMEZONE
TZID:Europe/Helsinki
BEGIN:DAYLIGHT
TZOFFSETFROM:+0200
TZOFFSETTO:+0300
TZNAME:EEST
DTSTART:20180325T010000
END:DAYLIGHT
BEGIN:STANDARD
TZOFFSETFROM:+0300
TZOFFSETTO:+0200
TZNAME:EET
DTSTART:20181028T010000
END:STANDARD
BEGIN:DAYLIGHT
TZOFFSETFROM:+0200
TZOFFSETTO:+0300
TZNAME:EEST
DTSTART:20190331T010000
END:DAYLIGHT
BEGIN:STANDARD
TZOFFSETFROM:+0300
TZOFFSETTO:+0200
TZNAME:EET
DTSTART:20191027T010000
END:STANDARD
BEGIN:DAYLIGHT
TZOFFSETFROM:+0200
TZOFFSETTO:+0300
TZNAME:EEST
DTSTART:20200329T010000
END:DAYLIGHT
BEGIN:STANDARD
TZOFFSETFROM:+0300
TZOFFSETTO:+0200
TZNAME:EET
DTSTART:20201025T010000
END:STANDARD
END:VTIMEZONE
BEGIN:VEVENT
DTSTART;TZID=Europe/Helsinki:20190208T120000
DTEND;TZID=Europe/Helsinki:20190208T150000
DTSTAMP:20260420T170211
CREATED:20190108T083428Z
LAST-MODIFIED:20190108T083428Z
UID:1347-1549627200-1549638000@blogit.gradia.fi
SUMMARY:Osaamisen arvioinnin laadun varmistaminen\, Kaarina
DESCRIPTION:Koulutuksen tavoite \nTavoitteena on varmistaa osaamisen arvioinnin luotettavuus ja kattavuus eri tutkinnoissa sekä edistää koulutuksen järjestäjän tutkinnoittain eriytyvän osaamisen arvioinnin toteuttamissuunnitelman työstämistä ja jalkauttamista. \nKoulutuksen sisältö \nKoulutuksen aikana syvennytään koulutuksen järjestän tutkinnoittain erityviin osaamisen arvioinnin toteuttamissuunnitelmiin (OAT) sekä pohditaan niissä kuvattujen toimintatapojen jalkautumista käytännön arviointitoiminnaksi. Ennakkotehtävänä osallistujien tulee tutustua koulutuksen järjestäjän osaamisen arvioinnin toteuttamissuunnitelman laatimisen ohjeistuksiin ja mahdollisesti jo laadittuihin OAT:iin. Lähipäivät toteutetaan osallistujien tarpeita vastaavalla tavalla. \nAikataulu \nLähitapaamiset \n8.2.2019 klo 12.00 – 15.00\, aiemmin hankitun osaamisen tunnistaminen ja tunnustaminen sekä osaamisen osoittamisen suunnittelu \n15.3.2019 klo 8.15 – 11.00\, osaamisen arvioinnin toteuttaminen ja arvioinnista päättäminen\, arvioinnin uusiminen\, arvosanan korottaminen\, arvioinnin tarkistaminen ja oikaisu\, todistukset \n26.4.2019 klo 8.15 – 11.00\, osaamisen arvioinnin toteuttamissuunnitelmien tarkastelua vertaistyöskentelynä \nPaikka\nTuorlantie 1\, Kaarina\, LIVIA. \nIlmoittautumiset\nRyhmään mahtuu 40 ensimmäistä ilmoittautunutta. Ilmoittautumiset viimeistään 28.1.2019 \nIlmoittauumislinkki: https://link.webropolsurveys.com/S/027E0C1A019FE5A7 \nLisätietoja\nTomi Raitanen\, tomi.raitanen@hamk.fi\, 050 4009189 \nSusanna Löf\, susanna.lof@haaga-helia.fi. p. 040 488 7083
URL:https://blogit.gradia.fi/parasta_osaamista/event/osaamisen-arvioinnin-laadun-varmistaminen-kaarina/
LOCATION:LIVIA\, Tuorlantie 1\, Kaarina
CATEGORIES:Parasta osaamista
ATTACH;FMTTYPE=image/jpeg:https://blogit.gradia.fi/parasta_osaamista/wp-content/uploads/sites/20/2018/10/1_HOKS_450.jpg
END:VEVENT
END:VCALENDAR