BEGIN:VCALENDAR
VERSION:2.0
PRODID:-//Parasta osaamista - ECPv6.15.20//NONSGML v1.0//EN
CALSCALE:GREGORIAN
METHOD:PUBLISH
X-WR-CALNAME:Parasta osaamista
X-ORIGINAL-URL:https://blogit.gradia.fi/parasta_osaamista
X-WR-CALDESC:Tapahtumat Parasta osaamista
REFRESH-INTERVAL;VALUE=DURATION:PT1H
X-Robots-Tag:noindex
X-PUBLISHED-TTL:PT1H
BEGIN:VTIMEZONE
TZID:Europe/Helsinki
BEGIN:DAYLIGHT
TZOFFSETFROM:+0200
TZOFFSETTO:+0300
TZNAME:EEST
DTSTART:20180325T010000
END:DAYLIGHT
BEGIN:STANDARD
TZOFFSETFROM:+0300
TZOFFSETTO:+0200
TZNAME:EET
DTSTART:20181028T010000
END:STANDARD
BEGIN:DAYLIGHT
TZOFFSETFROM:+0200
TZOFFSETTO:+0300
TZNAME:EEST
DTSTART:20190331T010000
END:DAYLIGHT
BEGIN:STANDARD
TZOFFSETFROM:+0300
TZOFFSETTO:+0200
TZNAME:EET
DTSTART:20191027T010000
END:STANDARD
BEGIN:DAYLIGHT
TZOFFSETFROM:+0200
TZOFFSETTO:+0300
TZNAME:EEST
DTSTART:20200329T010000
END:DAYLIGHT
BEGIN:STANDARD
TZOFFSETFROM:+0300
TZOFFSETTO:+0200
TZNAME:EET
DTSTART:20201025T010000
END:STANDARD
END:VTIMEZONE
BEGIN:VEVENT
DTSTART;VALUE=DATE:20190125
DTEND;VALUE=DATE:20190126
DTSTAMP:20260420T151805
CREATED:20181123T114040Z
LAST-MODIFIED:20181123T114040Z
UID:1190-1548374400-1548460799@blogit.gradia.fi
SUMMARY:Educa
DESCRIPTION:Educa – Suomen johtava opetus- ja kasvatusalan tapahtuma\nParasta osaamista yhdessä kaikkien Parasta perheen kehittämisohjelmien kanssa on mukana Educassa 25. – 26.1.2019 Helsingin Messukeskuskuksessa. Tule tapaamaan meitä osastollemme 6f89. Muistathan rekisteröityä tapahtumaan ennakkoon! \nParasta osaamista -verkostohanke \nParasta Palvelua Kehittämisohjelma \nParasta Digiohjausta \nParasta Digitukea
URL:https://blogit.gradia.fi/parasta_osaamista/event/educa/
END:VEVENT
END:VCALENDAR