BEGIN:VCALENDAR
VERSION:2.0
PRODID:-//Parasta osaamista - ECPv6.15.20//NONSGML v1.0//EN
CALSCALE:GREGORIAN
METHOD:PUBLISH
X-WR-CALNAME:Parasta osaamista
X-ORIGINAL-URL:https://blogit.gradia.fi/parasta_osaamista
X-WR-CALDESC:Tapahtumat Parasta osaamista
REFRESH-INTERVAL;VALUE=DURATION:PT1H
X-Robots-Tag:noindex
X-PUBLISHED-TTL:PT1H
BEGIN:VTIMEZONE
TZID:Europe/Helsinki
BEGIN:DAYLIGHT
TZOFFSETFROM:+0200
TZOFFSETTO:+0300
TZNAME:EEST
DTSTART:20180325T010000
END:DAYLIGHT
BEGIN:STANDARD
TZOFFSETFROM:+0300
TZOFFSETTO:+0200
TZNAME:EET
DTSTART:20181028T010000
END:STANDARD
BEGIN:DAYLIGHT
TZOFFSETFROM:+0200
TZOFFSETTO:+0300
TZNAME:EEST
DTSTART:20190331T010000
END:DAYLIGHT
BEGIN:STANDARD
TZOFFSETFROM:+0300
TZOFFSETTO:+0200
TZNAME:EET
DTSTART:20191027T010000
END:STANDARD
BEGIN:DAYLIGHT
TZOFFSETFROM:+0200
TZOFFSETTO:+0300
TZNAME:EEST
DTSTART:20200329T010000
END:DAYLIGHT
BEGIN:STANDARD
TZOFFSETFROM:+0300
TZOFFSETTO:+0200
TZNAME:EET
DTSTART:20201025T010000
END:STANDARD
END:VTIMEZONE
BEGIN:VEVENT
DTSTART;TZID=Europe/Helsinki:20190117T130000
DTEND;TZID=Europe/Helsinki:20190117T160000
DTSTAMP:20260420T151722
CREATED:20181214T120117Z
LAST-MODIFIED:20181217T091355Z
UID:1323-1547730000-1547740800@blogit.gradia.fi
SUMMARY:Yhteisöllisyys pedagogiikan perustana
DESCRIPTION:Tavoitteet ja toteutustapa:\nTavoitteena on tukea ammatillisen koulutuksen opetushenkilöstöä kehittämään ja edistämään tiimityötä sekä verkostoissa toimimista.  Aluksi määritellä yhdessä lähiesimiehen kanssa tarkoituksenmukaiset kehittämistehtävät\, jotka edistävät ammatillisen koulutuksen uudistuksen toimeenpanoa yhteisöllisenä toimintana. Tiimin kehittämistehtäviä työstetään ohjatusti koulutuksen aikana. \nKohderyhmä:\nOpetushenkilöstö\, ryhmäkoko max. 40. Koulutukseen osallistutaan tiiminä/ työryhmänä. \nAjankohta ja keskeiset sisällöt:\nEnnakkotehtävä (toimitetaan osallistujille ilmoittautumisen jälkeen). \n\nNykytila-analyysi ja tahtotila työyhteisön toiminnasta perusteluineen. Mitä tämä vaatii työyhteisöltä ja jokaiselta yksilöltä?\nTiimi/työryhmä valitsee kehittämistehtävän\, joka edistää ammatillisen koulutuksen uudistuksen toimeenpanoa yhteistöllisenä toimintana.\n\n17.1.19 klo 13.00 – 16.00 \n\nKoulutuksen tavoitteet ja sisältö sekä osallistujien toiveet\nTiimiopettajuus ja yhteisöllisyys\nKehittämistehtävien aiheet\nKehittämistehtävien edistäminen\n\n5.2.19 klo 13.00 – 16.00 \n\nTeema osallistujien toiveen ja kehittämistehtävien mukaisesti\nKehittämistehtävien edistäminen\n\n26.3.19 klo 13.00 – 16.00 \n\nTeema osallistujien toiveen ja kehittämistehtävän mukaisesti\nKehittämistehtävien edistäminen\n\n8.5.19 klo 13.00 – 16.00 \n\nKehittämistehtävien esittely ja vertaisarviointi\n\nIlmoittautumiset 8.1.2019 mennessä:\nhttps://link.webropolsurveys.com/S/22947E7254EAF438 \nPaikka:\nSalo\, Salon seudun ammattiopisto \nToteutus:\nKoulutukseen osallistutaan tiiminä ja koulutus toteutetaan prosessimaisesti ennakko- sekä kehittämistehtävineen ja lähitapaamisineen.\nKoulutus on osallistujille maksutonta. \nYhteisöllisyys pedagogiikan perustana (pdf) \nLisätietoja: \nTomi Raitanen p. 050 4009189\, tomi.raitanen@hamk.fi\nSusanna Löf p. 040 4887083\, susanna.lof@haaga-helia.fi
URL:https://blogit.gradia.fi/parasta_osaamista/event/yhteisollisyys-pedagogiikan-perustana/
ATTACH;FMTTYPE=image/jpeg:https://blogit.gradia.fi/parasta_osaamista/wp-content/uploads/sites/20/2018/10/4_Oman-työn-johtaminen_450.jpg
END:VEVENT
END:VCALENDAR