BEGIN:VCALENDAR
VERSION:2.0
PRODID:-//Parasta osaamista - ECPv6.15.20//NONSGML v1.0//EN
CALSCALE:GREGORIAN
METHOD:PUBLISH
X-WR-CALNAME:Parasta osaamista
X-ORIGINAL-URL:https://blogit.gradia.fi/parasta_osaamista
X-WR-CALDESC:Tapahtumat Parasta osaamista
REFRESH-INTERVAL;VALUE=DURATION:PT1H
X-Robots-Tag:noindex
X-PUBLISHED-TTL:PT1H
BEGIN:VTIMEZONE
TZID:Europe/Helsinki
BEGIN:DAYLIGHT
TZOFFSETFROM:+0200
TZOFFSETTO:+0300
TZNAME:EEST
DTSTART:20180325T010000
END:DAYLIGHT
BEGIN:STANDARD
TZOFFSETFROM:+0300
TZOFFSETTO:+0200
TZNAME:EET
DTSTART:20181028T010000
END:STANDARD
BEGIN:DAYLIGHT
TZOFFSETFROM:+0200
TZOFFSETTO:+0300
TZNAME:EEST
DTSTART:20190331T010000
END:DAYLIGHT
BEGIN:STANDARD
TZOFFSETFROM:+0300
TZOFFSETTO:+0200
TZNAME:EET
DTSTART:20191027T010000
END:STANDARD
BEGIN:DAYLIGHT
TZOFFSETFROM:+0200
TZOFFSETTO:+0300
TZNAME:EEST
DTSTART:20200329T010000
END:DAYLIGHT
BEGIN:STANDARD
TZOFFSETFROM:+0300
TZOFFSETTO:+0200
TZNAME:EET
DTSTART:20201025T010000
END:STANDARD
END:VTIMEZONE
BEGIN:VEVENT
DTSTART;TZID=Europe/Helsinki:20190115T140000
DTEND;TZID=Europe/Helsinki:20190115T150000
DTSTAMP:20260420T151904
CREATED:20181120T130544Z
LAST-MODIFIED:20181120T130544Z
UID:1166-1547560800-1547564400@blogit.gradia.fi
SUMMARY:Kohtaamisia ja kumppanuuksia - ei temppuja vaan täyttä työelämää -webinaari
DESCRIPTION:15.1.2019 klo 14-15 \nWebinaarin tavoitteena on \n\nmiten rakennetaan yksilöllisiä polkuja oppilaille ja opiskelijoille?\nminkälaisia vaihtoehtoja on tarjolla nuorille?\nmiten nuorten urasuunnittelua voi ammattilaisena olla tukemassa?\n\nTule rohkeasti mukaan webinaarityöpajaan ja ota osaa äänelläsi\, chatin kautta tai kuuntelemalla keskustelua. – Onnistutaan yhdessä. \nAjankohta\nTiistaina 15.1.2019 klo 14-15\, klo 13.30 linkki avautuu musiikilla. \nIlmoittautumislinkki\nIlmoittaudu alla olevan linkin kautta 10.1.2019 mennessä:\nIlmoittautuminen Kohtaamisia ja kumppanuuksia webinaari \nSkypelinkki tulee ilmoitettuun sähköpostiin 14.1. mennessä.\nWebinaatyöpajailun osallistujamäärä 20. Webinaari on maksuton. \nKohtaamisia ja kumppanuuksia webinaari 15.1.2019 (pdf) \nLisätietoa \nmaiju.kangasaho@haaga-helia.fi ja   eija.honkanen@haaga-helia.fi \n  \n 
URL:https://blogit.gradia.fi/parasta_osaamista/event/kohtaamisia-ja-kumppanuuksia-ei-temppuja-vaan-taytta-tyoelamaa-webinaari/
ATTACH;FMTTYPE=image/jpeg:https://blogit.gradia.fi/parasta_osaamista/wp-content/uploads/sites/20/2018/10/1_HOKS_450.jpg
END:VEVENT
END:VCALENDAR