BEGIN:VCALENDAR
VERSION:2.0
PRODID:-//Parasta osaamista - ECPv6.15.20//NONSGML v1.0//EN
CALSCALE:GREGORIAN
METHOD:PUBLISH
X-ORIGINAL-URL:https://blogit.gradia.fi/parasta_osaamista
X-WR-CALDESC:Tapahtumat Parasta osaamista
REFRESH-INTERVAL;VALUE=DURATION:PT1H
X-Robots-Tag:noindex
X-PUBLISHED-TTL:PT1H
BEGIN:VTIMEZONE
TZID:Europe/Helsinki
BEGIN:DAYLIGHT
TZOFFSETFROM:+0200
TZOFFSETTO:+0300
TZNAME:EEST
DTSTART:20180325T010000
END:DAYLIGHT
BEGIN:STANDARD
TZOFFSETFROM:+0300
TZOFFSETTO:+0200
TZNAME:EET
DTSTART:20181028T010000
END:STANDARD
BEGIN:DAYLIGHT
TZOFFSETFROM:+0200
TZOFFSETTO:+0300
TZNAME:EEST
DTSTART:20190331T010000
END:DAYLIGHT
BEGIN:STANDARD
TZOFFSETFROM:+0300
TZOFFSETTO:+0200
TZNAME:EET
DTSTART:20191027T010000
END:STANDARD
BEGIN:DAYLIGHT
TZOFFSETFROM:+0200
TZOFFSETTO:+0300
TZNAME:EEST
DTSTART:20200329T010000
END:DAYLIGHT
BEGIN:STANDARD
TZOFFSETFROM:+0300
TZOFFSETTO:+0200
TZNAME:EET
DTSTART:20201025T010000
END:STANDARD
END:VTIMEZONE
BEGIN:VEVENT
DTSTART;TZID=Europe/Helsinki:20190111T083000
DTEND;TZID=Europe/Helsinki:20190111T110000
DTSTAMP:20260420T164642
CREATED:20181130T113826Z
LAST-MODIFIED:20181130T113826Z
UID:1277-1547195400-1547204400@blogit.gradia.fi
SUMMARY:Uudenlaiset oppimisen tavat ja mahdollisuudet: Opetustarjonnan suunnittelu\, Turku
DESCRIPTION:Tavoitteet: \nKoulutuksessa tarkastellaan uutta ammatillista koulutusta ja sen ajankohtaisia ja tulevia mahdollisuuksia ja haasteita. Keskeisenä teemana on tutkintokoulutuksen erilaiset tarjotinmallit. \nAjankohta: 11.1.2019 klo 8.30 – 11.00 \nPaikka: Kärsämäentie 11\, Turku (Turun akk:n tiloissa\, Bengtskär-neuvottelutila 3. krs.) \nKeskeiset sisällöt:  \n\ntutkinnon perusteet-> tuotteistaminen -> tutkintokoulutuksen järjestäminen siten\, että HOKS:ien laadinta helpottuu ja tukee opiskelijaa\nkoulutuksen uudet rakenteet\, ehdotuksia ja malleja erilaisista vaihtoehdoista\nopetustarjonnan rakentaminen tarjottimeksi\nkeskustelua mallien jatkohyödyntämisestä.\n\nToteutus: Lähitapaaminen\, jossa syvennytään tarjottimien laadinnan periaatteisiin. \nIlmoittautumiset: Parasta osaamista sivuston kautta: blogit.jao.fi/parasta_osaamista \ntai tästä linkistä ma 7.1.2019 mennessä. \nOsallistuminen on maksuton. \nUudenlaiset oppimisen tavat ja mahdollisuudet (Turku) pdf \nLisätietoja: \nSusanna Löf\, puh 040 4887 083\nsusanna.lof@haaga-helia.fi \nHaaga-Helia Ammatillinen opettajakorkeakoulu
URL:https://blogit.gradia.fi/parasta_osaamista/event/uudenlaiset-oppimisen-tavat-ja-mahdollisuudet-opetustarjonnan-suunnittelu-turku/
ATTACH;FMTTYPE=image/jpeg:https://blogit.gradia.fi/parasta_osaamista/wp-content/uploads/sites/20/2018/10/3_Uudenlaiset-oppimisen-tavat-ja-mahdollisuudet_450.jpg
END:VEVENT
END:VCALENDAR