BEGIN:VCALENDAR
VERSION:2.0
PRODID:-//Parasta osaamista - ECPv6.15.20//NONSGML v1.0//EN
CALSCALE:GREGORIAN
METHOD:PUBLISH
X-ORIGINAL-URL:https://blogit.gradia.fi/parasta_osaamista
X-WR-CALDESC:Tapahtumat Parasta osaamista
REFRESH-INTERVAL;VALUE=DURATION:PT1H
X-Robots-Tag:noindex
X-PUBLISHED-TTL:PT1H
BEGIN:VTIMEZONE
TZID:Europe/Helsinki
BEGIN:DAYLIGHT
TZOFFSETFROM:+0200
TZOFFSETTO:+0300
TZNAME:EEST
DTSTART:20170326T010000
END:DAYLIGHT
BEGIN:STANDARD
TZOFFSETFROM:+0300
TZOFFSETTO:+0200
TZNAME:EET
DTSTART:20171029T010000
END:STANDARD
BEGIN:DAYLIGHT
TZOFFSETFROM:+0200
TZOFFSETTO:+0300
TZNAME:EEST
DTSTART:20180325T010000
END:DAYLIGHT
BEGIN:STANDARD
TZOFFSETFROM:+0300
TZOFFSETTO:+0200
TZNAME:EET
DTSTART:20181028T010000
END:STANDARD
BEGIN:DAYLIGHT
TZOFFSETFROM:+0200
TZOFFSETTO:+0300
TZNAME:EEST
DTSTART:20190331T010000
END:DAYLIGHT
BEGIN:STANDARD
TZOFFSETFROM:+0300
TZOFFSETTO:+0200
TZNAME:EET
DTSTART:20191027T010000
END:STANDARD
END:VTIMEZONE
BEGIN:VEVENT
DTSTART;TZID=Europe/Helsinki:20181204T140000
DTEND;TZID=Europe/Helsinki:20181204T150000
DTSTAMP:20260420T132216
CREATED:20181004T111532Z
LAST-MODIFIED:20181023T103928Z
UID:803-1543932000-1543935600@blogit.gradia.fi
SUMMARY:Työkaluja opetukseen ja ohjaukseen -webinaari
DESCRIPTION:Tavoite    \nWebinaarin tavoitteena on \n\ntunnistaa opiskelijan oppimiseen vaikuttavia valmiuksia ja ominaisuuksia\ntarkastella mitä työkaluja opettaja voi käyttää opetuksessa ja ohjauksessa\n\nTule rohkeasti mukaan webinaarityöpajaan ja ota osaa äänelläsi\, chatin kautta tai kuuntelemalla keskustelua. – Onnistutaan yhdessä. \nAjankohta  \nTiistaina 4.12.2018 klo 14-15\, klo 13.30 linkki avautuu musiikilla. \nKeskeiset sisällöt \nMiten tunnistat oppimiseen liittyviä vaikeuksia?\nMiten tuetaan kaikkia oppijoita kohden tavoitetta?\nMillaiset onnistumiset vievät eteenpäin sekä opiskelijaa että opettajaa? \nIlmoittautumislinkki \nIlmoittaudu alla olevan linkin kautta 30.11.2018 mennessä:\nIlmoittautuminen webinaari Työkaluja opetukseen ja ohjaukseen 4.12.2018           \nSkypelinkki tulee ilmoitettuun sähköpostiin 3.12.2018 mennessä.\nWebinaatyöpajailun osallistujamäärä 20. Webinaari on maksuton. \n  \nLisätietoa  \nmaiju.kangasaho@haaga-helia.fi ja eija.honkanen@haaga-helia.fi
URL:https://blogit.gradia.fi/parasta_osaamista/event/tyokaluja-opetukseen-ja-ohjaukseen/
ATTACH;FMTTYPE=image/jpeg:https://blogit.gradia.fi/parasta_osaamista/wp-content/uploads/sites/20/2018/10/1_HOKS_450.jpg
END:VEVENT
END:VCALENDAR