BEGIN:VCALENDAR
VERSION:2.0
PRODID:-//Parasta osaamista - ECPv6.15.20//NONSGML v1.0//EN
CALSCALE:GREGORIAN
METHOD:PUBLISH
X-WR-CALNAME:Parasta osaamista
X-ORIGINAL-URL:https://blogit.gradia.fi/parasta_osaamista
X-WR-CALDESC:Tapahtumat Parasta osaamista
REFRESH-INTERVAL;VALUE=DURATION:PT1H
X-Robots-Tag:noindex
X-PUBLISHED-TTL:PT1H
BEGIN:VTIMEZONE
TZID:Europe/Helsinki
BEGIN:DAYLIGHT
TZOFFSETFROM:+0200
TZOFFSETTO:+0300
TZNAME:EEST
DTSTART:20170326T010000
END:DAYLIGHT
BEGIN:STANDARD
TZOFFSETFROM:+0300
TZOFFSETTO:+0200
TZNAME:EET
DTSTART:20171029T010000
END:STANDARD
BEGIN:DAYLIGHT
TZOFFSETFROM:+0200
TZOFFSETTO:+0300
TZNAME:EEST
DTSTART:20180325T010000
END:DAYLIGHT
BEGIN:STANDARD
TZOFFSETFROM:+0300
TZOFFSETTO:+0200
TZNAME:EET
DTSTART:20181028T010000
END:STANDARD
BEGIN:DAYLIGHT
TZOFFSETFROM:+0200
TZOFFSETTO:+0300
TZNAME:EEST
DTSTART:20190331T010000
END:DAYLIGHT
BEGIN:STANDARD
TZOFFSETFROM:+0300
TZOFFSETTO:+0200
TZNAME:EET
DTSTART:20191027T010000
END:STANDARD
END:VTIMEZONE
BEGIN:VEVENT
DTSTART;VALUE=DATE:20181130
DTEND;VALUE=DATE:20181201
DTSTAMP:20260420T113851
CREATED:20181126T082733Z
LAST-MODIFIED:20181126T082818Z
UID:1192-1543536000-1543622399@blogit.gradia.fi
SUMMARY:Ammatillinen koulutus 2018 – työelämä ja koulutus yhtä jalkaa eteenpäin
DESCRIPTION:Parasta osaamista -verkostohankkeella on esittelypiste  Elinkeinoelämän keskusliitto EK:n järjestämässä Ammatillinen koulutus 2018 -tapahtumassa 30.11. \nLisätietoja tapahtumasta: https://ek.fi/tapahtumat/ammatillinen-koulutus-2018/ \n  \nKeskustelua käydään myös Twitterissä tunnuksella #ammatillinenkoulutus #10askeltaonnistumiseen #uusiamis
URL:https://blogit.gradia.fi/parasta_osaamista/event/ammatillinen-koulutus-2018-tyoelama-ja-koulutus-yhta-jalkaa-eteenpain/
END:VEVENT
END:VCALENDAR