BEGIN:VCALENDAR
VERSION:2.0
PRODID:-//Parasta osaamista - ECPv6.15.20//NONSGML v1.0//EN
CALSCALE:GREGORIAN
METHOD:PUBLISH
X-WR-CALNAME:Parasta osaamista
X-ORIGINAL-URL:https://blogit.gradia.fi/parasta_osaamista
X-WR-CALDESC:Tapahtumat Parasta osaamista
REFRESH-INTERVAL;VALUE=DURATION:PT1H
X-Robots-Tag:noindex
X-PUBLISHED-TTL:PT1H
BEGIN:VTIMEZONE
TZID:Europe/Helsinki
BEGIN:DAYLIGHT
TZOFFSETFROM:+0200
TZOFFSETTO:+0300
TZNAME:EEST
DTSTART:20170326T010000
END:DAYLIGHT
BEGIN:STANDARD
TZOFFSETFROM:+0300
TZOFFSETTO:+0200
TZNAME:EET
DTSTART:20171029T010000
END:STANDARD
BEGIN:DAYLIGHT
TZOFFSETFROM:+0200
TZOFFSETTO:+0300
TZNAME:EEST
DTSTART:20180325T010000
END:DAYLIGHT
BEGIN:STANDARD
TZOFFSETFROM:+0300
TZOFFSETTO:+0200
TZNAME:EET
DTSTART:20181028T010000
END:STANDARD
BEGIN:DAYLIGHT
TZOFFSETFROM:+0200
TZOFFSETTO:+0300
TZNAME:EEST
DTSTART:20190331T010000
END:DAYLIGHT
BEGIN:STANDARD
TZOFFSETFROM:+0300
TZOFFSETTO:+0200
TZNAME:EET
DTSTART:20191027T010000
END:STANDARD
END:VTIMEZONE
BEGIN:VEVENT
DTSTART;VALUE=DATE:20181128
DTEND;VALUE=DATE:20181130
DTSTAMP:20260420T113934
CREATED:20181126T080846Z
LAST-MODIFIED:20181126T081032Z
UID:1194-1543363200-1543535999@blogit.gradia.fi
SUMMARY:AMK- ja ammatillisen koulutuksen tutkimuspäivät 2018
DESCRIPTION:Parasta osaamista -verkostohanke osallistuu AMK– ja ammatillisen koulutuksen tutkimuspäiviin monin eri tavoin. Olemme mukana esimerkiksi teemaryhmä- sekä Roud Table – sessioissa\, ja hankkeen esittelypiste löytyy kehittämishanketorilta. \nVuoden 2018 tutkimuspäivien teemana on ammattikasvatustutkimus ja alati muutoksen tilassa oleva työelämä. Lisätietoja: https://www.omnia.fi/tapahtumat/amk-ja-ammatillisen-koulutuksen-tutkimuspaivat-2018 \nOmnia Koulutus\, Kirkkokatu 16 B\, Espoon keskus
URL:https://blogit.gradia.fi/parasta_osaamista/event/amk-ja-ammatillisen-koulutuksen-tutkimuspaivat-2018/
END:VEVENT
BEGIN:VEVENT
DTSTART;TZID=Europe/Helsinki:20181128T123000
DTEND;TZID=Europe/Helsinki:20181128T153000
DTSTAMP:20260420T113934
CREATED:20181016T102548Z
LAST-MODIFIED:20181023T102051Z
UID:879-1543408200-1543419000@blogit.gradia.fi
SUMMARY:Erityisen tuen järjestäminen ammatillisessa koulutuksessa –työpajasarja / HOKS  ja erityinen tuki
DESCRIPTION:HOKS  ja erityinen tuki –työpaja 1 / Turku /työpajasarja \nKoulutuksen tavoite\nTavoitteena on tukea ja antaa valmiuksia opetushenkilöstölle onnistuneen HOKS:n laadintaan erityinen tuki huomioiden. \nKoulutuksen sisältö\nKoulutus on puolen päivän mittainen toiminnallinen lähitapaaminen. Toteutuksessa hyödynnetään Opetushallituksen opasta: Henkilökohtaistamisen toimintamallin kuvaukset (2018). Osallistujat voivat tuoda mukanaan HOKS:aan ja erityiseen tukeen liittyviä caseja\, joita pohditaan tilaisuudessa yhdessä. \nKouluttajat\nRita Hintsala pedagoginen koordinaattori Ammattiopisto Spesia\nPäivi Tanner erityisen tuen asiantuntija Ammattiopisto Spesia \nAikataulu\nkeskiviikko 28.11.2018 klo 12.30-15.30 \nPaikka\nTurun ammatti-instituutti\, Peltolan koulutalo\, Hamppukatu 2\, 20740 Turku \nIlmoittautumiset\nRyhmään mahtuu 20 ensimmäistä ilmoittautunutta. Ilmoittautumiset viimeistään 21.11.2018. \nIlmoittautumislinkki: https://urly.fi/13Rt \nHOKS ja erityinen tuki (pdf) \nLisätietoja \nTomi Raitanen\, HAMK Ammatillinen opettajakorkeakoulu\ntomi.raitanen@hamk.fi\n050 4009189 \nSeuraavat työpajapäivät: 12.2.2019; mukauttaminen ja poikkeaminen\, 11.4.2019; erityisen tuen menetelmät\, uudenlaiset oppimisen tavat
URL:https://blogit.gradia.fi/parasta_osaamista/event/erityisen-tuen-jarjestaminen-ammatillisessa-koulutuksessa-tyopajasarja-hoks-ja-erityinen-tuki/
LOCATION:Turun ammatti-instituutti\, Hamppukatu 2\, Turku
ATTACH;FMTTYPE=image/jpeg:https://blogit.gradia.fi/parasta_osaamista/wp-content/uploads/sites/20/2018/10/1_HOKS_450.jpg
END:VEVENT
END:VCALENDAR