BEGIN:VCALENDAR
VERSION:2.0
PRODID:-//Parasta osaamista - ECPv6.15.20//NONSGML v1.0//EN
CALSCALE:GREGORIAN
METHOD:PUBLISH
X-ORIGINAL-URL:https://blogit.gradia.fi/parasta_osaamista
X-WR-CALDESC:Tapahtumat Parasta osaamista
REFRESH-INTERVAL;VALUE=DURATION:PT1H
X-Robots-Tag:noindex
X-PUBLISHED-TTL:PT1H
BEGIN:VTIMEZONE
TZID:Europe/Helsinki
BEGIN:DAYLIGHT
TZOFFSETFROM:+0200
TZOFFSETTO:+0300
TZNAME:EEST
DTSTART:20170326T010000
END:DAYLIGHT
BEGIN:STANDARD
TZOFFSETFROM:+0300
TZOFFSETTO:+0200
TZNAME:EET
DTSTART:20171029T010000
END:STANDARD
BEGIN:DAYLIGHT
TZOFFSETFROM:+0200
TZOFFSETTO:+0300
TZNAME:EEST
DTSTART:20180325T010000
END:DAYLIGHT
BEGIN:STANDARD
TZOFFSETFROM:+0300
TZOFFSETTO:+0200
TZNAME:EET
DTSTART:20181028T010000
END:STANDARD
BEGIN:DAYLIGHT
TZOFFSETFROM:+0200
TZOFFSETTO:+0300
TZNAME:EEST
DTSTART:20190331T010000
END:DAYLIGHT
BEGIN:STANDARD
TZOFFSETFROM:+0300
TZOFFSETTO:+0200
TZNAME:EET
DTSTART:20191027T010000
END:STANDARD
END:VTIMEZONE
BEGIN:VEVENT
DTSTART;VALUE=DATE:20181123
DTEND;VALUE=DATE:20181124
DTSTAMP:20260420T114304
CREATED:20181101T073816Z
LAST-MODIFIED:20181101T073816Z
UID:1023-1542931200-1543017599@blogit.gradia.fi
SUMMARY:Opettajan työelämä-\, verkosto- ja asiakkuusosaaminen
DESCRIPTION:Koulutuksen tavoitteet:  \nOsallistuja ymmärtää koulutuksen järjestäjän sidosryhmä- ja työelämäyhteistyön merkityksen ammatillisen koulutuksen laadunhallinnan kannalta. Koulutuksen myötä osallistuja osaa ottaa huomioon toiminta-alueensa työ- ja elinkeinoelämän tarpeita tutkintokoulutusten suunnittelussa\, järjestämisessä ja kehittämisessä. \nPaikka: Tuorlantie 1\, Kaarina\, LIVIA \nKeskeinen sisältö ja toteutus: \nEnnakkotehtävä: Tee kuvaus oman alan verkosto- ja yhteistyökumppaneista. \nI Lähitapaaminen: 23.11. tai 14.12 klo 8.15-11.00 \nTyöelämä- ja verkostoyhteistyön rakentaminen \n\nVerkostoyhteistyön perusteet\nKoulutuksen järjestäjän sidosryhmä- ja työelämäyhteistyötä tukeva strategia\nAsiakkuuksien hallinnan periaatteet ja tavoitteet\nTyöelämä-\, verkosto- ja asiakkuusyhteistyön palautteen hyödyntäminen toiminnan kehittämisessä\n\nTyöelämä- ja verkostoyhteistyön monet mahdollisuudet \n\nToiminta-alueen elinkeinoelämän ja työllisyystilanteen tuntemus; ennakointitiedon hyödyntäminen\nToimivan työelämä- ja verkostoyhteistyön muodot\n\nVälitehtävä: Oman alan verkostoyhteistyön kehittämistehtävä \nII Lähitapaaminen 1.2. tai 8.2. klo 8.15-11.00 \nOman ammatillisen osaamisen ylläpitäminen \n\nOman ammatillisen osaamisen tunnistaminen\nAlan osaamisen kehittäminen yhdessä työelämän ja muiden toimijoiden kanssa\nUusien yhteistyön muotojen kehittäminen yhteistyössä oman alan työpaikkojen kanssa\n\nValmennus on osallistujille maksuton. \nIlmoittautumiset viikkoa ennen lähitapaamista 23.11. tai 14.12  /  1.2. tai 8.2\nParasta osaamista sivustolta https://blogit.gradia.fi/parasta_osaamista – tapahtumat  tai tästä linkistä \nToimitamme ennakkotehtävän ilmoittautuneille viikkoa ennen lähitapaamista. \nOpettajan työelämä- verkosto- ja asiakkuusosaaminen (pdf) \nKouluttajat ja lisätietoja\nSusanna Löf\, susanna.lof@haaga-helia.fi. p. 040 488 7083\nTomi Raitanen\, tomi.raitanen@hamk.fi\, p. 050 4009189
URL:https://blogit.gradia.fi/parasta_osaamista/event/opettajan-tyoelama-verkosto-ja-asiakkuusosaaminen-2/
LOCATION:LIVIA\, Tuorlantie 1\, Kaarina
ATTACH;FMTTYPE=image/jpeg:https://blogit.gradia.fi/parasta_osaamista/wp-content/uploads/sites/20/2018/10/2_Opiskelijan-arviointi_450.jpg
END:VEVENT
END:VCALENDAR