BEGIN:VCALENDAR
VERSION:2.0
PRODID:-//Parasta osaamista - ECPv6.15.20//NONSGML v1.0//EN
CALSCALE:GREGORIAN
METHOD:PUBLISH
X-WR-CALNAME:Parasta osaamista
X-ORIGINAL-URL:https://blogit.gradia.fi/parasta_osaamista
X-WR-CALDESC:Tapahtumat Parasta osaamista
REFRESH-INTERVAL;VALUE=DURATION:PT1H
X-Robots-Tag:noindex
X-PUBLISHED-TTL:PT1H
BEGIN:VTIMEZONE
TZID:Europe/Helsinki
BEGIN:DAYLIGHT
TZOFFSETFROM:+0200
TZOFFSETTO:+0300
TZNAME:EEST
DTSTART:20170326T010000
END:DAYLIGHT
BEGIN:STANDARD
TZOFFSETFROM:+0300
TZOFFSETTO:+0200
TZNAME:EET
DTSTART:20171029T010000
END:STANDARD
BEGIN:DAYLIGHT
TZOFFSETFROM:+0200
TZOFFSETTO:+0300
TZNAME:EEST
DTSTART:20180325T010000
END:DAYLIGHT
BEGIN:STANDARD
TZOFFSETFROM:+0300
TZOFFSETTO:+0200
TZNAME:EET
DTSTART:20181028T010000
END:STANDARD
BEGIN:DAYLIGHT
TZOFFSETFROM:+0200
TZOFFSETTO:+0300
TZNAME:EEST
DTSTART:20190331T010000
END:DAYLIGHT
BEGIN:STANDARD
TZOFFSETFROM:+0300
TZOFFSETTO:+0200
TZNAME:EET
DTSTART:20191027T010000
END:STANDARD
END:VTIMEZONE
BEGIN:VEVENT
DTSTART;TZID=Europe/Helsinki:20181122T120000
DTEND;TZID=Europe/Helsinki:20181122T150000
DTSTAMP:20260420T114012
CREATED:20181101T084226Z
LAST-MODIFIED:20181101T084226Z
UID:1038-1542888000-1542898800@blogit.gradia.fi
SUMMARY:Uudenlaiset oppimisen tavat ja mahdollisuudet: Opetustarjonnan suunnittelu
DESCRIPTION:Tavoitteet: \nKoulutuksessa tarkastellaan uutta ammatillista koulutusta ja sen ajankohtaisia ja tulevia mahdollisuuksia ja haasteita. Keskeisenä teemana on tutkintokoulutuksen erilaiset tarjotinmallit. \nAjankohta: 22.11.2018 klo 12-15\nPaikka: Turun aikuiskoulutuskeskus\, Artukaistentie 13\, Turku \nKeskeiset sisällöt:  \n\ntutkinnon perusteet-> tuotteistaminen -> tutkintokoulutuksen järjestäminen siten\, että HOKS:ien laadinta helpottuu ja tukee opiskelijaa\nkoulutuksen uudet rakenteet\, ehdotuksia ja malleja erilaisista vaihtoehdoista\nopetustarjonnan rakentaminen tarjottimeksi\nkeskustelua mallien jatkohyödyntämisestä.\n\nIlmoittautumiset: Parasta osaamista sivuston kautta: blogit.jao.fi/parasta_osaamista tai tästä linkistä\nma 19.11. mennessä. \nToteutus: \nEnnakkotehtävä: Osallistujat teemoittavat tutkinnon osia moduuleiksi.\nLähitapaaminen\, jossa suunnitellaan opetustarjontaa.\nOsallistuminen on maksuton. \nUudenlaiset oppimisen tavat ja mahdollisuudet (pdf) \nLisätietoja:\nsusanna.lof@haaga-helia.fi\nHaaga-Helia Ammatillinen opettajakorkeakoulu
URL:https://blogit.gradia.fi/parasta_osaamista/event/uudenlaiset-oppimisen-tavat-ja-mahdollisuudet-opetustarjonnan-suunnittelu/
LOCATION:Turun aikuiskoulutuskeskus\, Artukaistentie 13\, Turku
ATTACH;FMTTYPE=image/jpeg:https://blogit.gradia.fi/parasta_osaamista/wp-content/uploads/sites/20/2018/10/3_Uudenlaiset-oppimisen-tavat-ja-mahdollisuudet_450.jpg
END:VEVENT
BEGIN:VEVENT
DTSTART;TZID=Europe/Helsinki:20181122T141500
DTEND;TZID=Europe/Helsinki:20181122T154500
DTSTAMP:20260420T114012
CREATED:20180926T103341Z
LAST-MODIFIED:20181101T080435Z
UID:755-1542896100-1542901500@blogit.gradia.fi
SUMMARY:Digiosaamista ammatillisille opettajille 22.11.2018 - 11.4.2019 - Ryhmä täynnä
DESCRIPTION:Mitä lisäarvoa digitaaliset sovellukset tuovat oppimiseen? Miten mobiililaitteilla voi tehostaa ohjauksen saatavuutta? Miten verkko-opetuksesta saa opiskelijoita innostavaa? Jos koet olevasi vasta-alkaja näissä digiasioissa\, on tämä koulutus tarkoitettu juuri sinulle. \nTule mukaan 6 webinaarin sarjaan\, jotka pidetään torstaisin klo 14.15-15.45 verkossa. Niissä käsitellään alla olevia teemoja ja harjoitellaan yhdessä digitaalisia sovelluksia. Saat lisäksi käyttöösi ohjeaineiston\, jossa on linkkejä ja ideoita itsenäiseen opiskeluun ja joka toimii muistintukena sovellusten harjoittelussa. Omia kokeiluja jaetaan yhteisellä oppimisalustalla\, ja näin pääset keskustelemaan kollegoiden kanssa myös webinaarien välillä. Lisäksi voit hakea osaamismerkkejä koulutuksen teemoista. \n  \n22.11.2018\nHenkilökohtaiset oppimisympäristöt ja mobiilioppiminen \nMitä mahdollisuuksia ja haasteita digitaalisuus luo opettajalle ja opiskelijalle? Miten valitset oikeat välineet oikeaan käyttötarkoitukseen? Mitä ovat henkilökohtaiset oppimisympäristöt ja miten sinä voisit hyödyntää niitä tämän koulutuksen aikana? Voit hakea osaamismerkkiä: Henkilökohtaiset oppimisympäristöt. \n13.12.2018\nVerkko-oppimisen pedagogiset mallit \nMikä tekee verkko-opetuksesta ja -oppimisesta erityistä? Millaisia toteuttamismalleja voit käyttää verkkokoulutuksissa? Miten visualisoit verkko-oppimisen prosesseja? Miten sitoutat opiskelijat työskentelyyn verkossa? Voit hakea osaamismerkkiä: Verkko-oppimisen mallit. \n24.1.2019\nDigitaaliset oppimateriaalit \nMiten yhdistelet oppimateriaaliin erilaisia teksti-\, kuva-\, ääni- ja videoaineistoja? Miten suunnittelet opiskelijoita innostavia opetus-ja ohjevideoita tai animaatioita? Millaisilla sovelluksilla jaat aineistoja? Miten tekijänoikeudet säätelevät aineistojen tuottamista? Voit hakea osaamismerkkiä: Digitaaliset oppimateriaalit ja Mobiilivideot. \n7.2.2019\nOpiskelijoiden aktivointi ja ohjaus \nMiten kartoitat opiskelijoiden ennakkokäsityksiä\, mielipiteitä ja kokemuksia? Millaiset sovellukset sopivat oppimisen arviointiin? Miten opiskelijat voivat tehdä näkyväksi omaa osaamistaan digitaalisten välineiden avulla? Miten digitaalisilla sovelluksilla voi tukea työssä oppimista? Voit hakea osaamismerkkiä: Digiohjaus ja oppimisen arviointi. \n28.3.2019\nYhteinen tiedon tuottaminen ja jakaminen \nMitä on vertaisoppiminen? Miten mahdollistat yksilöllisen ja yhdessä oppimisen verkko-opinnoissa? Miten käytät interaktiivisia sovelluksia ja yhteisöpalveluita verkko-oppimisen tukena? Voit hakea osaamismerkkiä: Yhteisölliset työkalut. \n11.4.2019\nVuorovaikutteiset webinaarit osana verkko-opetusta \nMillainen on hyvä webinaari? Milloin tarvitaan verkkotapaamisia\, milloin riittää itsenäinen aineistojen opiskelu? Miten ohjaat opiskelijoita valmistautumaan webinaariin? Miten aktivoit opiskelijoita webinaarin aikana ja sen jälkeen? Voit hakea osaamismerkkiä: Vuorovaikutteiset webinaarit. \nLataa pdf: Digiosaamista ammatillisille opettajille \nIlmoittautuminen 2.11.2018 mennessä. -> Ryhmä on täynnä.\nSeuraava Digiosaamista ammatillisille opettajille -koulutus järjestetään 23.1.-8.5.2019\, ilmoittaudu mukaan. \nKouluttaja: Yliopettaja Katri Aaltonen\, katri.aaltonen@haaga-helia.fi\, puh. 040 488 7523.
URL:https://blogit.gradia.fi/parasta_osaamista/event/digiosaamista-ammatillisille-opettajille-22-11-2018-11-4-2019/
ATTACH;FMTTYPE=image/jpeg:https://blogit.gradia.fi/parasta_osaamista/wp-content/uploads/sites/20/2018/10/3_Uudenlaiset-oppimisen-tavat-ja-mahdollisuudet_450.jpg
END:VEVENT
BEGIN:VEVENT
DTSTART;TZID=Europe/Helsinki:20181122T150000
DTEND;TZID=Europe/Helsinki:20181122T160000
DTSTAMP:20260420T114012
CREATED:20180919T094743Z
LAST-MODIFIED:20181023T104402Z
UID:668-1542898800-1542902400@blogit.gradia.fi
SUMMARY:Kysy ja tiedä - opitaan yhdessä -webinaarit
DESCRIPTION:Webinaarien tavoitteet ja toteutus \nToteutamme syksyn aikana kolme ammatillisen koulutuksen uudistuksen keskeiseen teemaan liittyvää webinaaria. Tavoitteena on\, että osallistujat esittävät ko. teemaan liittyviä heitä askarruttavia kysymyksiä\, joista keskustellaan ja joihin haetaan ratkaisuja yhdessä webinaarin aikana. Webinaareihin voi osallistua yksittäin tai niitä voi valita useampia oman mielenkiinnon mukaan. Kuhunkin webinaariin ilmoittaudutaan erikseen viimeistään viikkoa ennen tilaisuutta. Mikäli kysymyksiä tulee paljon\, kouluttajat valitsevat käsiteltävät aiheet. \nAikataulu (Lataa pdf-muodossa) \nTiistai 30.10. 2018 klo 15-16\nKYSY JA TIEDÄ – OPITAAN YHDESSÄ HOKSISTA\nHOKSin merkitys opiskelijalle\, opettajalle ja työpaikkaohjaajalle.\nKeskustelun johdattelijat:\nlehtori Piia Kolho ja lehtori Annu Niskanen\, JAMK\, Ammatillinen opettajakorkeakoulu\nIlmoittaudu mukaan 23.10. mennessä osoitteessa http://bit.ly/JAMKwebinaari1.\nEsitä ilmoittautumisen yhteydessä sinua askarruttava kysymys teemasta Flinga-tauluumme osoitteessa https://urly.fi/12sC. \nMaanantai 12.11.2018 klo 15-16\nKYSY JA TIEDÄ – OPITAAN YHDESSÄ OHJAUKSESTA\nKeskustelun johdattelijat:\nlehtori Annu Niskanen ja lehtori Virva-Liisa Pekkarinen\, JAMK\, Ammatillinen opettajakorkeakoulu\nIlmoittaudu mukaan 5.11. mennessä osoitteessa http://bit.ly/JAMKwebinaari2.\nEsitä ilmoittautumisen yhteydessäsinua askarruttava kysymys teemasta Flinga-tauluumme osoitteessa https://urly.fi/12M0. \nTorstai 22.11.2018 klo 15-16\nKYSY JA TIEDÄ – OPITAAN YHDESSÄ ERITYISESTÄ TUESTA\nKeskustelun johdattelijat:\nlehtori Seija Eskola ja lehtori Virva-Liisa Pekkarinen\, JAMK\, Ammatillinen opettajakorkeakoulu \nIlmoittaudu mukaan 15.11. mennessä osoitteessa http://bit.ly/JAMKwebinaari3.\nEsitä ilmoittautumisen yhteydessä sinua askarruttava kysymys teemasta Flinga-tauluumme osoitteessa https://urly.fi/12A0. \nKohderyhmä\nAmmatillisen koulutuksen opetus- ja ohjaushenkilöstö \nLisätietoja\nMaija-Liisa Siitari\, koulutussuunnittelija\, 040 595 9180\, maija-liisa.siitari@jamk.fi \nKouluttajat:\nSeija Eskola\, seija.eskola@jamk.fi\nPiia Kolho\, piia.kolho@jamk.fi\nAnnu Niskanen\, annu.niskanen@jamk.fi\nVirva-Liisa Pekkarinen\, virva-liisa.pekkarinen@jamk.fi
URL:https://blogit.gradia.fi/parasta_osaamista/event/668/
ATTACH;FMTTYPE=image/jpeg:https://blogit.gradia.fi/parasta_osaamista/wp-content/uploads/sites/20/2018/10/1_HOKS_450.jpg
END:VEVENT
BEGIN:VEVENT
DTSTART;TZID=Europe/Helsinki:20181122T150000
DTEND;TZID=Europe/Helsinki:20181122T161500
DTSTAMP:20260420T114012
CREATED:20181022T082046Z
LAST-MODIFIED:20181024T084713Z
UID:931-1542898800-1542903300@blogit.gradia.fi
SUMMARY:Nya sätt och möjligheter att lära- webinarserie
DESCRIPTION:Målsättning  \nUnder webinarserien ser vi på den nya yrkesutbildningen\, aktuella och kommande möjligheter för lärarskapet\, organisationen\, studerande och arbetslivet. Vi söker och finner nya synvinklar på det egna arbetet och delar erfarenheter från den nya yrkesutbildningen. \nCentralt innehåll \n\nVad består det nya lärarskapet av i yrkesutbildningen?\nHurudana pedagogiska lösningar stöder den kompetensbaserade yrkesutbildningen?\nPå vilket sätt utmanar kompetensbasering och PUK studerande\, studerandes roll?\nPå vilket sätt kopplas arbetslivets lär- och kompetensmiljöer till yrkesutbildningen?\n\n22.11.2018 kl. 15:00-16:15 Arbetslivsnära verksamhet\nUtbildningen genomförs online. Länken sänds till de anmälda innan webinariet. \nTidigare webinarier:\n26.9.2018  kl. 15:00-16:15 Yrkesläraren 2.0\n10.10.2018 kl. 15:00-16:15 #yrkespedagogik\n1.11.2018 kl. 15:00-16:15 Det nya ”studerandeskapet” i yrkesutbildningen \nGenomförande: Du kan delta i ett eller flera tillfällen beroende på ditt kompetensbehov.  Du får ett intyg på 3 sp över deltagandet om du deltar i alla fyra tillfällen och gör små läruppgifter som då ingår.  Om du endast deltar i något webinarium behöver du inte göra uppgifterna. Webinarierna bandas\, ifall tidpunkten inte passar för deltagaren. \nAnmälan\nhttps://wilma.yrkesakademin.fi/browsecourses?school-id=1&short-term=33430&checkout=true\neller via Bästa kunnande-webbsidan: https://blogit.gradia.fi/parasta_osaamista/events/ \nAnmälningar senast 15.11.2018 till tillfället som hålls 22.11.2018 \nTilläggsuppgifter\nChristel Holmlund-Norrén\,\nChristel.holmlund-norren@yrkesakademin.fi\, 050-5906278\nHarriet Bystedt\, Harriet.bystedt@yrkeskademin.fi\nKim Vesterbacka\, kim.vesterbacka@yrkesakademin.fi \n 
URL:https://blogit.gradia.fi/parasta_osaamista/event/nya-satt-och-mojligheter-att-lara-webinarserie-3/
ATTACH;FMTTYPE=image/jpeg:https://blogit.gradia.fi/parasta_osaamista/wp-content/uploads/sites/20/2018/10/2_Opiskelijan-arviointi-e1540369620106.jpg
END:VEVENT
END:VCALENDAR