BEGIN:VCALENDAR
VERSION:2.0
PRODID:-//Parasta osaamista - ECPv6.15.20//NONSGML v1.0//EN
CALSCALE:GREGORIAN
METHOD:PUBLISH
X-ORIGINAL-URL:https://blogit.gradia.fi/parasta_osaamista
X-WR-CALDESC:Tapahtumat Parasta osaamista
REFRESH-INTERVAL;VALUE=DURATION:PT1H
X-Robots-Tag:noindex
X-PUBLISHED-TTL:PT1H
BEGIN:VTIMEZONE
TZID:Europe/Helsinki
BEGIN:DAYLIGHT
TZOFFSETFROM:+0200
TZOFFSETTO:+0300
TZNAME:EEST
DTSTART:20170326T010000
END:DAYLIGHT
BEGIN:STANDARD
TZOFFSETFROM:+0300
TZOFFSETTO:+0200
TZNAME:EET
DTSTART:20171029T010000
END:STANDARD
BEGIN:DAYLIGHT
TZOFFSETFROM:+0200
TZOFFSETTO:+0300
TZNAME:EEST
DTSTART:20180325T010000
END:DAYLIGHT
BEGIN:STANDARD
TZOFFSETFROM:+0300
TZOFFSETTO:+0200
TZNAME:EET
DTSTART:20181028T010000
END:STANDARD
BEGIN:DAYLIGHT
TZOFFSETFROM:+0200
TZOFFSETTO:+0300
TZNAME:EEST
DTSTART:20190331T010000
END:DAYLIGHT
BEGIN:STANDARD
TZOFFSETFROM:+0300
TZOFFSETTO:+0200
TZNAME:EET
DTSTART:20191027T010000
END:STANDARD
END:VTIMEZONE
BEGIN:VEVENT
DTSTART;TZID=Europe/Helsinki:20181101T150000
DTEND;TZID=Europe/Helsinki:20181101T161500
DTSTAMP:20260420T095152
CREATED:20181022T081508Z
LAST-MODIFIED:20181024T084743Z
UID:926-1541084400-1541088900@blogit.gradia.fi
SUMMARY:Nya sätt och möjligheter att lära- webinarserie
DESCRIPTION:Målsättning  \nUnder webinarserien ser vi på den nya yrkesutbildningen\, aktuella och kommande möjligheter för lärarskapet\, organisationen\, studerande och arbetslivet. Vi söker och finner nya synvinklar på det egna arbetet och delar erfarenheter från den nya yrkesutbildningen. \nCentralt innehåll \n\nVad består det nya lärarskapet av i yrkesutbildningen?\nHurudana pedagogiska lösningar stöder den kompetensbaserade yrkesutbildningen?\nPå vilket sätt utmanar kompetensbasering och PUK studerande\, studerandes roll?\nPå vilket sätt kopplas arbetslivets lär- och kompetensmiljöer till yrkesutbildningen?\n\n1.11.2018 kl. 15:00-16:15 Det nya ”studerandeskapet” i yrkesutbildningen\n22.11.2018 kl. 15:00-16:15 Arbetslivsnära verksamhet\nUtbildningen genomförs online. Länken sänds till de anmälda innan webinariet. \nTidigare webinarier:\n26.9.2018  kl. 15:00-16:15 Yrkesläraren 2.0\n10.10.2018 kl. 15:00-16:15 #yrkespedagogik \nGenomförande: Du kan delta i ett eller flera tillfällen beroende på ditt kompetensbehov.  Du får ett intyg på 3 sp över deltagandet om du deltar i alla fyra tillfällen och gör små läruppgifter som då ingår.  Om du endast deltar i något webinarium behöver du inte göra uppgifterna. Webinarierna bandas\, ifall tidpunkten inte passar för deltagaren. \nAnmälan\nhttps://wilma.yrkesakademin.fi/browsecourses?school-id=1&short-term=33430&checkout=true\neller via Bästa kunnande-webbsidan: https://blogit.gradia.fi/parasta_osaamista/events/ \nAnmälningar senast 26.10.2018 till tillfället som hålls 1.11.2018 \nTilläggsuppgifter\nChristel Holmlund-Norrén\,\nChristel.holmlund-norren@yrkesakademin.fi\, 050-5906278\nHarriet Bystedt\, Harriet.bystedt@yrkeskademin.fi\nKim Vesterbacka\, kim.vesterbacka@yrkesakademin.fi \n 
URL:https://blogit.gradia.fi/parasta_osaamista/event/nya-satt-och-mojligheter-att-lara-webinarserie-2/
ATTACH;FMTTYPE=image/jpeg:https://blogit.gradia.fi/parasta_osaamista/wp-content/uploads/sites/20/2018/10/2_Opiskelijan-arviointi-e1540369620106.jpg
END:VEVENT
END:VCALENDAR