BEGIN:VCALENDAR
VERSION:2.0
PRODID:-//Parasta osaamista - ECPv6.15.20//NONSGML v1.0//EN
CALSCALE:GREGORIAN
METHOD:PUBLISH
X-ORIGINAL-URL:https://blogit.gradia.fi/parasta_osaamista
X-WR-CALDESC:Tapahtumat Parasta osaamista
REFRESH-INTERVAL;VALUE=DURATION:PT1H
X-Robots-Tag:noindex
X-PUBLISHED-TTL:PT1H
BEGIN:VTIMEZONE
TZID:Europe/Helsinki
BEGIN:DAYLIGHT
TZOFFSETFROM:+0200
TZOFFSETTO:+0300
TZNAME:EEST
DTSTART:20170326T010000
END:DAYLIGHT
BEGIN:STANDARD
TZOFFSETFROM:+0300
TZOFFSETTO:+0200
TZNAME:EET
DTSTART:20171029T010000
END:STANDARD
BEGIN:DAYLIGHT
TZOFFSETFROM:+0200
TZOFFSETTO:+0300
TZNAME:EEST
DTSTART:20180325T010000
END:DAYLIGHT
BEGIN:STANDARD
TZOFFSETFROM:+0300
TZOFFSETTO:+0200
TZNAME:EET
DTSTART:20181028T010000
END:STANDARD
BEGIN:DAYLIGHT
TZOFFSETFROM:+0200
TZOFFSETTO:+0300
TZNAME:EEST
DTSTART:20190331T010000
END:DAYLIGHT
BEGIN:STANDARD
TZOFFSETFROM:+0300
TZOFFSETTO:+0200
TZNAME:EET
DTSTART:20191027T010000
END:STANDARD
END:VTIMEZONE
BEGIN:VEVENT
DTSTART;TZID=Europe/Helsinki:20181030T133000
DTEND;TZID=Europe/Helsinki:20181030T184500
DTSTAMP:20260420T095108
CREATED:20181011T123732Z
LAST-MODIFIED:20181023T104649Z
UID:831-1540906200-1540925100@blogit.gradia.fi
SUMMARY:Etelä-Pohjanmaan työelämä-oppilaitosfoorumi
DESCRIPTION:NASAssa opiskellut futuristi Perttu Pölönen saapuu avaruuden pääkaupunkiin\nTule kuuntelemaan uusia ideoita ja kokemuksia oppimisesta työpaikoilla. Tilaisuudessa pääset keskustelemaan ja vaikuttamaan työelämän ja oppilaitosten välisen yhteistyön kehittymiseen. Pääset myös verkostoitumaan eteläpohjalaisten ammatillisen koulutuksen järjestäjien ja alueen muiden työelämän edustajien kanssa. \nTilaisuus on tarkoitettu Etelä-Pohjanmaan ammatillisten oppilaitosten edustajille\, työ- ja elinkeinoelämän edustajille\, yhteistyökumppaneiden edustajille\, työpaikkaohjaajille\, järjestöjen ja ammatillisen koulutuksen järjestäjien edustajille. \nPääpuhujana esiintyvä Perttu Pölönen on keksijä\, yrittäjä ja säveltäjä. Hän on voittanut Euroopan suurimman nuorten tutkimuskilpailun ja opiskellut tulevaisuuden teknologioita NASAn tutkimuskeskuksessa. Mediassa häntä on kutsuttu superälykkääksi ja pelottomaksi keksijäksi. V. 2014 hänet palkittiin Slushissa Suomen luovimpana. Tule kuulemaan Pertun ja muiden esiintyjien näkemyksiä tulevaisuuden työelämän ja oppilaitosten välisestä yhteistyöstä! \nIlmoittaudu viimeistään 22.10.2018: Ilmoittaudu ja katso ohjelma tästä \nTilaisuus on osallistujille maksuton. \nLisätietoja:\nMarja-Terttu Kurunsaari\, Sedu\, p. 040 868 0814\, marja-terttu.kurunsaari@sedu.fi\nSatu-Maarit Sivula\, Sedu\, p. 040 539 9968\, satu-maarit.sivula@sedu.fi
URL:https://blogit.gradia.fi/parasta_osaamista/event/etela-pohjanmaan-tyoelama-oppilaitosfoorumi/
LOCATION:Sedu\, Rastaantaival 2\, Seinäjoki
ATTACH;FMTTYPE=image/jpeg:https://blogit.gradia.fi/parasta_osaamista/wp-content/uploads/sites/20/2018/10/2_Opiskelijan-arviointi_450.jpg
END:VEVENT
BEGIN:VEVENT
DTSTART;TZID=Europe/Helsinki:20181030T150000
DTEND;TZID=Europe/Helsinki:20181030T160000
DTSTAMP:20260420T095108
CREATED:20180919T083011Z
LAST-MODIFIED:20181023T104625Z
UID:649-1540911600-1540915200@blogit.gradia.fi
SUMMARY:Kysy ja tiedä - opitaan yhdessä -webinaarit
DESCRIPTION:Webinaarien tavoitteet ja toteutus \nToteutamme syksyn aikana kolme ammatillisen koulutuksen uudistuksen keskeiseen teemaan liittyvää webinaaria. Tavoitteena on\, että osallistujat esittävät ko. teemaan liittyviä heitä askarruttavia kysymyksiä\, joista keskustellaan ja joihin haetaan ratkaisuja yhdessä webinaarin aikana. Webinaareihin voi osallistua yksittäin tai niitä voi valita useampia oman mielenkiinnon mukaan. Kuhunkin webinaariin ilmoittaudutaan erikseen viimeistään viikkoa ennen tilaisuutta. Mikäli kysymyksiä tulee paljon\, kouluttajat valitsevat käsiteltävät aiheet. \nAikataulu (Lataa pdf-muodossa) \nTiistai 30.10. 2018 klo 15-16\nKYSY JA TIEDÄ – OPITAAN YHDESSÄ HOKSISTA\nHOKSin merkitys opiskelijalle\, opettajalle ja työpaikkaohjaajalle.\nKeskustelun johdattelijat:\nlehtori Piia Kolho ja lehtori Annu Niskanen\, JAMK\, Ammatillinen opettajakorkeakoulu\nIlmoittaudu mukaan 23.10. mennessä osoitteessa http://bit.ly/JAMKwebinaari1.\nEsitä ilmoittautumisen yhteydessä sinua askarruttava kysymys teemasta Flinga-tauluumme osoitteessa https://urly.fi/12sC. \n  \nMaanantai 12.11.2018 klo 15-16\nKYSY JA TIEDÄ – OPITAAN YHDESSÄ OHJAUKSESTA\nKeskustelun johdattelijat:\nlehtori Annu Niskanen ja lehtori Virva-Liisa Pekkarinen\, JAMK\, Ammatillinen opettajakorkeakoulu\nIlmoittaudu mukaan 5.11. mennessä osoitteessa http://bit.ly/JAMKwebinaari2.\nEsitä ilmoittautumisen yhteydessä sinua askarruttava kysymys teemasta Flinga-tauluumme osoitteessa https://urly.fi/12M0. \nTorstai 22.11.2018 klo 15-16\nKYSY JA TIEDÄ – OPITAAN YHDESSÄ ERITYISESTÄ TUESTA\nKeskustelun johdattelijat:\nlehtori Seija Eskola ja lehtori Virva-Liisa Pekkarinen\, JAMK\, Ammatillinen opettajakorkeakoulu \nIlmoittaudu mukaan 15.11. mennessä osoitteessa http://bit.ly/JAMKwebinaari3.\nEsitä ilmoittautumisen yhteydessä sinua askarruttava kysymys teemasta Flinga-tauluumme osoitteessa https://urly.fi/12A0. \nKohderyhmä\nAmmatillisen koulutuksen opetus- ja ohjaushenkilöstö \nLisätietoja\nMaija-Liisa Siitari\, koulutussuunnittelija\, 040 595 9180\, maija-liisa.siitari@jamk.fi \nKouluttajat:\nSeija Eskola\, seija.eskola@jamk.fi\nPiia Kolho\, piia.kolho@jamk.fi\nAnnu Niskanen\, annu.niskanen@jamk.fi\nVirva-Liisa Pekkarinen\, virva-liisa.pekkarinen@jamk.fi
URL:https://blogit.gradia.fi/parasta_osaamista/event/kysy-ja-tieda-opitaan-yhdessa-webinaarit/
ATTACH;FMTTYPE=image/jpeg:https://blogit.gradia.fi/parasta_osaamista/wp-content/uploads/sites/20/2018/10/1_HOKS_450.jpg
END:VEVENT
END:VCALENDAR