BEGIN:VCALENDAR
VERSION:2.0
PRODID:-//Parasta osaamista - ECPv6.15.20//NONSGML v1.0//EN
CALSCALE:GREGORIAN
METHOD:PUBLISH
X-WR-CALNAME:Parasta osaamista
X-ORIGINAL-URL:https://blogit.gradia.fi/parasta_osaamista
X-WR-CALDESC:Tapahtumat Parasta osaamista
REFRESH-INTERVAL;VALUE=DURATION:PT1H
X-Robots-Tag:noindex
X-PUBLISHED-TTL:PT1H
BEGIN:VTIMEZONE
TZID:Europe/Helsinki
BEGIN:DAYLIGHT
TZOFFSETFROM:+0200
TZOFFSETTO:+0300
TZNAME:EEST
DTSTART:20170326T010000
END:DAYLIGHT
BEGIN:STANDARD
TZOFFSETFROM:+0300
TZOFFSETTO:+0200
TZNAME:EET
DTSTART:20171029T010000
END:STANDARD
BEGIN:DAYLIGHT
TZOFFSETFROM:+0200
TZOFFSETTO:+0300
TZNAME:EEST
DTSTART:20180325T010000
END:DAYLIGHT
BEGIN:STANDARD
TZOFFSETFROM:+0300
TZOFFSETTO:+0200
TZNAME:EET
DTSTART:20181028T010000
END:STANDARD
BEGIN:DAYLIGHT
TZOFFSETFROM:+0200
TZOFFSETTO:+0300
TZNAME:EEST
DTSTART:20190331T010000
END:DAYLIGHT
BEGIN:STANDARD
TZOFFSETFROM:+0300
TZOFFSETTO:+0200
TZNAME:EET
DTSTART:20191027T010000
END:STANDARD
END:VTIMEZONE
BEGIN:VEVENT
DTSTART;TZID=Europe/Helsinki:20181016T083000
DTEND;TZID=Europe/Helsinki:20181016T113000
DTSTAMP:20260420T095013
CREATED:20180912T130515Z
LAST-MODIFIED:20181023T104855Z
UID:574-1539678600-1539689400@blogit.gradia.fi
SUMMARY:Osaamisen arvioinnin laadun varmistaminen\, Lappeenranta
DESCRIPTION:Koulutuksen tavoite \nTavoitteena on varmistaa osaamisen arvioinnin luotettavuus ja kattavuus eri tutkinnoissa sekä edistää koulutuksen järjestäjän tutkinnoittain eriytyvän osaamisen arvioinnin toteuttamissuunnitelman jalkautumista. \nKoulutuksen sisältö \nKoulutus muodostuu ennakkotehtävästä ja ½ päivän toiminnallisesta lähitapaamisesta. Lähitapaamisen toteutuksessa hyödynnetään Parasta osaamista -verkostohankkeessa tuotettuja arvioinnin oppaita (työelämälle\, opettajalle ja opiskelijalle) miettien samalla\, miten koulutuksen järjestäjät niitä jatkossa hyödyntävät osaamisen arviointiin perehdyttämisessä. Jälki-prosessina osallistujat yhdessä koulutuksen järjestäjän kanssa vastaavat osaamisen arvioinnin toteuttamissuunnitelman päivittämisestä ja edelleen kehittämisestä saatujen kokemusten pohjalta. \nAikataulu\nLähitapaaminen 16.10.2018 klo 8.30-11.30\nOsallistujille lähetetään ennakkotehtävä viikkoa ennen lähipäivää. \nPaikka\nSaimaan ammattiopisto Sampo\, Armilankatu 40\, 53100 Lappeenranta. \nIlmoittautumiset\nRyhmään mahtuu 20 ensimmäistä ilmoittautunutta. Ilmoittautumiset viimeistään 5.10.2018. \n-> https://urly.fi/12zg  \n  \nLisätietoja\nTomi Raitanen\ntomi.raitanen@hamk.fi\n050 4009189 \nHAMK Ammatillinen opettajakorkeakoulu
URL:https://blogit.gradia.fi/parasta_osaamista/event/osaamisen-arvioinnin-laadun-varmistaminen-lappeenranta/
LOCATION:Saimaan ammattiopisto Sampo\, Armilankatu 40\, Lappeenranta\, 53100
ATTACH;FMTTYPE=image/jpeg:https://blogit.gradia.fi/parasta_osaamista/wp-content/uploads/sites/20/2018/10/2_Opiskelijan-arviointi_450.jpg
END:VEVENT
END:VCALENDAR