BEGIN:VCALENDAR
VERSION:2.0
PRODID:-//Parasta osaamista - ECPv6.15.20//NONSGML v1.0//EN
CALSCALE:GREGORIAN
METHOD:PUBLISH
X-ORIGINAL-URL:https://blogit.gradia.fi/parasta_osaamista
X-WR-CALDESC:Tapahtumat Parasta osaamista
REFRESH-INTERVAL;VALUE=DURATION:PT1H
X-Robots-Tag:noindex
X-PUBLISHED-TTL:PT1H
BEGIN:VTIMEZONE
TZID:Europe/Helsinki
BEGIN:DAYLIGHT
TZOFFSETFROM:+0200
TZOFFSETTO:+0300
TZNAME:EEST
DTSTART:20170326T010000
END:DAYLIGHT
BEGIN:STANDARD
TZOFFSETFROM:+0300
TZOFFSETTO:+0200
TZNAME:EET
DTSTART:20171029T010000
END:STANDARD
BEGIN:DAYLIGHT
TZOFFSETFROM:+0200
TZOFFSETTO:+0300
TZNAME:EEST
DTSTART:20180325T010000
END:DAYLIGHT
BEGIN:STANDARD
TZOFFSETFROM:+0300
TZOFFSETTO:+0200
TZNAME:EET
DTSTART:20181028T010000
END:STANDARD
BEGIN:DAYLIGHT
TZOFFSETFROM:+0200
TZOFFSETTO:+0300
TZNAME:EEST
DTSTART:20190331T010000
END:DAYLIGHT
BEGIN:STANDARD
TZOFFSETFROM:+0300
TZOFFSETTO:+0200
TZNAME:EET
DTSTART:20191027T010000
END:STANDARD
END:VTIMEZONE
BEGIN:VEVENT
DTSTART;TZID=Europe/Helsinki:20181004T150000
DTEND;TZID=Europe/Helsinki:20181004T161500
DTSTAMP:20260420T095110
CREATED:20180921T073122Z
LAST-MODIFIED:20180921T073122Z
UID:713-1538665200-1538669700@blogit.gradia.fi
SUMMARY:Uudenlaiset oppimisen tavat ja mahdollisuudet- webinaarisarja
DESCRIPTION:Tavoitteet:\nWebinaarisarjan avulla tarkastellaan uutta ammatillista koulutusta ja sen ajankohtaisia ja tulevia mahdollisuuksia ja haasteita keskeisten näkökulmien kautta: Opettajuus\, organisaatio\, opiskelija ja työelämä. Webinaarisarjan avulla etsitään ja löydetään uusia näkökulmia omaan työhön ja jaetaan kokemuksia ammatillisen koulutuksen tiimoilta. \n  \nAjankohta:\nSyksy 2018 / Torstai- iltapäivät klo 15.00-16.15 \n6.9 Ammatillinen opettaja 2.0\n20.9 #amispedagogiikka\n4.10 Uusi opiskelijuus ammatillisessa koulutuksessa\n15.11 Työelämäläheisyys \n  \nKeskeiset sisällöt:\n•  Mistä muodostuu ”uusi opettajuus” ammatillisessa koulutuksessa?\n•  Millaiset pedagogiset toteutukset tukevat osaamisperusteista ammatillista koulutusta?\n•  Miten osaamisperusteisuus ja HOKS haastavat opiskelijaa\, opiskelijan rooli?\n•  Miten työelämän oppimis- ja osaamisympäristöt nivoutuvat ammatilliseen koulutukseen? \n  \nPaikka:\nAdobe Connect- verkkoympäristö (linkki lähetetään ilmoittautuneille ennen webinaaria) \n  \nToteutus:\nWebinaareihin voi osallistua sarjana tai yksittäin oman osaamistarpeen mukaisesti.\nOsallistujan on mahdollisuus saada webinaarisarjasta 3op laajuinen osallistumistodistus\, mikäli hän osallistuu kaikkiin neljään webinaariin ja niihin liittyviin pieniin välitehtäviin. Yksittäisiin webinaareihin osallistuvien ei tarvitse sitoutua välitehtävien tekoon. Webinaarit tallennetaan\, mikäli ilmoitettu ajankohta ei sovi osallistujalle. \nWebinaarit ovat osallistujille maksuttomia. \n  \nIlmoittautuminen\nIlmoittautumiset viikkoa ennen ko. webinaaria (huomaa: jokaiseen webinariin oma ilmoittautuminen): https://lomake.tamk.fi/v3/lomakkeet/26559/lomake.html \n  \nPaikka:\nAdobe Connect- verkkoympäristö (linkki lähetetään ilmoittautuneille ennen webinaaria) \n  \nLisätietoja:\nJiri Vilppola\njiri.vilppola@tamk.fi \nAnnukka Tapani\nannukka.tapani@tamk.fi \nTAMK Ammatillinen opettajankoulutus
URL:https://blogit.gradia.fi/parasta_osaamista/event/uudenlaiset-oppimisen-tavat-ja-mahdollisuudet-webinaarisarja-3/
END:VEVENT
END:VCALENDAR