BEGIN:VCALENDAR
VERSION:2.0
PRODID:-//Parasta osaamista - ECPv6.15.20//NONSGML v1.0//EN
CALSCALE:GREGORIAN
METHOD:PUBLISH
X-ORIGINAL-URL:https://blogit.gradia.fi/parasta_osaamista
X-WR-CALDESC:Tapahtumat Parasta osaamista
REFRESH-INTERVAL;VALUE=DURATION:PT1H
X-Robots-Tag:noindex
X-PUBLISHED-TTL:PT1H
BEGIN:VTIMEZONE
TZID:Europe/Helsinki
BEGIN:DAYLIGHT
TZOFFSETFROM:+0200
TZOFFSETTO:+0300
TZNAME:EEST
DTSTART:20170326T010000
END:DAYLIGHT
BEGIN:STANDARD
TZOFFSETFROM:+0300
TZOFFSETTO:+0200
TZNAME:EET
DTSTART:20171029T010000
END:STANDARD
BEGIN:DAYLIGHT
TZOFFSETFROM:+0200
TZOFFSETTO:+0300
TZNAME:EEST
DTSTART:20180325T010000
END:DAYLIGHT
BEGIN:STANDARD
TZOFFSETFROM:+0300
TZOFFSETTO:+0200
TZNAME:EET
DTSTART:20181028T010000
END:STANDARD
BEGIN:DAYLIGHT
TZOFFSETFROM:+0200
TZOFFSETTO:+0300
TZNAME:EEST
DTSTART:20190331T010000
END:DAYLIGHT
BEGIN:STANDARD
TZOFFSETFROM:+0300
TZOFFSETTO:+0200
TZNAME:EET
DTSTART:20191027T010000
END:STANDARD
END:VTIMEZONE
BEGIN:VEVENT
DTSTART;TZID=Europe/Helsinki:20181003T123000
DTEND;TZID=Europe/Helsinki:20181003T153000
DTSTAMP:20260420T112126
CREATED:20180619T091935Z
LAST-MODIFIED:20180823T114949Z
UID:449-1538569800-1538580600@blogit.gradia.fi
SUMMARY:Handledningskompetens\, Vasa
DESCRIPTION:Målsättning\nDen som deltar i utbildningen utvecklar och jämför sin egen handledningskompetens och bygger vidare på denna utgående från det nuvarande kunnandet.  Deltagaren ser handledning ur nya synvinklar och hittar nya metoder för handledning både på individ- och gruppnivå. Deltagaren reflekterar över möjligheten att använda digitala handledningsmetoder utgående från det egna arbetet.  \nTidpunkter och centralt innehåll \nInledande orienterande förhandsuppgift \n3.10 Vasa kl. 12.30-15.30 (samma program)\n• Individens handledningsprocess (beakta livssituationen\, att stöda identitets- och yrkesi-dentitetsutveckling\, hitta styrkor och utvecklingsområden) \nEget arbete \n6.11 Tammerfors (gemensam dag) kl 9.30-16\n• Handledning individuellt och i grupp (smågrupp\, grupp- och jämförande handledning\, handledningssamtal och växelverkan\, digitala handledningsmöjligheter)\n• Handledning och särskilt stöd (dialoghandledning\, behov av särskilt stöd och olika meto-der) \nAnmälan\nVasa och Tammerfors:\nhttps://wilma.yrkesakademin.fi/browsecourses?school-id=1&short-term=33432&checkout=true \nMinimiantalet deltagare är 10 personer och maxantalet är 25 personer. Anmälan senast 6.9.2018. Exakt plats i Vasa och Tammerfors meddelas efter anmälan. \nGenomförande\nDeltagaren kan delta i båda eller ett av utbildningstillfällena enligt behov. Om man deltar i allt in-klusive uppgifter kan man få ett intyg på 3 sp. \nTilläggsuppgifter\nChristel Holmlund-Norrén\nChristel.holmlund-norren@yrkesakademin.fi\, 050-5906278 \nHarriet Bystedt\nHarriet.bystedt@yrkeskademin.fi \nKim Vesterbacka\nkim.vesterbacka@yrkesakademin.fi
URL:https://blogit.gradia.fi/parasta_osaamista/event/handledningskompetens-vasa/
END:VEVENT
END:VCALENDAR