BEGIN:VCALENDAR
VERSION:2.0
PRODID:-//Parasta osaamista - ECPv6.15.20//NONSGML v1.0//EN
CALSCALE:GREGORIAN
METHOD:PUBLISH
X-WR-CALNAME:Parasta osaamista
X-ORIGINAL-URL:https://blogit.gradia.fi/parasta_osaamista
X-WR-CALDESC:Tapahtumat Parasta osaamista
REFRESH-INTERVAL;VALUE=DURATION:PT1H
X-Robots-Tag:noindex
X-PUBLISHED-TTL:PT1H
BEGIN:VTIMEZONE
TZID:Europe/Helsinki
BEGIN:DAYLIGHT
TZOFFSETFROM:+0200
TZOFFSETTO:+0300
TZNAME:EEST
DTSTART:20170326T010000
END:DAYLIGHT
BEGIN:STANDARD
TZOFFSETFROM:+0300
TZOFFSETTO:+0200
TZNAME:EET
DTSTART:20171029T010000
END:STANDARD
BEGIN:DAYLIGHT
TZOFFSETFROM:+0200
TZOFFSETTO:+0300
TZNAME:EEST
DTSTART:20180325T010000
END:DAYLIGHT
BEGIN:STANDARD
TZOFFSETFROM:+0300
TZOFFSETTO:+0200
TZNAME:EET
DTSTART:20181028T010000
END:STANDARD
BEGIN:DAYLIGHT
TZOFFSETFROM:+0200
TZOFFSETTO:+0300
TZNAME:EEST
DTSTART:20190331T010000
END:DAYLIGHT
BEGIN:STANDARD
TZOFFSETFROM:+0300
TZOFFSETTO:+0200
TZNAME:EET
DTSTART:20191027T010000
END:STANDARD
END:VTIMEZONE
BEGIN:VEVENT
DTSTART;VALUE=DATE:20180927
DTEND;VALUE=DATE:20180928
DTSTAMP:20260420T080046
CREATED:20180611T071627Z
LAST-MODIFIED:20180808T052034Z
UID:409-1538006400-1538092799@blogit.gradia.fi
SUMMARY:Ohjausosaaminen\, Tampere
DESCRIPTION:Tavoitteet:\nKoulutusprosessiin osallistuja tarkastelee ja kehittää omaa ohjausosaamistaan ja rakentaa uutta ohjausosaamista suhteessa aikaisempaan osaamiseensa. Osallistuja löytää uusia näkökulmia ja menetelmiä ohjaustyöhönsä yksilö- ja ryhmätasolla sekä pohtii digitaalisten ohjausmenetelmien hyödyntämistä omien työtehtäviensä näkökulmasta. \n  \nAjankohta ja keskeiset sisällöt: Syksy 2018 \n27.9 klo 13.00- 16.00\n– Ohjaus yksilön omana prosessina (opiskelijan elämäntilanteen huomiointi\, identiteetti ja ammatti-identiteetin tukeminen\, vahvuuksien ja kehittämisalueiden löytäminen) \n25.10 klo 13.00- 16.00\n– Ohjaus toimintana ja ryhmänäkökulma ohjaamiseen (pienryhmä\, ryhmä ja vertaisohjaus\, ohjauskeskustelu- ja vuorovaikutusosaaminen\, digitaaliset ohjausmahdollisuudet) \n29.11 klo 13.00- 16.00\n– Ohjaus ja erilaiset tuen tarpeet (dialoginen ohjaus\, erilaiset tuen tarpeet ohjaamisessa ja ohjauksen menetelmissä) \n  \nToteutus:\nIltapäiviin voi osallistua kokonaisprosessina tai yksittäin oman osaamistarpeen mukaisesti.\nOsallistujan on mahdollisuus saada koulutuksesta 3op laajuinen osallistumistodistus\, mikäli hän osallistuu kaikkiin koulutusiltapäiviin ja niihin liittyviin pieniin aihetta omaan työhön soveltaviin välitehtäviin. Yksittäisiin iltapäiviin osallistuvien ei tarvitse sitoutua välitehtävien tekoon. \nKoulutus on osallistujille maksutonta. \n  \nIlmoittautumiset viikkoa ennen ko. koulutusta (huomaa: jokaiseen osioon oma ilmoittautuminen): \nhttps://lomake.tamk.fi/v3/lomakkeet/26560/lomake.html \n  \nPaikka: TAMK\, Kuntokatu 3\, Tampere (luokkatila ilmoitetaan ilmoittautuneille lähempänä) tai Adobe Connect- verkkoympäristö (linkki lähetetään ilmoittautuneille ennen koulutusta) \n  \nLisätietoja: \nJiri Vilppola\njiri.vilppola@tamk.fi \nAnnukka Tapani\nannukka.tapani@tamk.fi \nTAMK Ammatillinen opettajankoulutus
URL:https://blogit.gradia.fi/parasta_osaamista/event/ohjausosaaminen/
LOCATION:TAMK Ammatillinen opettajankoulutus\, Kuntokatu 3\, TAMPERE\, 33520\, Suomi
END:VEVENT
BEGIN:VEVENT
DTSTART;TZID=Europe/Helsinki:20180927T090000
DTEND;TZID=Europe/Helsinki:20180927T110000
DTSTAMP:20260420T080046
CREATED:20180919T060111Z
LAST-MODIFIED:20180919T063624Z
UID:631-1538038800-1538046000@blogit.gradia.fi
SUMMARY:Uudenlaiset oppimisen tavat ja mahdollisuudet\, Pori
DESCRIPTION:Tavoitteet: \nTarkastella uutta ammatillista koulutusta ja sen ajankohtaisia ja tulevia mahdollisuuksia ja haasteita. Keskeisenä teemana on tutkintokoulutuksen erilaiset tarjotinmallit. \nAjankohta: 27.9.2018 klo 9-11 \nKeskeiset sisällöt: \n\nTutkinnon perusteet-> tuotteistaminen -> tutkintokoulutuksen järjestäminen siten\, että HOKS:ien laadinta helpottuu ja tukee opiskelijaa\nKoulutuksen uudet rakenteet\, ehdotuksia ja malleja erilaisista vaihtoehdoista\nKeskustelua mallien jatkohyödyntämisestä\n\nLataa koulutuksen tiedot pdf-muodossa \nIlmoittautumiset 21.9. mennessä: Uudenlaiset oppimisen tavat ja mahdollisuudet  \nPaikka: Tiedepuisto 3 Pori\, luokka 1254 \nToteutus:\nLähitapaaminen Porissa. Osallistuminen on maksuton. \nLisätietoja:\nsusanna.lof@haaga-helia.fi\nHaaga-Helia\, Ammatillinen opettajakorkeakoulu
URL:https://blogit.gradia.fi/parasta_osaamista/event/uudenlaiset-oppimisen-tavat-ja-mahdollisuudet-pori/
END:VEVENT
END:VCALENDAR