BEGIN:VCALENDAR
VERSION:2.0
PRODID:-//Parasta osaamista - ECPv6.15.20//NONSGML v1.0//EN
CALSCALE:GREGORIAN
METHOD:PUBLISH
X-WR-CALNAME:Parasta osaamista
X-ORIGINAL-URL:https://blogit.gradia.fi/parasta_osaamista
X-WR-CALDESC:Tapahtumat Parasta osaamista
REFRESH-INTERVAL;VALUE=DURATION:PT1H
X-Robots-Tag:noindex
X-PUBLISHED-TTL:PT1H
BEGIN:VTIMEZONE
TZID:Europe/Helsinki
BEGIN:DAYLIGHT
TZOFFSETFROM:+0200
TZOFFSETTO:+0300
TZNAME:EEST
DTSTART:20170326T010000
END:DAYLIGHT
BEGIN:STANDARD
TZOFFSETFROM:+0300
TZOFFSETTO:+0200
TZNAME:EET
DTSTART:20171029T010000
END:STANDARD
BEGIN:DAYLIGHT
TZOFFSETFROM:+0200
TZOFFSETTO:+0300
TZNAME:EEST
DTSTART:20180325T010000
END:DAYLIGHT
BEGIN:STANDARD
TZOFFSETFROM:+0300
TZOFFSETTO:+0200
TZNAME:EET
DTSTART:20181028T010000
END:STANDARD
BEGIN:DAYLIGHT
TZOFFSETFROM:+0200
TZOFFSETTO:+0300
TZNAME:EEST
DTSTART:20190331T010000
END:DAYLIGHT
BEGIN:STANDARD
TZOFFSETFROM:+0300
TZOFFSETTO:+0200
TZNAME:EET
DTSTART:20191027T010000
END:STANDARD
END:VTIMEZONE
BEGIN:VEVENT
DTSTART;TZID=Europe/Helsinki:20180924T140000
DTEND;TZID=Europe/Helsinki:20180924T160000
DTSTAMP:20260420T080010
CREATED:20180615T052347Z
LAST-MODIFIED:20180628T113028Z
UID:445-1537797600-1537804800@blogit.gradia.fi
SUMMARY:Oman työn johtaminen ja kehittäminen\, Joensuu
DESCRIPTION:Koulutuksen tavoitteet\nKoulutuksen tavoitteena on\, että osallistuja osaa johtaa omaa työtään\, toimia työyhteisön muuttuvissa tilanteissa\,\ntoimia verkostoissa sekä arvioida omia lähtökohtiaan oman työn johtamisessa. \nKeskeinen sisältö\n–  Oman työn johtaminen ja arviointi\n–  Työyhteisöosaaminen\n–  Verkosto-osaaminen \nKohderyhmä\nAmmatillisen koulutuksen opetus- ja ohjaushenkilöstö \nToteutus\nKoulutus sisältää kaksi lähitapaamista Riveriassa Joensuussa\,\,\nwebinaareja sekä välityöskentelyä. Koulutuksen laajuus on 5 opintopistettä. \nAika ja paikka\nAloituswebinaari toteutetaan 24.9.2018 klo 14.00 – 16.00.\n1. lähitapaaminen on 2.10.2018 klo 12.00 – 16.00 Joensuussa.\nOsallistujaryhmän kanssa sovitaan väliwebinaarien (kaksi) ajankohdat.\nPäätöstapaaminen on 13.11.2018 klo 12.00 – 16.00 Joensuussa. \nIlmoittautuminen\nIlmoittaudu koulutukseen 5.9.2018 mennessä osoitteessa\nhttp://bit.ly/OmantyonjohtaminenJoensuu \nLisätietoja\nMaija-Liisa Siitari\, koulutussuunnittelija\, 040 595 9180\, maija-liisa.siitari@jamk.fi \nKouluttajat:\nSeija Eskola\, lehtori\nseija.eskola@jamk.fi \nRitva Ylitervo\, lehtori\nritva.ylitervo@jamk.fi
URL:https://blogit.gradia.fi/parasta_osaamista/event/oman-tyon-johtaminen-ja-kehittaminen-joensuu/
END:VEVENT
END:VCALENDAR