BEGIN:VCALENDAR
VERSION:2.0
PRODID:-//Parasta osaamista - ECPv6.15.20//NONSGML v1.0//EN
CALSCALE:GREGORIAN
METHOD:PUBLISH
X-WR-CALNAME:Parasta osaamista
X-ORIGINAL-URL:https://blogit.gradia.fi/parasta_osaamista
X-WR-CALDESC:Tapahtumat Parasta osaamista
REFRESH-INTERVAL;VALUE=DURATION:PT1H
X-Robots-Tag:noindex
X-PUBLISHED-TTL:PT1H
BEGIN:VTIMEZONE
TZID:Europe/Helsinki
BEGIN:DAYLIGHT
TZOFFSETFROM:+0200
TZOFFSETTO:+0300
TZNAME:EEST
DTSTART:20170326T010000
END:DAYLIGHT
BEGIN:STANDARD
TZOFFSETFROM:+0300
TZOFFSETTO:+0200
TZNAME:EET
DTSTART:20171029T010000
END:STANDARD
BEGIN:DAYLIGHT
TZOFFSETFROM:+0200
TZOFFSETTO:+0300
TZNAME:EEST
DTSTART:20180325T010000
END:DAYLIGHT
BEGIN:STANDARD
TZOFFSETFROM:+0300
TZOFFSETTO:+0200
TZNAME:EET
DTSTART:20181028T010000
END:STANDARD
BEGIN:DAYLIGHT
TZOFFSETFROM:+0200
TZOFFSETTO:+0300
TZNAME:EEST
DTSTART:20190331T010000
END:DAYLIGHT
BEGIN:STANDARD
TZOFFSETFROM:+0300
TZOFFSETTO:+0200
TZNAME:EET
DTSTART:20191027T010000
END:STANDARD
END:VTIMEZONE
BEGIN:VEVENT
DTSTART;TZID=Europe/Helsinki:20180920T120000
DTEND;TZID=Europe/Helsinki:20180920T160000
DTSTAMP:20260420T080633
CREATED:20180809T101304Z
LAST-MODIFIED:20180924T081235Z
UID:508-1537444800-1537459200@blogit.gradia.fi
SUMMARY:Tulevaisuuden työtä tänään -seminaari\, Jyväskylä
DESCRIPTION:Tulevaisuuden työtä tänään\n– Ammatillinen koulutus työelämän tukena –\nAika ja paikka                       torstai 20.9.2018 klo 12 – 16\nJAMK Dynamon auditorio\, Lutakko\, Piippukatu 2\, Jyväskylä \nOhjelma \n12.00 – 12.30                        Ilmoittautuminen \n12.30 – 12.45                         Tervetuloa!\n                                                   Muuttuva työ – tulevaisuuden osaamisen haasteet ja mahdollisuudet\n                                                      Pia Tolonen\, projektipäällikkö\, Parasta osaamista -verkostohanke  \n12.45 – 13.30                        Merkityksen muutos suomalaisessa työelämässä\n                                                     Jokke Eljala\, tutkimuspäällikkö\, Suomalaisen Työn Liitto \n13.30 – 14.00                       Koulutusyhteistyö käytännön näkökulmasta: miten ja miksi? \n                                                     Hannu Paananen\, koulutuspäällikkö\, Vähälä Logistics Oy \n14.00 – 14.30                         Kahvitauko \n14.30 – 16.00                         Työpajatyöskentely\, valitse yksi työpaja ilmoittautumisen yhteydessä \n  \nTyöpaja 1: Työelämän muutokset\, ammatillinen koulutus työelämän tukena \nTyöpaja 2: Työpaikalla tapahtuvan koulutuksen ohjaaminen \nTyöpaja 3: Miten tuen erilaisia valmiuksia työssä? – Erityinen tuki työpaikalla \nTyöpaja 4: Koulutussopimus ja oppisopimus \n  \nIlmoittautuminen 13.9.2018 mennessä\, valitse yksi työpaja ilmoittautumisen yhteydessä: https://urly.fi/Znm \nVoit ilmoittautua myös sähköpostilla osoitteeseen annukka.norontaus@gradia.fi \n  \nTilaisuus on maksuton \n 
URL:https://blogit.gradia.fi/parasta_osaamista/event/tulevaisuuden-tyota-tanaan-seminaari-jyvaskyla/
LOCATION:Jyväskylän ammattikorkeakoulu\, Lutakon kampus\, Dynamo-rakennus\, Piippukatu 2\, JYVÄSKYLÄ\, 40101\, Suomi
END:VEVENT
BEGIN:VEVENT
DTSTART;TZID=Europe/Helsinki:20180920T120000
DTEND;TZID=Europe/Helsinki:20180920T160000
DTSTAMP:20260420T080633
CREATED:20180828T124733Z
LAST-MODIFIED:20180828T125221Z
UID:543-1537444800-1537459200@blogit.gradia.fi
SUMMARY:Koko työyhteisö ohjaa -työelämäfoorumi\, Joensuu
DESCRIPTION:työelämäfoorumi_kutsu+ohjelma
URL:https://blogit.gradia.fi/parasta_osaamista/event/koko-tyoyhteiso-ohjaa-tyoelamafoorumi/
END:VEVENT
BEGIN:VEVENT
DTSTART;TZID=Europe/Helsinki:20180920T150000
DTEND;TZID=Europe/Helsinki:20180920T161500
DTSTAMP:20260420T080633
CREATED:20180921T072701Z
LAST-MODIFIED:20180924T081401Z
UID:711-1537455600-1537460100@blogit.gradia.fi
SUMMARY:Uudenlaiset oppimisen tavat ja mahdollisuudet -webinaarisarja
DESCRIPTION:Tavoitteet:\nWebinaarisarjan avulla tarkastellaan uutta ammatillista koulutusta ja sen ajankohtaisia ja tulevia mahdollisuuksia ja haasteita keskeisten näkökulmien kautta: Opettajuus\, organisaatio\, opiskelija ja työelämä. Webinaarisarjan avulla etsitään ja löydetään uusia näkökulmia omaan työhön ja jaetaan kokemuksia ammatillisen koulutuksen tiimoilta. \n  \nAjankohta:\nSyksy 2018 / Torstai- iltapäivät klo 15.00-16.15 \n6.9 Ammatillinen opettaja 2.0\n20.9 #amispedagogiikka\n4.10 Uusi opiskelijuus ammatillisessa koulutuksessa\n15.11 Työelämäläheisyys \n  \nKeskeiset sisällöt:\n•  Mistä muodostuu ”uusi opettajuus” ammatillisessa koulutuksessa?\n•  Millaiset pedagogiset toteutukset tukevat osaamisperusteista ammatillista koulutusta?\n•  Miten osaamisperusteisuus ja HOKS haastavat opiskelijaa\, opiskelijan rooli?\n•  Miten työelämän oppimis- ja osaamisympäristöt nivoutuvat ammatilliseen koulutukseen? \n  \nPaikka:\nAdobe Connect- verkkoympäristö (linkki lähetetään ilmoittautuneille ennen webinaaria) \n  \nToteutus:\nWebinaareihin voi osallistua sarjana tai yksittäin oman osaamistarpeen mukaisesti.\nOsallistujan on mahdollisuus saada webinaarisarjasta 3op laajuinen osallistumistodistus\, mikäli hän osallistuu kaikkiin neljään webinaariin ja niihin liittyviin pieniin välitehtäviin. Yksittäisiin webinaareihin osallistuvien ei tarvitse sitoutua välitehtävien tekoon. Webinaarit tallennetaan\, mikäli ilmoitettu ajankohta ei sovi osallistujalle. \nWebinaarit ovat osallistujille maksuttomia. \n  \nIlmoittautuminen\nIlmoittautumiset viikkoa ennen ko. webinaaria (huomaa: jokaiseen webinariin oma ilmoittautuminen): https://lomake.tamk.fi/v3/lomakkeet/26559/lomake.html \n  \nPaikka:\nAdobe Connect- verkkoympäristö (linkki lähetetään ilmoittautuneille ennen webinaaria) \n  \nLisätietoja:\nJiri Vilppola\njiri.vilppola@tamk.fi \nAnnukka Tapani\nannukka.tapani@tamk.fi \nTAMK Ammatillinen opettajankoulutus
URL:https://blogit.gradia.fi/parasta_osaamista/event/uudenlaiset-oppimisen-tavat-ja-mahdollisuudet-webinaarisarja-2/
END:VEVENT
END:VCALENDAR