BEGIN:VCALENDAR
VERSION:2.0
PRODID:-//Parasta osaamista - ECPv6.15.20//NONSGML v1.0//EN
CALSCALE:GREGORIAN
METHOD:PUBLISH
X-ORIGINAL-URL:https://blogit.gradia.fi/parasta_osaamista
X-WR-CALDESC:Tapahtumat Parasta osaamista
REFRESH-INTERVAL;VALUE=DURATION:PT1H
X-Robots-Tag:noindex
X-PUBLISHED-TTL:PT1H
BEGIN:VTIMEZONE
TZID:Europe/Helsinki
BEGIN:DAYLIGHT
TZOFFSETFROM:+0200
TZOFFSETTO:+0300
TZNAME:EEST
DTSTART:20170326T010000
END:DAYLIGHT
BEGIN:STANDARD
TZOFFSETFROM:+0300
TZOFFSETTO:+0200
TZNAME:EET
DTSTART:20171029T010000
END:STANDARD
BEGIN:DAYLIGHT
TZOFFSETFROM:+0200
TZOFFSETTO:+0300
TZNAME:EEST
DTSTART:20180325T010000
END:DAYLIGHT
BEGIN:STANDARD
TZOFFSETFROM:+0300
TZOFFSETTO:+0200
TZNAME:EET
DTSTART:20181028T010000
END:STANDARD
BEGIN:DAYLIGHT
TZOFFSETFROM:+0200
TZOFFSETTO:+0300
TZNAME:EEST
DTSTART:20190331T010000
END:DAYLIGHT
BEGIN:STANDARD
TZOFFSETFROM:+0300
TZOFFSETTO:+0200
TZNAME:EET
DTSTART:20191027T010000
END:STANDARD
END:VTIMEZONE
BEGIN:VEVENT
DTSTART;TZID=Europe/Helsinki:20180917T143000
DTEND;TZID=Europe/Helsinki:20180917T160000
DTSTAMP:20260420T080631
CREATED:20180619T094322Z
LAST-MODIFIED:20180823T115900Z
UID:463-1537194600-1537200000@blogit.gradia.fi
SUMMARY:Handledning i den personliga utvecklingsplanen för kunnandet (PUK)
DESCRIPTION:Handledning i den personliga utvecklingsplanen för kunnandet \nMålsättning\nMålet är att deltagarna utvecklas i tänkesättet enligt personlig tillämpning och som handledare i den personliga utvecklingsplanen för kunnandet \nUtbildningens innehåll\nOrienterande inledning via nätet\nEget arbete\nUtbildningseftermiddag (½ dag) \n\npersonlig tillämpning som process\nvad betyder PUK-handledning i det dagliga arbetet?\nindividualisering\nden handleddes karriärplan\n\nPUK-handledning i det dagliga arbetet \n\nEn tillämpad del\, under vilken deltagaren handleder sina studerande i uppgörande av den personliga utvecklingsplanen för kunnandet och uppföljning av planen. Dessutom bekantar sig deltagaren med hur lärare inom en annan bransch jobbar med PUK. För det här reserveras drygt en månad och deltagaren får handledning enligt överenskommelse av utbildarna. \n\nUtbildningseftermiddag (½ dag) \n\nHur har jag utvecklats som PUK-handledare?\n\n17.9.2018 kl. 14.30-16.00 inledande orientering via nätet\n29.10.2018 kl. 12.30-16.00 utbildningseftermiddag när deltagarna träffas i Vasa\n10.12.2018 kl. 12.30-16.00 utbildningseftermiddag när deltagarna träffas i Vasa \nPlats\nYrkesakademin i Österbotten\, Vasa \nAnmälan\nhttps://wilma.yrkesakademin.fi/browsecourses?school-id=1&short-term=33429&checkout=true \nMinimiantalet deltagare är 10 personer och maxantalet är 20 personer. Anmälan senast 31.8.2018. \nTilläggsuppgifter \nChristel Holmlund-Norrén\nChristel.holmlund-norren@yrkesakademin.fi\, 050-5906278 \nHarriet Bystedt\nHarriet.bystedt@yrkeskademin.fi \nKim  Vesterbacka\nkim.vesterbacka@yrkesakademin.fi
URL:https://blogit.gradia.fi/parasta_osaamista/event/463/
LOCATION:Yrkesakademin i Österbotten\, Kuninkaankartanontie 30 A\, Vaasa\, 65380\, Suomi
END:VEVENT
END:VCALENDAR