BEGIN:VCALENDAR
VERSION:2.0
PRODID:-//Parasta osaamista - ECPv6.15.20//NONSGML v1.0//EN
CALSCALE:GREGORIAN
METHOD:PUBLISH
X-ORIGINAL-URL:https://blogit.gradia.fi/parasta_osaamista
X-WR-CALDESC:Tapahtumat Parasta osaamista
REFRESH-INTERVAL;VALUE=DURATION:PT1H
X-Robots-Tag:noindex
X-PUBLISHED-TTL:PT1H
BEGIN:VTIMEZONE
TZID:Europe/Helsinki
BEGIN:DAYLIGHT
TZOFFSETFROM:+0200
TZOFFSETTO:+0300
TZNAME:EEST
DTSTART:20170326T010000
END:DAYLIGHT
BEGIN:STANDARD
TZOFFSETFROM:+0300
TZOFFSETTO:+0200
TZNAME:EET
DTSTART:20171029T010000
END:STANDARD
BEGIN:DAYLIGHT
TZOFFSETFROM:+0200
TZOFFSETTO:+0300
TZNAME:EEST
DTSTART:20180325T010000
END:DAYLIGHT
BEGIN:STANDARD
TZOFFSETFROM:+0300
TZOFFSETTO:+0200
TZNAME:EET
DTSTART:20181028T010000
END:STANDARD
BEGIN:DAYLIGHT
TZOFFSETFROM:+0200
TZOFFSETTO:+0300
TZNAME:EEST
DTSTART:20190331T010000
END:DAYLIGHT
BEGIN:STANDARD
TZOFFSETFROM:+0300
TZOFFSETTO:+0200
TZNAME:EET
DTSTART:20191027T010000
END:STANDARD
END:VTIMEZONE
BEGIN:VEVENT
DTSTART;TZID=Europe/Helsinki:20180906T123000
DTEND;TZID=Europe/Helsinki:20180906T160000
DTSTAMP:20260420T091002
CREATED:20180619T095443Z
LAST-MODIFIED:20180823T115333Z
UID:467-1536237000-1536249600@blogit.gradia.fi
SUMMARY:Kvalitet i bedömning av kunnandet
DESCRIPTION:Handledning i den personliga utvecklingsplanen för kunnandet \nMålsättning\nMålet är att säkerställa kvaliteten på bedömning av kunnande i olika examina. Målet är också att implementera utbildningsanordnarens examensvisa plan för bedömning. \nUtbildningens innehåll\nUtbildningen består av en förhandsuppgift och ½-dags online-utbildning. Under online-utbildningen bekantar vi oss med bedömning ur olika aspekter; som representant för arbetslivet\, lärare och studerande. Som en del av utbildningen ingår att deltagaren tillsammans med utbildningsanordnaren uppdaterar och vidareutvecklar planen för bedömning utgående från samlade erfarenheter.    \nTidtabell\nUtbildningseftermiddagen hålls online den 6.9.2018 kl. 12.30-16. Deltagaren får en förhandsuppgift 1\,5 veckor före utbildningsdagen.  \nPlats\nOnline. Rekommenderar att deltagarna samlas enhetsvis hos olika utbildningsanordnare.  Varje deltagare anmäler sig ändå separat. \nAnmälan\nhttps://wilma.yrkesakademin.fi/browsecourses?school-id=1&short-term=33428&checkout=true \nMinimiantalet deltagare är 10 personer och maxantalet är 20 personer. Anmälan senast 23.8.2018. \nTilläggsuppgifter \nChristel Holmlund-Norrén\nChristel.holmlund-norren@yrkesakademin.fi\, 050-5906278 \nHarriet Bystedt\nHarriet.bystedt@yrkeskademin.fi \nKim Vesterbacka\nkim.vesterbacka@yrkesakademin.fi
URL:https://blogit.gradia.fi/parasta_osaamista/event/kvalitet-i-bedomning-av-kunnandet/
END:VEVENT
BEGIN:VEVENT
DTSTART;TZID=Europe/Helsinki:20180906T150000
DTEND;TZID=Europe/Helsinki:20180906T161500
DTSTAMP:20260420T091002
CREATED:20180611T075229Z
LAST-MODIFIED:20180830T122922Z
UID:423-1536246000-1536250500@blogit.gradia.fi
SUMMARY:Uudenlaiset oppimisen tavat ja mahdollisuudet- webinaarisarja
DESCRIPTION:Tavoitteet:\nWebinaarisarjan avulla tarkastellaan uutta ammatillista koulutusta ja sen ajankohtaisia ja tulevia mahdollisuuksia ja haasteita keskeisten näkökulmien kautta: Opettajuus\, organisaatio\, opiskelija ja työelämä. Webinaarisarjan avulla etsitään ja löydetään uusia näkökulmia omaan työhön ja jaetaan kokemuksia ammatillisen koulutuksen tiimoilta. \n  \nAjankohta:\nSyksy 2018 / Torstai- iltapäivät klo 15.00-16.15 \n6.9 Ammatillinen opettaja 2.0\n20.9 #amispedagogiikka\n4.10 Uusi opiskelijuus ammatillisessa koulutuksessa\n15.11 Työelämäläheisyys \n  \nKeskeiset sisällöt:\n•  Mistä muodostuu ”uusi opettajuus” ammatillisessa koulutuksessa?\n•  Millaiset pedagogiset toteutukset tukevat osaamisperusteista ammatillista koulutusta?\n•  Miten osaamisperusteisuus ja HOKS haastavat opiskelijaa\, opiskelijan rooli?\n•  Miten työelämän oppimis- ja osaamisympäristöt nivoutuvat ammatilliseen koulutukseen? \n  \nPaikka:\nAdobe Connect- verkkoympäristö (linkki lähetetään ilmoittautuneille ennen webinaaria) \n  \nToteutus:\nWebinaareihin voi osallistua sarjana tai yksittäin oman osaamistarpeen mukaisesti.\nOsallistujan on mahdollisuus saada webinaarisarjasta 3op laajuinen osallistumistodistus\, mikäli hän osallistuu kaikkiin neljään webinaariin ja niihin liittyviin pieniin välitehtäviin. Yksittäisiin webinaareihin osallistuvien ei tarvitse sitoutua välitehtävien tekoon. Webinaarit tallennetaan\, mikäli ilmoitettu ajankohta ei sovi osallistujalle. \nWebinaarit ovat osallistujille maksuttomia. \n  \nIlmoittautuminen\nIlmoittautumiset viikkoa ennen ko. webinaaria (huomaa: jokaiseen webinariin oma ilmoittautuminen): https://lomake.tamk.fi/v3/lomakkeet/26559/lomake.html \n  \nPaikka:\nAdobe Connect- verkkoympäristö (linkki lähetetään ilmoittautuneille ennen webinaaria) \n  \nLisätietoja:\nJiri Vilppola\njiri.vilppola@tamk.fi \nAnnukka Tapani\nannukka.tapani@tamk.fi \nTAMK Ammatillinen opettajankoulutus
URL:https://blogit.gradia.fi/parasta_osaamista/event/uudenlaiset-oppimisen-tavat-ja-mahdollisuudet-webinaarisarja/
END:VEVENT
END:VCALENDAR