BEGIN:VCALENDAR
VERSION:2.0
PRODID:-//Parasta osaamista - ECPv6.15.20//NONSGML v1.0//EN
CALSCALE:GREGORIAN
METHOD:PUBLISH
X-WR-CALNAME:Parasta osaamista
X-ORIGINAL-URL:https://blogit.gradia.fi/parasta_osaamista
X-WR-CALDESC:Tapahtumat Parasta osaamista
REFRESH-INTERVAL;VALUE=DURATION:PT1H
X-Robots-Tag:noindex
X-PUBLISHED-TTL:PT1H
BEGIN:VTIMEZONE
TZID:Europe/Helsinki
BEGIN:DAYLIGHT
TZOFFSETFROM:+0200
TZOFFSETTO:+0300
TZNAME:EEST
DTSTART:20170326T010000
END:DAYLIGHT
BEGIN:STANDARD
TZOFFSETFROM:+0300
TZOFFSETTO:+0200
TZNAME:EET
DTSTART:20171029T010000
END:STANDARD
BEGIN:DAYLIGHT
TZOFFSETFROM:+0200
TZOFFSETTO:+0300
TZNAME:EEST
DTSTART:20180325T010000
END:DAYLIGHT
BEGIN:STANDARD
TZOFFSETFROM:+0300
TZOFFSETTO:+0200
TZNAME:EET
DTSTART:20181028T010000
END:STANDARD
BEGIN:DAYLIGHT
TZOFFSETFROM:+0200
TZOFFSETTO:+0300
TZNAME:EEST
DTSTART:20190331T010000
END:DAYLIGHT
BEGIN:STANDARD
TZOFFSETFROM:+0300
TZOFFSETTO:+0200
TZNAME:EET
DTSTART:20191027T010000
END:STANDARD
END:VTIMEZONE
BEGIN:VEVENT
DTSTART;TZID=Europe/Helsinki:20180604T080000
DTEND;TZID=Europe/Helsinki:20180604T111500
DTSTAMP:20260420T131942
CREATED:20180521T070257Z
LAST-MODIFIED:20180521T070257Z
UID:359-1528099200-1528110900@blogit.gradia.fi
SUMMARY:ReformiTournee
DESCRIPTION:Hei Parasta osaamista yhteistyökumppanimme!\nToteutamme Sedun eri opetuspisteissä kevään aikana ns. ReformiTournee – koulutuskierroksen\, jonka pääteemoina ovat Henkilökohtaistaminen ja HOKS sekä osaamisen arviointi (syksyn teemoina työelämäyhteistyö\, koulutussopimus ja oppisopimus). \nTervetuloa mukaan oman organisaatiosi edustajana (1 – 2hlöä/per oppilaitos). Ilmoitathan tulostasi Marja-Terttu Kurunsaarelle (marja-terttu.kurunsaari@sedu.fi) \nKiertue on malli\, jolla jalkautetaan OAMKin alkuvuodesta toteuttamia koulutuskokeiluita vastaavista teemoista. Kiertue sisältää työpajatyöskentelyä\, joissa samalla pilotoimme ns. luotsiopettajamallia heidän toimiessaan pajojen suunnittelijoina\, vetäjinä ja asiantuntijoina. \n4.6. klo 8.00 – 11.15 Sedu Seinäjoki\, Koulukatu 41
URL:https://blogit.gradia.fi/parasta_osaamista/event/reformitournee-2/
END:VEVENT
BEGIN:VEVENT
DTSTART;TZID=Europe/Helsinki:20180604T093000
DTEND;TZID=Europe/Helsinki:20180604T113000
DTSTAMP:20260420T131942
CREATED:20180507T112319Z
LAST-MODIFIED:20180507T115425Z
UID:315-1528104600-1528111800@blogit.gradia.fi
SUMMARY:Uraohjaus -työpaja
DESCRIPTION:Paikka: Salpaus\, Asikkala \nKouluttaja: Ismo Turve\, HAMK Ammatillinen opettajakorkeakoulu \nIlmoittautuminen viimeistään 25.5.2018 \nhttps://goo.gl/forms/MU1azKdBzW6HbDKL2
URL:https://blogit.gradia.fi/parasta_osaamista/event/uraohjaustyopaja/
END:VEVENT
BEGIN:VEVENT
DTSTART;TZID=Europe/Helsinki:20180604T121500
DTEND;TZID=Europe/Helsinki:20180604T160000
DTSTAMP:20260420T131942
CREATED:20180521T070423Z
LAST-MODIFIED:20180521T070423Z
UID:361-1528114500-1528128000@blogit.gradia.fi
SUMMARY:ReformiTournee
DESCRIPTION:Hei Parasta osaamista yhteistyökumppanimme! \nToteutamme Sedun eri opetuspisteissä kevään aikana ns. ReformiTournee – koulutuskierroksen\, jonka pääteemoina ovat Henkilökohtaistaminen ja HOKS sekä osaamisen arviointi (syksyn teemoina työelämäyhteistyö\, koulutussopimus ja oppisopimus). \nTervetuloa mukaan oman organisaatiosi edustajana (1 – 2hlöä/per oppilaitos). Ilmoitathan tulostasi Marja-Terttu Kurunsaarelle (marja-terttu.kurunsaari@sedu.fi) \nKiertue on malli\, jolla jalkautetaan OAMKin alkuvuodesta toteuttamia koulutuskokeiluita vastaavista teemoista. Kiertue sisältää työpajatyöskentelyä\, joissa samalla pilotoimme ns. luotsiopettajamallia heidän toimiessaan pajojen suunnittelijoina\, vetäjinä ja asiantuntijoina. \n  \nPaikka: Sedu Lapua\, Ammattikoulunkatu
URL:https://blogit.gradia.fi/parasta_osaamista/event/reformitournee-3/
END:VEVENT
BEGIN:VEVENT
DTSTART;TZID=Europe/Helsinki:20180604T123000
DTEND;TZID=Europe/Helsinki:20180604T143000
DTSTAMP:20260420T131942
CREATED:20180507T112451Z
LAST-MODIFIED:20180507T115456Z
UID:317-1528115400-1528122600@blogit.gradia.fi
SUMMARY:Työelämäyhteistyö/ -verkostot työpaja
DESCRIPTION:Paikka: Salpaus\, Asikkala \nKouluttaja: Ismo Turve\, HAMK Ammatillinen opettajakorkeakoulu \nIlmoittautuminen viimeistään 25.5.2018 \nhttps://goo.gl/forms/MU1azKdBzW6HbDKL2
URL:https://blogit.gradia.fi/parasta_osaamista/event/tyoelamayhteistyo-verkostot/
END:VEVENT
END:VCALENDAR