BEGIN:VCALENDAR
VERSION:2.0
PRODID:-//Parasta osaamista - ECPv6.15.20//NONSGML v1.0//EN
CALSCALE:GREGORIAN
METHOD:PUBLISH
X-WR-CALNAME:Parasta osaamista
X-ORIGINAL-URL:https://blogit.gradia.fi/parasta_osaamista
X-WR-CALDESC:Tapahtumat Parasta osaamista
REFRESH-INTERVAL;VALUE=DURATION:PT1H
X-Robots-Tag:noindex
X-PUBLISHED-TTL:PT1H
BEGIN:VTIMEZONE
TZID:Europe/Helsinki
BEGIN:DAYLIGHT
TZOFFSETFROM:+0200
TZOFFSETTO:+0300
TZNAME:EEST
DTSTART:20170326T010000
END:DAYLIGHT
BEGIN:STANDARD
TZOFFSETFROM:+0300
TZOFFSETTO:+0200
TZNAME:EET
DTSTART:20171029T010000
END:STANDARD
BEGIN:DAYLIGHT
TZOFFSETFROM:+0200
TZOFFSETTO:+0300
TZNAME:EEST
DTSTART:20180325T010000
END:DAYLIGHT
BEGIN:STANDARD
TZOFFSETFROM:+0300
TZOFFSETTO:+0200
TZNAME:EET
DTSTART:20181028T010000
END:STANDARD
BEGIN:DAYLIGHT
TZOFFSETFROM:+0200
TZOFFSETTO:+0300
TZNAME:EEST
DTSTART:20190331T010000
END:DAYLIGHT
BEGIN:STANDARD
TZOFFSETFROM:+0300
TZOFFSETTO:+0200
TZNAME:EET
DTSTART:20191027T010000
END:STANDARD
END:VTIMEZONE
BEGIN:VEVENT
DTSTART;TZID=Europe/Helsinki:20180525T120000
DTEND;TZID=Europe/Helsinki:20180525T160000
DTSTAMP:20260421T013542
CREATED:20180521T070128Z
LAST-MODIFIED:20180521T070128Z
UID:356-1527249600-1527264000@blogit.gradia.fi
SUMMARY:ReformiTournee
DESCRIPTION:Hei Parasta osaamista yhteistyökumppanimme! \nToteutamme Sedun eri opetuspisteissä kevään aikana ns. ReformiTournee – koulutuskierroksen\, jonka pääteemoina ovat Henkilökohtaistaminen ja HOKS sekä osaamisen arviointi (syksyn teemoina työelämäyhteistyö\, koulutussopimus ja oppisopimus). \nTervetuloa mukaan oman organisaatiosi edustajana (1 – 2hlöä/per oppilaitos). Ilmoitathan tulostasi Marja-Terttu Kurunsaarelle (marja-terttu.kurunsaari@sedu.fi) \nKiertue on malli\, jolla jalkautetaan OAMKin alkuvuodesta toteuttamia koulutuskokeiluita vastaavista teemoista. Kiertue sisältää työpajatyöskentelyä\, joissa samalla pilotoimme ns. luotsiopettajamallia heidän toimiessaan pajojen suunnittelijoina\, vetäjinä ja asiantuntijoina. \nPaikka: Sedu Seinäjoki\, Törnäväntie 24 \n  \n 
URL:https://blogit.gradia.fi/parasta_osaamista/event/reformitournee/
END:VEVENT
END:VCALENDAR